PDS_VERSION_ID = PDS3
/* FILE DATA ELEMENTS */
RECORD_TYPE = STREAM
/* POINTERS TO DATA OBJECTS */
^COMPRESSED_FILE = "H7461_0000_GR3.JP2"
/* IDENTIFICATION DATA ELEMENTS */
DATA_SET_ID = "MEX-M-HRSC-5-REFDR-MAPPROJECTED-V3.0"
DATA_SET_NAME = "MARS EXPRESS HRSC MAP PROJECTED REFDR V3.0"
DETECTOR_ID = MEX_HRSC_GREEN
EVENT_TYPE = "MARS-REGIONAL-MAPPING-Im-Fl-La"
INSTRUMENT_HOST_ID = MEX
INSTRUMENT_HOST_NAME = "MARS EXPRESS"
INSTRUMENT_ID = HRSC
INSTRUMENT_NAME = "HIGH RESOLUTION STEREO CAMERA"
MISSION_NAME = "MARS EXPRESS"
MISSION_PHASE_NAME = ME_Phase_18
PROCESSING_LEVEL_ID = 3
PRODUCT_CREATION_TIME = 2016-07-01T01:18:39.000Z
PRODUCT_ID = "H7461_0000_GR3.JP2"
RELEASE_ID = 0082
REVISION_ID = 0000
/* QUALITY DATA ELEMENTS */
DATA_QUALITY_ID = 1
DATA_QUALITY_DESC = "Data calculated based on original SPICE kernels"
/* TIME DATA ELEMENTS */
SPACECRAFT_CLOCK_START_COUNT = "1/0204718289.07277"
SPACECRAFT_CLOCK_STOP_COUNT = "1/0204718748.63904"
START_TIME = 2009-10-27T10:12:02.398Z
STOP_TIME = 2009-10-27T10:17:38.621Z
/* ORBITAL DATA ELEMENTS */
ASCENDING_NODE_LONGITUDE = 75.03
MAXIMUM_RESOLUTION = 66.8
FOOTPRINT_POINT_LATITUDE = (33.1856,33.1783,33.1701,33.1523, 32.4747,32.1299,31.7832,31.4371,31.0913 ,30.739,30.3856,29.8559,29.3156,28.9561 ,28.596,28.2271,27.8579,27.4916,26.9307 ,26.5568,25.986,25.6041,25.0239,24.6374 ,24.046,23.6509,23.2486,22.8476,22.4398 ,22.0319,21.6185,20.9936,20.5724, 20.1474,19.7201,19.2866,18.8514,18.4109 ,17.9665,17.5196,17.0665,16.6098, 16.1492,15.6842,15.2135,14.7388,14.2596 ,13.7753,13.2868,12.9798,12.977,12.9689 ,12.9599,13.206,13.6974,14.1834,14.6649 ,15.1419,15.6148,16.0801,16.7741, 17.2296,17.6823,18.1303,18.5733,19.0141 ,19.4485,20.0953,20.5225,20.9449, 21.5717,21.9876,22.3962,22.8056,23.2075 ,23.8091,24.2046,24.6005,24.989,25.572, 26.1451,26.5272,26.9016,27.2766,27.6496 ,28.0175,28.3862,28.7527,29.1134, 29.4745,29.8358,30.1894,30.7206,31.0747 ,31.4211,31.7677,32.1153,32.4619, 32.8011,33.1856)
FOOTPRINT_POINT_LONGITUDE = (13.1818,12.5342,12.0256,11.565,11.5732 ,11.5773,11.5807,11.5839,11.5867, 11.5894,11.5922,11.5943,11.5946,11.5978 ,11.5991,11.5966,11.5911,11.5939, 11.5959,11.5942,11.5908,11.5854,11.5818 ,11.5814,11.5749,11.5692,11.5631, 11.5578,11.5514,11.5446,11.5393,11.5272 ,11.5191,11.5106,11.5015,11.4916, 11.4815,11.4707,11.4593,11.4474,11.4349 ,11.4223,11.4082,11.3941,11.3793, 11.3642,11.348,11.33,11.3139,11.493, 12.0151,12.7248,13.3679,13.6079,13.6025 ,13.5974,13.5922,13.587,13.5819,13.5781 ,13.5685,13.5634,13.5578,13.5524,13.547 ,13.5416,13.537,13.5279,13.5221,13.5164 ,13.5082,13.5026,13.4971,13.4916, 13.4859,13.4772,13.4713,13.4651,13.4591 ,13.4496,13.4399,13.4332,13.4272, 13.4214,13.4151,13.4085,13.4016,13.3944 ,13.3878,13.3811,13.3738,13.3667, 13.3561,13.3487,13.3412,13.3341,13.326, 13.3181,13.3103,13.1818)
ORBIT_NUMBER = 7461
ORBITAL_ECCENTRICITY = 0.57
ORBITAL_INCLINATION = 86.82
ORBITAL_SEMIMAJOR_AXIS = 8718.16
PERIAPSIS_ALTITUDE = 361.35
PERIAPSIS_ARGUMENT_ANGLE = 129.54
PERIAPSIS_TIME = 2009-10-27T10:07:40.000Z
SPACECRAFT_ORIENTATION = (0.0,-1.0,0.0)
^MEX_ORIENTATION_DESC = "MEX_ORIENTATION_DESC.TXT"
SPACECRAFT_POINTING_MODE = ACROSSTRACK
^MEX_POINTING_DESC = "MEX_POINTING_DESC.TXT"
RIGHT_ASCENSION = -1e+32
DECLINATION = -1e+32
OFFSET_ANGLE = -0.3
SPACECRAFT_SOLAR_DISTANCE = 2.33169e+08
TARGET_NAME = MARS
/* CAMERA DATA ELEMENTS */
DETECTOR_TEMPERATURE = 18.3705
FOCAL_PLANE_TEMPERATURE = 7.7677
INST_CMPRS_NAME = "DISCRETE COSINE TRANSFORMATION (DCT)"
INST_CMPRS_RATIO = 16.2462
INST_CMPRS_QUALITY = 0
INST_CMPRS_QUANTZ_TBL_ID = 0
INSTRUMENT_TEMPERATURE = 11.0301
LENS_TEMPERATURE = 7.9716
MACROPIXEL_SIZE = 4
MISSING_FRAMES = 0
PIXEL_SUBSAMPLING_FLAG = N
SIGNAL_CHAIN_ID = 2
/* RADIOMETRIC DATA ELEMENTS */
BANDWIDTH = 88.0
CENTER_FILTER_WAVELENGTH = 538.0
RADIANCE_OFFSET = 1.89726
RADIANCE_SCALING_FACTOR = 0.00580502
REFLECTANCE_SCALING_FACTOR = 0.000271728
MEX:REFLECTANCE_OFFSET = 0.0888091
/* IMAGE OBJECT DEFINITIONS */
OBJECT = IMAGE
  INTERCHANGE_FORMAT = BINARY
  LINES = 23964
  LINE_SAMPLES = 2823
  SAMPLE_TYPE = UNSIGNED_INTEGER
  SAMPLE_BITS = 8
  BANDS = 1
  BAND_STORAGE_TYPE = BAND_SEQUENTIAL
  MAXIMUM = 255
  MEAN = 133.604
  MINIMUM = 1
  STANDARD_DEVIATION = 24.5927
END_OBJECT = IMAGE
/* MAP OBJECT DEFINITIONS */
OBJECT = IMAGE_MAP_PROJECTION
  ^DATA_SET_MAP_PROJECTION_CATALOG= "DSMAP.CAT"
  A_AXIS_RADIUS = 3396.0
  B_AXIS_RADIUS = 3396.0
  C_AXIS_RADIUS = 3396.0
  CENTER_LATITUDE = 0.0
  CENTER_LONGITUDE = 13.0
  COORDINATE_SYSTEM_NAME = PLANETOGRAPHIC
  COORDINATE_SYSTEM_TYPE = "BODY-FIXED ROTATING"
  EASTERNMOST_LONGITUDE = 13.6079
  FIRST_STANDARD_PARALLEL = "N/A"
  LINE_FIRST_PIXEL = 1
  LINE_LAST_PIXEL = 23964
  LINE_PROJECTION_OFFSET = 39330.125
  MAP_PROJECTION_ROTATION = 0.0
  MAP_PROJECTION_TYPE = SINUSOIDAL
  MAP_RESOLUTION = 1185.42760773333
  MAP_SCALE = 0.05
  MAXIMUM_LATITUDE = 33.1856
  MINIMUM_LATITUDE = 12.9599
  POSITIVE_LONGITUDE_DIRECTION = EAST
  REFERENCE_LATITUDE = "N/A"
  REFERENCE_LONGITUDE = "N/A"
  SAMPLE_FIRST_PIXEL = 1
  SAMPLE_LAST_PIXEL = 2823
  SAMPLE_PROJECTION_OFFSET = 2058.875
  SECOND_STANDARD_PARALLEL = "N/A"
  WESTERNMOST_LONGITUDE = 11.3139
END_OBJECT = IMAGE_MAP_PROJECTION
/* The JPEG2000 image data file associated with this label. */
OBJECT = COMPRESSED_FILE
  FILE_NAME = "H7461_0000_GR3.JP2"
  RECORD_TYPE = UNDEFINED
  FILE_RECORDS = UNK
  ENCODING_TYPE = "JP2"
  INTERCHANGE_FORMAT = BINARY
  UNCOMPRESSED_FILE_NAME = "H7461_0000_GR3.IMG"
  REQUIRED_STORAGE_BYTES = "67672956"
  ^DESCRIPTION = "JP2INFO.TXT"
END_OBJECT = COMPRESSED_FILE
END
