PDS_VERSION_ID = PDS3
/* FILE DATA ELEMENTS */
RECORD_TYPE = STREAM
/* POINTERS TO DATA OBJECTS */
^COMPRESSED_FILE = "H7462_0000_P13.JP2"
/* IDENTIFICATION DATA ELEMENTS */
DATA_SET_ID = "MEX-M-HRSC-5-REFDR-MAPPROJECTED-V3.0"
DATA_SET_NAME = "MARS EXPRESS HRSC MAP PROJECTED REFDR V3.0"
DETECTOR_ID = MEX_HRSC_P1
EVENT_TYPE = "MARS-REGIONAL-MAPPING-Vo-Te"
INSTRUMENT_HOST_ID = MEX
INSTRUMENT_HOST_NAME = "MARS EXPRESS"
INSTRUMENT_ID = HRSC
INSTRUMENT_NAME = "HIGH RESOLUTION STEREO CAMERA"
MISSION_NAME = "MARS EXPRESS"
MISSION_PHASE_NAME = ME_Phase_18
PROCESSING_LEVEL_ID = 3
PRODUCT_CREATION_TIME = 2016-07-01T01:18:39.000Z
PRODUCT_ID = "H7462_0000_P13.JP2"
RELEASE_ID = 0082
REVISION_ID = 0000
/* QUALITY DATA ELEMENTS */
DATA_QUALITY_ID = 1
DATA_QUALITY_DESC = "Data calculated based on original SPICE kernels"
/* TIME DATA ELEMENTS */
SPACECRAFT_CLOCK_START_COUNT = "1/0204743208.08235"
SPACECRAFT_CLOCK_STOP_COUNT = "1/0204743515.38143"
START_TIME = 2009-10-27T17:07:04.364Z
STOP_TIME = 2009-10-27T17:10:07.228Z
/* ORBITAL DATA ELEMENTS */
ASCENDING_NODE_LONGITUDE = 75.01
MAXIMUM_RESOLUTION = 36.8
FOOTPRINT_POINT_LATITUDE = (27.6075,27.6064,27.6037,27.6011, 27.4846,27.1695,26.7489,26.3288,26.114, 25.8994,25.6849,25.4705,25.1469,24.9281 ,24.709,24.4907,24.2719,24.0489,23.826, 23.6032,23.3807,23.0417,22.8148,22.588, 22.2455,22.0143,21.7835,21.5528,21.3183 ,21.0831,20.8482,20.493,20.2537,19.8952 ,19.6565,19.418,19.1796,18.9416,18.7038 ,18.4663,18.229,17.9922,17.7552,17.5187 ,17.2826,17.0468,16.6933,16.4583, 16.2237,16.2115,16.2099,16.2078,16.2051 ,16.2024,16.1974,16.1936,16.429,16.6648 ,16.9008,17.1373,17.3739,17.6105, 17.8475,18.0849,18.3226,18.5602,18.7981 ,19.0362,19.2749,19.5139,19.7532, 20.1126,20.3525,20.7112,20.947,21.1777, 21.4117,21.7615,21.9976,22.2315,22.4616 ,22.6881,22.9157,23.1433,23.3695, 23.7041,23.9273,24.1508,24.482,24.8104, 25.0295,25.3569,25.5715,25.7863,26.0013 ,26.2164,26.64,27.1666,27.4824,27.6075)
FOOTPRINT_POINT_LONGITUDE = (272.485,272.009,271.618,271.363, 271.096,271.095,271.092,271.089,271.087 ,271.085,271.083,271.081,271.078, 271.075,271.073,271.07,271.067,271.065, 271.062,271.058,271.055,271.05,271.047, 271.043,271.037,271.033,271.029,271.025 ,271.02,271.016,271.011,271.003,270.998 ,270.99,270.985,270.979,270.973,270.968 ,270.962,270.955,270.949,270.943, 270.936,270.93,270.923,270.916,270.906, 270.899,270.892,271.275,271.618,271.881 ,272.143,272.365,272.709,272.979, 272.977,272.976,272.974,272.972,272.97, 272.968,272.966,272.964,272.962,272.96, 272.958,272.956,272.954,272.952,272.95, 272.946,272.944,272.941,272.938,272.939 ,272.937,272.933,272.929,272.926, 272.923,272.921,272.919,272.917,272.914 ,272.911,272.909,272.906,272.902, 272.899,272.896,272.893,272.89,272.888, 272.885,272.882,272.877,272.87,272.866, 272.485)
ORBIT_NUMBER = 7462
ORBITAL_ECCENTRICITY = 0.571
ORBITAL_INCLINATION = 86.82
ORBITAL_SEMIMAJOR_AXIS = 8721.14
PERIAPSIS_ALTITUDE = 360.93
PERIAPSIS_ARGUMENT_ANGLE = 129.38
PERIAPSIS_TIME = 2009-10-27T17:01:30.000Z
SPACECRAFT_ORIENTATION = (0.0,-1.0,0.0)
^MEX_ORIENTATION_DESC = "MEX_ORIENTATION_DESC.TXT"
SPACECRAFT_POINTING_MODE = NADIR
^MEX_POINTING_DESC = "MEX_POINTING_DESC.TXT"
RIGHT_ASCENSION = -1e+32
DECLINATION = -1e+32
OFFSET_ANGLE = -1e+32
SPACECRAFT_SOLAR_DISTANCE = 2.33222e+08
TARGET_NAME = MARS
/* CAMERA DATA ELEMENTS */
DETECTOR_TEMPERATURE = 17.351
FOCAL_PLANE_TEMPERATURE = 8.1755
INST_CMPRS_NAME = "DISCRETE COSINE TRANSFORMATION (DCT)"
INST_CMPRS_RATIO = 12.7738
INST_CMPRS_QUALITY = 0
INST_CMPRS_QUANTZ_TBL_ID = 0
INSTRUMENT_TEMPERATURE = 11.0301
LENS_TEMPERATURE = 8.5833
MACROPIXEL_SIZE = 2
MISSING_FRAMES = 0
PIXEL_SUBSAMPLING_FLAG = N
SIGNAL_CHAIN_ID = 3
/* RADIOMETRIC DATA ELEMENTS */
BANDWIDTH = 174.0
CENTER_FILTER_WAVELENGTH = 675.0
RADIANCE_OFFSET = 5.98096
RADIANCE_SCALING_FACTOR = 0.024613
REFLECTANCE_SCALING_FACTOR = 0.000720097
MEX:REFLECTANCE_OFFSET = 0.174983
/* IMAGE OBJECT DEFINITIONS */
OBJECT = IMAGE
  INTERCHANGE_FORMAT = BINARY
  LINES = 27003
  LINE_SAMPLES = 5181
  SAMPLE_TYPE = UNSIGNED_INTEGER
  SAMPLE_BITS = 8
  BANDS = 1
  BAND_STORAGE_TYPE = BAND_SEQUENTIAL
  MAXIMUM = 255
  MEAN = 157.077
  MINIMUM = 1
  STANDARD_DEVIATION = 21.8947
END_OBJECT = IMAGE
/* MAP OBJECT DEFINITIONS */
OBJECT = IMAGE_MAP_PROJECTION
  ^DATA_SET_MAP_PROJECTION_CATALOG= "DSMAP.CAT"
  A_AXIS_RADIUS = 3396.0
  B_AXIS_RADIUS = 3396.0
  C_AXIS_RADIUS = 3396.0
  CENTER_LATITUDE = 0.0
  CENTER_LONGITUDE = 272.0
  COORDINATE_SYSTEM_NAME = PLANETOGRAPHIC
  COORDINATE_SYSTEM_TYPE = "BODY-FIXED ROTATING"
  EASTERNMOST_LONGITUDE = 272.979
  FIRST_STANDARD_PARALLEL = "N/A"
  LINE_FIRST_PIXEL = 1
  LINE_LAST_PIXEL = 27003
  LINE_PROJECTION_OFFSET = 65385.75
  MAP_PROJECTION_ROTATION = 0.0
  MAP_PROJECTION_TYPE = SINUSOIDAL
  MAP_RESOLUTION = 2370.85521546667
  MAP_SCALE = 0.025
  MAXIMUM_LATITUDE = 27.6075
  MINIMUM_LATITUDE = 16.1936
  POSITIVE_LONGITUDE_DIRECTION = EAST
  REFERENCE_LATITUDE = "N/A"
  REFERENCE_LONGITUDE = "N/A"
  SAMPLE_FIRST_PIXEL = 1
  SAMPLE_LAST_PIXEL = 5181
  SAMPLE_PROJECTION_OFFSET = 2741.25
  SECOND_STANDARD_PARALLEL = "N/A"
  WESTERNMOST_LONGITUDE = 270.892
END_OBJECT = IMAGE_MAP_PROJECTION
/* The JPEG2000 image data file associated with this label. */
OBJECT = COMPRESSED_FILE
  FILE_NAME = "H7462_0000_P13.JP2"
  RECORD_TYPE = UNDEFINED
  FILE_RECORDS = UNK
  ENCODING_TYPE = "JP2"
  INTERCHANGE_FORMAT = BINARY
  UNCOMPRESSED_FILE_NAME = "H7462_0000_P13.IMG"
  REQUIRED_STORAGE_BYTES = "139928448"
  ^DESCRIPTION = "JP2INFO.TXT"
END_OBJECT = COMPRESSED_FILE
END
