PDS_VERSION_ID = PDS3
/* FILE DATA ELEMENTS */
RECORD_TYPE = STREAM
/* POINTERS TO DATA OBJECTS */
^COMPRESSED_FILE = "H7463_0000_RE3.JP2"
/* IDENTIFICATION DATA ELEMENTS */
DATA_SET_ID = "MEX-M-HRSC-5-REFDR-MAPPROJECTED-V3.0"
DATA_SET_NAME = "MARS EXPRESS HRSC MAP PROJECTED REFDR V3.0"
DETECTOR_ID = MEX_HRSC_RED
EVENT_TYPE = "MARS-REGIONAL-MAPPING-Vo-Fl-Pf"
INSTRUMENT_HOST_ID = MEX
INSTRUMENT_HOST_NAME = "MARS EXPRESS"
INSTRUMENT_ID = HRSC
INSTRUMENT_NAME = "HIGH RESOLUTION STEREO CAMERA"
MISSION_NAME = "MARS EXPRESS"
MISSION_PHASE_NAME = ME_Phase_18
PROCESSING_LEVEL_ID = 3
PRODUCT_CREATION_TIME = 2016-07-01T01:18:39.000Z
PRODUCT_ID = "H7463_0000_RE3.JP2"
RELEASE_ID = 0082
REVISION_ID = 0000
/* QUALITY DATA ELEMENTS */
DATA_QUALITY_ID = 1
DATA_QUALITY_DESC = "Data calculated based on original SPICE kernels"
/* TIME DATA ELEMENTS */
SPACECRAFT_CLOCK_START_COUNT = "1/0204767702.09136"
SPACECRAFT_CLOCK_STOP_COUNT = "1/0204768089.41336"
START_TIME = 2009-10-27T23:56:05.027Z
STOP_TIME = 2009-10-28T00:01:21.701Z
/* ORBITAL DATA ELEMENTS */
ASCENDING_NODE_LONGITUDE = 74.98
MAXIMUM_RESOLUTION = 123
FOOTPRINT_POINT_LATITUDE = (49.141,49.1242,49.0098,48.6713,48.3329 ,47.8256,47.4877,47.1505,46.8128, 46.4769,45.9741,45.6387,45.2424,44.8416 ,44.4437,43.8468,43.4496,43.0531, 42.6572,42.262,41.8672,41.4735,40.8837, 40.2958,39.9058,39.5158,39.1263,38.7368 ,38.3495,37.9627,37.5766,37.1912, 36.8067,36.4138,36.0209,35.629,35.2351, 34.8351,34.4361,33.8336,33.427,33.0216, 32.6112,32.1977,31.7855,31.3642,30.9458 ,30.5228,30.0961,29.7343,29.7365, 29.7385,29.7387,29.9559,30.3834,30.8098 ,31.2299,31.8568,32.4762,32.8941, 33.3006,33.7081,34.1146,34.5139,34.9144 ,35.513,36.1025,36.4958,36.8887,37.274, 37.6602,38.0471,38.4352,38.8239,39.2135 ,39.6038,40.1906,40.7793,41.1724, 41.5668,41.9615,42.3567,42.7529,43.1503 ,43.548,43.946,44.3452,44.7448,45.1449, 45.7324,46.0689,46.4059,46.743,47.2497, 47.5877,47.9264,48.2649,48.6044,49.1137 ,49.141)
FOOTPRINT_POINT_LONGITUDE = (170.97,170.321,169.539,169.567,169.593 ,169.632,169.657,169.681,169.705, 169.727,169.758,169.779,169.802,169.826 ,169.848,169.879,169.898,169.917, 169.935,169.952,169.969,169.984,170.007 ,170.027,170.04,170.052,170.063,170.075 ,170.084,170.094,170.103,170.111, 170.119,170.127,170.133,170.14,170.146, 170.151,170.155,170.162,170.165,170.168 ,170.17,170.172,170.174,170.175,170.175 ,170.175,170.174,170.173,170.51,170.975 ,171.529,172.074,172.066,172.057, 172.049,172.035,172.022,172.015,172.006 ,171.998,171.989,171.98,171.971,171.957 ,171.943,171.933,171.924,171.914, 171.904,171.894,171.883,171.873,171.862 ,171.851,171.833,171.816,171.803, 171.791,171.778,171.765,171.752,171.738 ,171.724,171.71,171.695,171.68,171.665, 171.642,171.628,171.614,171.6,171.578, 171.563,171.547,171.531,171.515,171.49, 170.97)
ORBIT_NUMBER = 7463
ORBITAL_ECCENTRICITY = 0.57
ORBITAL_INCLINATION = 86.83
ORBITAL_SEMIMAJOR_AXIS = 8714.04
PERIAPSIS_ALTITUDE = 361.77
PERIAPSIS_ARGUMENT_ANGLE = 129.21
PERIAPSIS_TIME = 2009-10-27T23:55:14.000Z
SPACECRAFT_ORIENTATION = (0.0,-1.0,0.0)
^MEX_ORIENTATION_DESC = "MEX_ORIENTATION_DESC.TXT"
SPACECRAFT_POINTING_MODE = NADIR
^MEX_POINTING_DESC = "MEX_POINTING_DESC.TXT"
RIGHT_ASCENSION = -1e+32
DECLINATION = -1e+32
OFFSET_ANGLE = -1e+32
SPACECRAFT_SOLAR_DISTANCE = 2.33275e+08
TARGET_NAME = MARS
/* CAMERA DATA ELEMENTS */
DETECTOR_TEMPERATURE = 18.5744
FOCAL_PLANE_TEMPERATURE = 8.1755
INST_CMPRS_NAME = "DISCRETE COSINE TRANSFORMATION (DCT)"
INST_CMPRS_RATIO = 22.146
INST_CMPRS_QUALITY = 0
INST_CMPRS_QUANTZ_TBL_ID = 0
INSTRUMENT_TEMPERATURE = 11.234
LENS_TEMPERATURE = 8.3794
MACROPIXEL_SIZE = 8
MISSING_FRAMES = 0
PIXEL_SUBSAMPLING_FLAG = N
SIGNAL_CHAIN_ID = 2
/* RADIOMETRIC DATA ELEMENTS */
BANDWIDTH = 48.0
CENTER_FILTER_WAVELENGTH = 748.0
RADIANCE_OFFSET = 1.19891
RADIANCE_SCALING_FACTOR = 0.00786617
REFLECTANCE_SCALING_FACTOR = 0.000976843
MEX:REFLECTANCE_OFFSET = 0.148884
/* IMAGE OBJECT DEFINITIONS */
OBJECT = IMAGE
  INTERCHANGE_FORMAT = BINARY
  LINES = 11571
  LINE_SAMPLES = 1119
  SAMPLE_TYPE = UNSIGNED_INTEGER
  SAMPLE_BITS = 8
  BANDS = 1
  BAND_STORAGE_TYPE = BAND_SEQUENTIAL
  MAXIMUM = 255
  MEAN = 106.366
  MINIMUM = 1
  STANDARD_DEVIATION = 34.7848
END_OBJECT = IMAGE
/* MAP OBJECT DEFINITIONS */
OBJECT = IMAGE_MAP_PROJECTION
  ^DATA_SET_MAP_PROJECTION_CATALOG= "DSMAP.CAT"
  A_AXIS_RADIUS = 3396.0
  B_AXIS_RADIUS = 3396.0
  C_AXIS_RADIUS = 3396.0
  CENTER_LATITUDE = 0.0
  CENTER_LONGITUDE = 171.0
  COORDINATE_SYSTEM_NAME = PLANETOGRAPHIC
  COORDINATE_SYSTEM_TYPE = "BODY-FIXED ROTATING"
  EASTERNMOST_LONGITUDE = 172.074
  FIRST_STANDARD_PARALLEL = "N/A"
  LINE_FIRST_PIXEL = 1
  LINE_LAST_PIXEL = 11571
  LINE_PROJECTION_OFFSET = 29182.6875
  MAP_PROJECTION_ROTATION = 0.0
  MAP_PROJECTION_TYPE = SINUSOIDAL
  MAP_RESOLUTION = 592.713803866667
  MAP_SCALE = 0.1
  MAXIMUM_LATITUDE = 49.141
  MINIMUM_LATITUDE = 29.7343
  POSITIVE_LONGITUDE_DIRECTION = EAST
  REFERENCE_LATITUDE = "N/A"
  REFERENCE_LONGITUDE = "N/A"
  SAMPLE_FIRST_PIXEL = 1
  SAMPLE_LAST_PIXEL = 1119
  SAMPLE_PROJECTION_OFFSET = 578.8125
  SECOND_STANDARD_PARALLEL = "N/A"
  WESTERNMOST_LONGITUDE = 169.539
END_OBJECT = IMAGE_MAP_PROJECTION
/* The JPEG2000 image data file associated with this label. */
OBJECT = COMPRESSED_FILE
  FILE_NAME = "H7463_0000_RE3.JP2"
  RECORD_TYPE = UNDEFINED
  FILE_RECORDS = UNK
  ENCODING_TYPE = "JP2"
  INTERCHANGE_FORMAT = BINARY
  UNCOMPRESSED_FILE_NAME = "H7463_0000_RE3.IMG"
  REQUIRED_STORAGE_BYTES = "12966972"
  ^DESCRIPTION = "JP2INFO.TXT"
END_OBJECT = COMPRESSED_FILE
END
