PDS_VERSION_ID = PDS3
/* FILE DATA ELEMENTS */
RECORD_TYPE = STREAM
/* POINTERS TO DATA OBJECTS */
^COMPRESSED_FILE = "H7464_0000_P23.JP2"
/* IDENTIFICATION DATA ELEMENTS */
DATA_SET_ID = "MEX-M-HRSC-5-REFDR-MAPPROJECTED-V3.0"
DATA_SET_NAME = "MARS EXPRESS HRSC MAP PROJECTED REFDR V3.0"
DETECTOR_ID = MEX_HRSC_P2
EVENT_TYPE = "MARS-LOCAL-STEREO-Te-Fl-Pf"
INSTRUMENT_HOST_ID = MEX
INSTRUMENT_HOST_NAME = "MARS EXPRESS"
INSTRUMENT_ID = HRSC
INSTRUMENT_NAME = "HIGH RESOLUTION STEREO CAMERA"
MISSION_NAME = "MARS EXPRESS"
MISSION_PHASE_NAME = ME_Phase_18
PROCESSING_LEVEL_ID = 3
PRODUCT_CREATION_TIME = 2016-07-01T01:18:39.000Z
PRODUCT_ID = "H7464_0000_P23.JP2"
RELEASE_ID = 0082
REVISION_ID = 0000
/* QUALITY DATA ELEMENTS */
DATA_QUALITY_ID = 1
DATA_QUALITY_DESC = "Data calculated based on original SPICE kernels"
/* TIME DATA ELEMENTS */
SPACECRAFT_CLOCK_START_COUNT = "1/0204792702.09055"
SPACECRAFT_CLOCK_STOP_COUNT = "1/0204792870.42578"
START_TIME = 2009-10-28T06:52:43.745Z
STOP_TIME = 2009-10-28T06:54:15.983Z
/* ORBITAL DATA ELEMENTS */
ASCENDING_NODE_LONGITUDE = 74.96
MAXIMUM_RESOLUTION = 33.2
FOOTPRINT_POINT_LATITUDE = (37.8947,37.8932,37.8909,37.8882, 37.8852,37.8816,37.8795,37.6991,37.5356 ,37.4262,37.3175,37.2087,36.9926,36.884 ,36.7749,36.6649,36.4503,36.2879, 36.1771,36.0106,35.9006,35.7353,35.6237 ,35.458,35.2911,35.1796,35.0694,34.9576 ,34.8474,34.6778,34.5648,34.4547, 34.3414,34.2263,34.0547,33.9461,33.8317 ,33.6604,33.549,33.4316,33.317,33.1492, 33.036,32.9166,32.8004,32.6863,32.5738, 32.4594,32.3453,32.3079,32.3095,32.3102 ,32.3114,32.312,32.3115,32.3154,32.434, 32.5474,32.6623,32.8349,32.9507,33.0662 ,33.1799,33.2918,33.4092,33.5816, 33.7512,33.8653,33.9738,34.0877,34.2039 ,34.3168,34.4861,34.5995,34.7701, 34.8816,34.9914,35.1563,35.3237,35.4355 ,35.5461,35.712,35.8786,35.9908,36.1021 ,36.2131,36.3235,36.4317,36.5402,36.649 ,36.8123,36.9204,37.0825,37.2472, 37.3566,37.4656,37.6824,37.7918,37.9012 ,37.8947)
FOOTPRINT_POINT_LONGITUDE = (70.4819,70.2627,69.9924,69.7215, 69.4501,69.1776,69.0239,68.9946,68.9991 ,69.0024,69.0052,69.0079,69.0124, 69.0152,69.0182,69.0219,69.0253,69.0289 ,69.0314,69.0349,69.0366,69.0392,69.042 ,69.0449,69.0488,69.0515,69.0533, 69.0563,69.0581,69.0611,69.0629,69.0626 ,69.0647,69.068,69.0722,69.0709,69.0738 ,69.0779,69.0786,69.0817,69.0827, 69.0814,69.0814,69.0859,69.0881,69.0888 ,69.0884,69.0894,69.0902,69.3954, 69.6089,69.751,69.9995,70.3363,70.6367, 70.8678,70.9258,70.9227,70.9201,70.9163 ,70.914,70.9115,70.9083,70.9043,70.9024 ,70.8984,70.8946,70.8925,70.8881, 70.8857,70.8842,70.8814,70.8771,70.8744 ,70.8703,70.8672,70.8641,70.8594, 70.8556,70.8532,70.8502,70.8456,70.8411 ,70.8386,70.8357,70.8326,70.8295, 70.8265,70.8235,70.8206,70.8162,70.8129 ,70.8078,70.8037,70.8007,70.7975, 70.7906,70.7875,70.7843,70.4819)
ORBIT_NUMBER = 7464
ORBITAL_ECCENTRICITY = 0.571
ORBITAL_INCLINATION = 86.84
ORBITAL_SEMIMAJOR_AXIS = 8720.82
PERIAPSIS_ALTITUDE = 360.71
PERIAPSIS_ARGUMENT_ANGLE = 129.03
PERIAPSIS_TIME = 2009-10-28T06:48:57.000Z
SPACECRAFT_ORIENTATION = (0.0,-1.0,0.0)
^MEX_ORIENTATION_DESC = "MEX_ORIENTATION_DESC.TXT"
SPACECRAFT_POINTING_MODE = ACROSSTRACK
^MEX_POINTING_DESC = "MEX_POINTING_DESC.TXT"
RIGHT_ASCENSION = -1e+32
DECLINATION = -1e+32
OFFSET_ANGLE = -0.2
SPACECRAFT_SOLAR_DISTANCE = 2.33327e+08
TARGET_NAME = MARS
/* CAMERA DATA ELEMENTS */
DETECTOR_TEMPERATURE = 18.1666
FOCAL_PLANE_TEMPERATURE = 8.1755
INST_CMPRS_NAME = "DISCRETE COSINE TRANSFORMATION (DCT)"
INST_CMPRS_RATIO = 8.17774
INST_CMPRS_QUALITY = 0
INST_CMPRS_QUANTZ_TBL_ID = 0
INSTRUMENT_TEMPERATURE = 11.0301
LENS_TEMPERATURE = 8.5833
MACROPIXEL_SIZE = 2
MISSING_FRAMES = 0
PIXEL_SUBSAMPLING_FLAG = N
SIGNAL_CHAIN_ID = 3
/* RADIOMETRIC DATA ELEMENTS */
BANDWIDTH = 177.0
CENTER_FILTER_WAVELENGTH = 676.5
RADIANCE_OFFSET = 5.86452
RADIANCE_SCALING_FACTOR = 0.0165299
REFLECTANCE_SCALING_FACTOR = 0.000477155
MEX:REFLECTANCE_OFFSET = 0.169286
/* IMAGE OBJECT DEFINITIONS */
OBJECT = IMAGE
  INTERCHANGE_FORMAT = BINARY
  LINES = 13323
  LINE_SAMPLES = 3739
  SAMPLE_TYPE = UNSIGNED_INTEGER
  SAMPLE_BITS = 8
  BANDS = 1
  BAND_STORAGE_TYPE = BAND_SEQUENTIAL
  MAXIMUM = 255
  MEAN = 127.012
  MINIMUM = 1
  STANDARD_DEVIATION = 25.0239
END_OBJECT = IMAGE
/* MAP OBJECT DEFINITIONS */
OBJECT = IMAGE_MAP_PROJECTION
  ^DATA_SET_MAP_PROJECTION_CATALOG= "DSMAP.CAT"
  A_AXIS_RADIUS = 3396.0
  B_AXIS_RADIUS = 3396.0
  C_AXIS_RADIUS = 3396.0
  CENTER_LATITUDE = 0.0
  CENTER_LONGITUDE = 70.0
  COORDINATE_SYSTEM_NAME = PLANETOGRAPHIC
  COORDINATE_SYSTEM_TYPE = "BODY-FIXED ROTATING"
  EASTERNMOST_LONGITUDE = 70.9258
  FIRST_STANDARD_PARALLEL = "N/A"
  LINE_FIRST_PIXEL = 1
  LINE_LAST_PIXEL = 13323
  LINE_PROJECTION_OFFSET = 89923.25
  MAP_PROJECTION_ROTATION = 0.0
  MAP_PROJECTION_TYPE = SINUSOIDAL
  MAP_RESOLUTION = 2370.85521546667
  MAP_SCALE = 0.025
  MAXIMUM_LATITUDE = 37.9012
  MINIMUM_LATITUDE = 32.3079
  POSITIVE_LONGITUDE_DIRECTION = EAST
  REFERENCE_LATITUDE = "N/A"
  REFERENCE_LONGITUDE = "N/A"
  SAMPLE_FIRST_PIXEL = 1
  SAMPLE_LAST_PIXEL = 3739
  SAMPLE_PROJECTION_OFFSET = 1906.75
  SECOND_STANDARD_PARALLEL = "N/A"
  WESTERNMOST_LONGITUDE = 68.99460000000001
END_OBJECT = IMAGE_MAP_PROJECTION
/* The JPEG2000 image data file associated with this label. */
OBJECT = COMPRESSED_FILE
  FILE_NAME = "H7464_0000_P23.JP2"
  RECORD_TYPE = UNDEFINED
  FILE_RECORDS = UNK
  ENCODING_TYPE = "JP2"
  INTERCHANGE_FORMAT = BINARY
  UNCOMPRESSED_FILE_NAME = "H7464_0000_P23.IMG"
  REQUIRED_STORAGE_BYTES = "49837131"
  ^DESCRIPTION = "JP2INFO.TXT"
END_OBJECT = COMPRESSED_FILE
END
