PDS_VERSION_ID = PDS3
/* FILE DATA ELEMENTS */
RECORD_TYPE = STREAM
/* POINTERS TO DATA OBJECTS */
^COMPRESSED_FILE = "H7464_0001_S23.JP2"
/* IDENTIFICATION DATA ELEMENTS */
DATA_SET_ID = "MEX-M-HRSC-5-REFDR-MAPPROJECTED-V3.0"
DATA_SET_NAME = "MARS EXPRESS HRSC MAP PROJECTED REFDR V3.0"
DETECTOR_ID = MEX_HRSC_S2
EVENT_TYPE = "MARS-REGIONAL-MAPPING-Vo-Te-Eo"
INSTRUMENT_HOST_ID = MEX
INSTRUMENT_HOST_NAME = "MARS EXPRESS"
INSTRUMENT_ID = HRSC
INSTRUMENT_NAME = "HIGH RESOLUTION STEREO CAMERA"
MISSION_NAME = "MARS EXPRESS"
MISSION_PHASE_NAME = ME_Phase_18
PROCESSING_LEVEL_ID = 3
PRODUCT_CREATION_TIME = 2016-07-01T01:18:39.000Z
PRODUCT_ID = "H7464_0001_S23.JP2"
RELEASE_ID = 0082
REVISION_ID = 0000
/* QUALITY DATA ELEMENTS */
DATA_QUALITY_ID = 1
DATA_QUALITY_DESC = "Data calculated based on original SPICE kernels"
/* TIME DATA ELEMENTS */
SPACECRAFT_CLOCK_START_COUNT = "1/0204793002.09066"
SPACECRAFT_CLOCK_STOP_COUNT = "1/0204793422.09846"
START_TIME = 2009-10-28T06:58:43.925Z
STOP_TIME = 2009-10-28T07:03:42.729Z
/* ORBITAL DATA ELEMENTS */
ASCENDING_NODE_LONGITUDE = 74.96
MAXIMUM_RESOLUTION = 54.3
FOOTPRINT_POINT_LATITUDE = (18.4954,18.502,18.5088,18.5185,18.526, 18.5335,18.3,17.9334,17.4392,16.9402, 16.6895,16.4362,16.0548,15.7985,15.5414 ,15.2912,15.0338,14.7626,14.3692, 13.9718,13.7057,13.4375,13.1681,12.7619 ,12.3528,11.9399,11.6631,11.3842,11.104 ,10.8226,10.5403,10.2567,9.97142, 9.68494,9.25222,8.81663,8.5247,8.23381, 7.94496,7.65745,7.37175,7.0875,6.80517, 6.38208,6.10125,5.82238,5.54172,5.26312 ,4.98836,4.94593,4.93342,4.91859, 4.89856,4.88675,4.8697,4.85663,4.84824, 5.11873,5.39553,5.67401,5.95462,6.23552 ,6.51824,6.80256,7.08829,7.5212,7.80925 ,8.10076,8.394,8.68882,9.13005,9.42121, 9.85766,10.145,10.4317,10.7168,10.9997, 11.2814,11.5614,11.8395,12.2546,12.6664 ,13.0742,13.3445,13.6143,13.8818, 14.2808,14.6765,15.0696,15.3301,15.5893 ,15.9752,16.2311,16.4854,16.7373, 17.1161,17.366,17.6156,18.109,18.4954)
FOOTPRINT_POINT_LONGITUDE = (71.0943,70.7302,70.3658,69.8639, 69.4984,69.1315,68.8606,68.8474,68.8294 ,68.8106,68.801,68.791,68.7758,68.7657, 68.7547,68.7411,68.7289,68.721,68.7033, 68.6852,68.6726,68.6599,68.6471,68.6269 ,68.6059,68.5846,68.57,68.5552,68.5399, 68.5244,68.5083,68.4918,68.4749,68.4576 ,68.4311,68.4033,68.3847,68.3661, 68.3472,68.3281,68.3088,68.2894,68.2696 ,68.2405,68.221,68.2013,68.1824,68.1632 ,68.1431,68.5357,68.8655,69.1948, 69.6875,70.0156,70.5077,70.9668,71.2949 ,71.5286,71.5208,71.5131,71.5057, 71.4979,71.4903,71.4828,71.4753,71.4646 ,71.4569,71.4497,71.4427,71.4357, 71.4253,71.4184,71.4087,71.4021,71.3959 ,71.3896,71.3834,71.3772,71.3712, 71.3651,71.3563,71.3476,71.339,71.3334, 71.328,71.3226,71.3146,71.3067,71.299, 71.2938,71.2889,71.2814,71.2764,71.2716 ,71.2663,71.2594,71.2548,71.25,71.2404, 71.0943)
ORBIT_NUMBER = 7464
ORBITAL_ECCENTRICITY = 0.571
ORBITAL_INCLINATION = 86.84
ORBITAL_SEMIMAJOR_AXIS = 8720.82
PERIAPSIS_ALTITUDE = 360.71
PERIAPSIS_ARGUMENT_ANGLE = 129.03
PERIAPSIS_TIME = 2009-10-28T06:48:57.000Z
SPACECRAFT_ORIENTATION = (0.0,-1.0,0.0)
^MEX_ORIENTATION_DESC = "MEX_ORIENTATION_DESC.TXT"
SPACECRAFT_POINTING_MODE = ACROSSTRACK
^MEX_POINTING_DESC = "MEX_POINTING_DESC.TXT"
RIGHT_ASCENSION = -1e+32
DECLINATION = -1e+32
OFFSET_ANGLE = -0.2
SPACECRAFT_SOLAR_DISTANCE = 2.33327e+08
TARGET_NAME = MARS
/* CAMERA DATA ELEMENTS */
DETECTOR_TEMPERATURE = 19.7978
FOCAL_PLANE_TEMPERATURE = 8.1755
INST_CMPRS_NAME = "DISCRETE COSINE TRANSFORMATION (DCT)"
INST_CMPRS_RATIO = 12.1119
INST_CMPRS_QUALITY = 0
INST_CMPRS_QUANTZ_TBL_ID = 0
INSTRUMENT_TEMPERATURE = 12.2535
LENS_TEMPERATURE = 8.7872
MACROPIXEL_SIZE = 2
MISSING_FRAMES = 0
PIXEL_SUBSAMPLING_FLAG = N
SIGNAL_CHAIN_ID = 1
/* RADIOMETRIC DATA ELEMENTS */
BANDWIDTH = 178.0
CENTER_FILTER_WAVELENGTH = 679.0
RADIANCE_OFFSET = 3.62043
RADIANCE_SCALING_FACTOR = 0.0159725
REFLECTANCE_SCALING_FACTOR = 0.000460509
MEX:REFLECTANCE_OFFSET = 0.104382
/* IMAGE OBJECT DEFINITIONS */
OBJECT = IMAGE
  INTERCHANGE_FORMAT = BINARY
  LINES = 16215
  LINE_SAMPLES = 3497
  SAMPLE_TYPE = UNSIGNED_INTEGER
  SAMPLE_BITS = 8
  BANDS = 1
  BAND_STORAGE_TYPE = BAND_SEQUENTIAL
  MAXIMUM = 255
  MEAN = 84.5059
  MINIMUM = 1
  STANDARD_DEVIATION = 36.3386
END_OBJECT = IMAGE
/* MAP OBJECT DEFINITIONS */
OBJECT = IMAGE_MAP_PROJECTION
  ^DATA_SET_MAP_PROJECTION_CATALOG= "DSMAP.CAT"
  A_AXIS_RADIUS = 3396.0
  B_AXIS_RADIUS = 3396.0
  C_AXIS_RADIUS = 3396.0
  CENTER_LATITUDE = 0.0
  CENTER_LONGITUDE = 70.0
  COORDINATE_SYSTEM_NAME = PLANETOGRAPHIC
  COORDINATE_SYSTEM_TYPE = "BODY-FIXED ROTATING"
  EASTERNMOST_LONGITUDE = 71.5286
  FIRST_STANDARD_PARALLEL = "N/A"
  LINE_FIRST_PIXEL = 1
  LINE_LAST_PIXEL = 16215
  LINE_PROJECTION_OFFSET = 21970.75
  MAP_PROJECTION_ROTATION = 0.0
  MAP_PROJECTION_TYPE = SINUSOIDAL
  MAP_RESOLUTION = 1185.42760773333
  MAP_SCALE = 0.05
  MAXIMUM_LATITUDE = 18.5335
  MINIMUM_LATITUDE = 4.84824
  POSITIVE_LONGITUDE_DIRECTION = EAST
  REFERENCE_LATITUDE = "N/A"
  REFERENCE_LONGITUDE = "N/A"
  SAMPLE_FIRST_PIXEL = 1
  SAMPLE_LAST_PIXEL = 3497
  SAMPLE_PROJECTION_OFFSET = 1955.75
  SECOND_STANDARD_PARALLEL = "N/A"
  WESTERNMOST_LONGITUDE = 68.1431
END_OBJECT = IMAGE_MAP_PROJECTION
/* The JPEG2000 image data file associated with this label. */
OBJECT = COMPRESSED_FILE
  FILE_NAME = "H7464_0001_S23.JP2"
  RECORD_TYPE = UNDEFINED
  FILE_RECORDS = UNK
  ENCODING_TYPE = "JP2"
  INTERCHANGE_FORMAT = BINARY
  UNCOMPRESSED_FILE_NAME = "H7464_0001_S23.IMG"
  REQUIRED_STORAGE_BYTES = "56724837"
  ^DESCRIPTION = "JP2INFO.TXT"
END_OBJECT = COMPRESSED_FILE
END
