PDS_VERSION_ID = PDS3
/* FILE DATA ELEMENTS */
RECORD_TYPE = STREAM
/* POINTERS TO DATA OBJECTS */
^COMPRESSED_FILE = "H7465_0000_ND3.JP2"
/* IDENTIFICATION DATA ELEMENTS */
DATA_SET_ID = "MEX-M-HRSC-5-REFDR-MAPPROJECTED-V3.0"
DATA_SET_NAME = "MARS EXPRESS HRSC MAP PROJECTED REFDR V3.0"
DETECTOR_ID = MEX_HRSC_NADIR
EVENT_TYPE = "MARS-REGIONAL-MAPPING-Vo-Lc-Pf"
INSTRUMENT_HOST_ID = MEX
INSTRUMENT_HOST_NAME = "MARS EXPRESS"
INSTRUMENT_ID = HRSC
INSTRUMENT_NAME = "HIGH RESOLUTION STEREO CAMERA"
MISSION_NAME = "MARS EXPRESS"
MISSION_PHASE_NAME = ME_Phase_18
PROCESSING_LEVEL_ID = 3
PRODUCT_CREATION_TIME = 2016-07-01T01:18:39.000Z
PRODUCT_ID = "H7465_0000_ND3.JP2"
RELEASE_ID = 0082
REVISION_ID = 0000
/* QUALITY DATA ELEMENTS */
DATA_QUALITY_ID = 1
DATA_QUALITY_DESC = "Data calculated based on original SPICE kernels"
/* TIME DATA ELEMENTS */
SPACECRAFT_CLOCK_START_COUNT = "1/0204817420.08242"
SPACECRAFT_CLOCK_STOP_COUNT = "1/0204817771.06933"
START_TIME = 2009-10-28T13:44:15.485Z
STOP_TIME = 2009-10-28T13:48:43.468Z
/* ORBITAL DATA ELEMENTS */
ASCENDING_NODE_LONGITUDE = 74.95
MAXIMUM_RESOLUTION = 14.9
FOOTPRINT_POINT_LATITUDE = (44.9503,44.9338,44.9214,44.4977, 43.9331,43.4297,43.0932,42.757,42.4209, 42.085,41.7494,41.4139,41.0787,40.7438, 40.409,40.0746,39.7404,39.4064,39.0728, 38.7394,38.4064,38.0736,37.7412,37.409, 37.0773,36.7458,36.4147,36.0839,35.7535 ,35.4235,35.0938,34.591,34.2534,33.9163 ,33.5796,33.2381,32.8934,32.5493, 32.2056,31.6801,31.3289,30.9783,30.443, 30.0851,29.7277,29.3626,28.9979,28.4478 ,28.0736,28.0767,28.078,28.0786,28.2646 ,28.6374,29.0023,29.3679,29.7339,30.092 ,30.4508,30.9873,31.3386,31.6906, 32.2173,32.5617,32.9066,33.2519,33.5943 ,33.9317,34.2695,34.6078,35.1118, 35.4421,35.7729,36.104,36.4354,36.7672, 37.0994,37.4319,37.7647,38.0979,38.4314 ,38.7652,39.0993,39.4336,39.7683, 40.1032,40.4385,40.7739,41.1097,41.4457 ,41.7819,42.1183,42.455,42.7919,43.129, 43.4663,43.9716,44.5377,44.8209, 44.9503)
FOOTPRINT_POINT_LONGITUDE = (329.164,328.521,328.071,328.095, 328.127,328.153,328.17,328.186,328.202, 328.217,328.232,328.246,328.259,328.272 ,328.285,328.297,328.308,328.319,328.33 ,328.34,328.35,328.359,328.367,328.376, 328.384,328.391,328.398,328.405,328.411 ,328.417,328.422,328.43,328.434,328.438 ,328.443,328.443,328.449,328.452, 328.454,328.457,328.459,328.46,328.461, 328.461,328.461,328.461,328.459,328.457 ,328.733,329.174,329.505,329.855, 330.321,330.315,330.309,330.303,330.297 ,330.292,330.286,330.276,330.27,330.264 ,330.254,330.247,330.241,330.234, 330.227,330.221,330.214,330.207,330.196 ,330.188,330.181,330.174,330.166, 330.158,330.15,330.142,330.134,330.125, 330.117,330.108,330.099,330.09,330.081, 330.071,330.062,330.052,330.042,330.032 ,330.021,330.01,329.999,329.988,329.977 ,329.965,329.947,329.927,329.916, 329.164)
ORBIT_NUMBER = 7465
ORBITAL_ECCENTRICITY = 0.57
ORBITAL_INCLINATION = 86.84
ORBITAL_SEMIMAJOR_AXIS = 8713.31
PERIAPSIS_ALTITUDE = 361.53
PERIAPSIS_ARGUMENT_ANGLE = 128.85
PERIAPSIS_TIME = 2009-10-28T13:42:40.000Z
SPACECRAFT_ORIENTATION = (0.0,-1.0,0.0)
^MEX_ORIENTATION_DESC = "MEX_ORIENTATION_DESC.TXT"
SPACECRAFT_POINTING_MODE = ACROSSTRACK
^MEX_POINTING_DESC = "MEX_POINTING_DESC.TXT"
RIGHT_ASCENSION = -1e+32
DECLINATION = -1e+32
OFFSET_ANGLE = -0.05
SPACECRAFT_SOLAR_DISTANCE = 2.3338e+08
TARGET_NAME = MARS
/* CAMERA DATA ELEMENTS */
DETECTOR_TEMPERATURE = 18.1666
FOCAL_PLANE_TEMPERATURE = 7.9716
INST_CMPRS_NAME = "DISCRETE COSINE TRANSFORMATION (DCT)"
INST_CMPRS_RATIO = 7.34728
INST_CMPRS_QUALITY = 0
INST_CMPRS_QUANTZ_TBL_ID = 0
INSTRUMENT_TEMPERATURE = 11.234
LENS_TEMPERATURE = 8.3794
MACROPIXEL_SIZE = 1
MISSING_FRAMES = 0
PIXEL_SUBSAMPLING_FLAG = N
SIGNAL_CHAIN_ID = 0
/* RADIOMETRIC DATA ELEMENTS */
BANDWIDTH = 177.0
CENTER_FILTER_WAVELENGTH = 677.5
RADIANCE_OFFSET = 3.28537
RADIANCE_SCALING_FACTOR = 0.0144943
REFLECTANCE_SCALING_FACTOR = 0.000419382
MEX:REFLECTANCE_OFFSET = 0.09506
/* IMAGE OBJECT DEFINITIONS */
OBJECT = IMAGE
  INTERCHANGE_FORMAT = BINARY
  LINES = 80114
  LINE_SAMPLES = 8735
  SAMPLE_TYPE = UNSIGNED_INTEGER
  SAMPLE_BITS = 8
  BANDS = 1
  BAND_STORAGE_TYPE = BAND_SEQUENTIAL
  MAXIMUM = 255
  MEAN = 89.9431
  MINIMUM = 1
  STANDARD_DEVIATION = 30.5138
END_OBJECT = IMAGE
/* MAP OBJECT DEFINITIONS */
OBJECT = IMAGE_MAP_PROJECTION
  ^DATA_SET_MAP_PROJECTION_CATALOG= "DSMAP.CAT"
  A_AXIS_RADIUS = 3396.0
  B_AXIS_RADIUS = 3396.0
  C_AXIS_RADIUS = 3396.0
  CENTER_LATITUDE = 0.0
  CENTER_LONGITUDE = 329.0
  COORDINATE_SYSTEM_NAME = PLANETOGRAPHIC
  COORDINATE_SYSTEM_TYPE = "BODY-FIXED ROTATING"
  EASTERNMOST_LONGITUDE = 330.321
  FIRST_STANDARD_PARALLEL = "N/A"
  LINE_FIRST_PIXEL = 1
  LINE_LAST_PIXEL = 80114
  LINE_PROJECTION_OFFSET = 213215.0
  MAP_PROJECTION_ROTATION = 0.0
  MAP_PROJECTION_TYPE = SINUSOIDAL
  MAP_RESOLUTION = 4741.71043093333
  MAP_SCALE = 0.0125
  MAXIMUM_LATITUDE = 44.9503
  MINIMUM_LATITUDE = 28.0736
  POSITIVE_LONGITUDE_DIRECTION = EAST
  REFERENCE_LATITUDE = "N/A"
  REFERENCE_LONGITUDE = "N/A"
  SAMPLE_FIRST_PIXEL = 1
  SAMPLE_LAST_PIXEL = 8735
  SAMPLE_PROJECTION_OFFSET = 3128.0
  SECOND_STANDARD_PARALLEL = "N/A"
  WESTERNMOST_LONGITUDE = 328.071
END_OBJECT = IMAGE_MAP_PROJECTION
/* The JPEG2000 image data file associated with this label. */
OBJECT = COMPRESSED_FILE
  FILE_NAME = "H7465_0000_ND3.JP2"
  RECORD_TYPE = UNDEFINED
  FILE_RECORDS = UNK
  ENCODING_TYPE = "JP2"
  INTERCHANGE_FORMAT = BINARY
  UNCOMPRESSED_FILE_NAME = "H7465_0000_ND3.IMG"
  REQUIRED_STORAGE_BYTES = "699830730"
  ^DESCRIPTION = "JP2INFO.TXT"
END_OBJECT = COMPRESSED_FILE
END
