PDS_VERSION_ID = PDS3
/* FILE DATA ELEMENTS */
RECORD_TYPE = STREAM
/* POINTERS TO DATA OBJECTS */
^COMPRESSED_FILE = "H7465_0000_P13.JP2"
/* IDENTIFICATION DATA ELEMENTS */
DATA_SET_ID = "MEX-M-HRSC-5-REFDR-MAPPROJECTED-V3.0"
DATA_SET_NAME = "MARS EXPRESS HRSC MAP PROJECTED REFDR V3.0"
DETECTOR_ID = MEX_HRSC_P1
EVENT_TYPE = "MARS-REGIONAL-MAPPING-Vo-Lc-Pf"
INSTRUMENT_HOST_ID = MEX
INSTRUMENT_HOST_NAME = "MARS EXPRESS"
INSTRUMENT_ID = HRSC
INSTRUMENT_NAME = "HIGH RESOLUTION STEREO CAMERA"
MISSION_NAME = "MARS EXPRESS"
MISSION_PHASE_NAME = ME_Phase_18
PROCESSING_LEVEL_ID = 3
PRODUCT_CREATION_TIME = 2016-07-01T01:18:39.000Z
PRODUCT_ID = "H7465_0000_P13.JP2"
RELEASE_ID = 0082
REVISION_ID = 0000
/* QUALITY DATA ELEMENTS */
DATA_QUALITY_ID = 1
DATA_QUALITY_DESC = "Data calculated based on original SPICE kernels"
/* TIME DATA ELEMENTS */
SPACECRAFT_CLOCK_START_COUNT = "1/0204817420.08242"
SPACECRAFT_CLOCK_STOP_COUNT = "1/0204817771.06933"
START_TIME = 2009-10-28T13:43:53.869Z
STOP_TIME = 2009-10-28T13:48:15.395Z
/* ORBITAL DATA ELEMENTS */
ASCENDING_NODE_LONGITUDE = 74.95
MAXIMUM_RESOLUTION = 30.3
FOOTPRINT_POINT_LATITUDE = (45.0014,44.9895,44.9804,44.9651, 44.8969,44.6104,44.1812,43.895,43.6087, 43.3225,42.893,42.6068,42.2875,41.946, 41.604,41.2625,40.7492,40.4076,39.8953, 39.5538,39.2123,38.8708,38.3585,38.0173 ,37.5056,36.994,36.6531,36.3123,35.9718 ,35.6314,35.121,34.6114,34.2716,33.9319 ,33.4197,32.9032,32.5552,32.2075, 31.8604,31.3277,30.972,30.6164,30.2563, 29.8919,29.5289,29.1651,28.9792,28.7932 ,28.4218,28.0509,28.0476,28.0511, 28.0534,28.0558,28.0569,28.2432,28.6149 ,28.8011,28.9875,29.1738,29.5376, 29.9018,30.2664,30.8055,31.1615,31.5182 ,32.0482,32.3964,32.7448,33.0932, 33.4401,33.78,34.1203,34.6307,35.1419, 35.6532,36.1651,36.5064,37.0184,37.5308 ,38.0439,38.3859,38.8988,39.2411, 39.5836,39.9259,40.2683,40.6108,40.9534 ,41.2959,41.8085,42.3241,42.6448, 42.9318,43.3622,43.7928,44.2232,44.5105 ,44.7971,45.0014)
FOOTPRINT_POINT_LONGITUDE = (329.752,329.21,328.872,328.38,328.083, 328.1,328.124,328.14,328.156,328.171, 328.193,328.207,328.222,328.238,328.253 ,328.267,328.288,328.301,328.32,328.332 ,328.344,328.354,328.37,328.38,328.394, 328.406,328.414,328.422,328.429,328.436 ,328.445,328.454,328.459,328.463, 328.468,328.476,328.479,328.482,328.485 ,328.488,328.49,328.491,328.492,328.493 ,328.493,328.493,328.493,328.492, 328.492,328.491,328.753,329.033,329.26, 329.609,330.115,330.294,330.289,330.286 ,330.283,330.281,330.275,330.27,330.265 ,330.256,330.251,330.245,330.236,330.23 ,330.224,330.218,330.211,330.205, 330.198,330.189,330.178,330.168,330.157 ,330.149,330.138,330.126,330.114, 330.106,330.093,330.084,330.075,330.066 ,330.057,330.047,330.038,330.028, 330.013,329.996,329.987,329.977,329.963 ,329.949,329.934,329.924,329.914, 329.752)
ORBIT_NUMBER = 7465
ORBITAL_ECCENTRICITY = 0.57
ORBITAL_INCLINATION = 86.84
ORBITAL_SEMIMAJOR_AXIS = 8713.31
PERIAPSIS_ALTITUDE = 361.53
PERIAPSIS_ARGUMENT_ANGLE = 128.85
PERIAPSIS_TIME = 2009-10-28T13:42:40.000Z
SPACECRAFT_ORIENTATION = (0.0,-1.0,0.0)
^MEX_ORIENTATION_DESC = "MEX_ORIENTATION_DESC.TXT"
SPACECRAFT_POINTING_MODE = ACROSSTRACK
^MEX_POINTING_DESC = "MEX_POINTING_DESC.TXT"
RIGHT_ASCENSION = -1e+32
DECLINATION = -1e+32
OFFSET_ANGLE = -0.05
SPACECRAFT_SOLAR_DISTANCE = 2.3338e+08
TARGET_NAME = MARS
/* CAMERA DATA ELEMENTS */
DETECTOR_TEMPERATURE = 17.351
FOCAL_PLANE_TEMPERATURE = 7.9716
INST_CMPRS_NAME = "DISCRETE COSINE TRANSFORMATION (DCT)"
INST_CMPRS_RATIO = 13.5094
INST_CMPRS_QUALITY = 0
INST_CMPRS_QUANTZ_TBL_ID = 0
INSTRUMENT_TEMPERATURE = 11.234
LENS_TEMPERATURE = 8.3794
MACROPIXEL_SIZE = 2
MISSING_FRAMES = 0
PIXEL_SUBSAMPLING_FLAG = N
SIGNAL_CHAIN_ID = 3
/* RADIOMETRIC DATA ELEMENTS */
BANDWIDTH = 174.0
CENTER_FILTER_WAVELENGTH = 675.0
RADIANCE_OFFSET = 3.6376
RADIANCE_SCALING_FACTOR = 0.0133141
REFLECTANCE_SCALING_FACTOR = 0.000390054
MEX:REFLECTANCE_OFFSET = 0.106568
/* IMAGE OBJECT DEFINITIONS */
OBJECT = IMAGE
  INTERCHANGE_FORMAT = BINARY
  LINES = 40057
  LINE_SAMPLES = 4368
  SAMPLE_TYPE = UNSIGNED_INTEGER
  SAMPLE_BITS = 8
  BANDS = 1
  BAND_STORAGE_TYPE = BAND_SEQUENTIAL
  MAXIMUM = 255
  MEAN = 91.0847
  MINIMUM = 1
  STANDARD_DEVIATION = 30.2181
END_OBJECT = IMAGE
/* MAP OBJECT DEFINITIONS */
OBJECT = IMAGE_MAP_PROJECTION
  ^DATA_SET_MAP_PROJECTION_CATALOG= "DSMAP.CAT"
  A_AXIS_RADIUS = 3396.0
  B_AXIS_RADIUS = 3396.0
  C_AXIS_RADIUS = 3396.0
  CENTER_LATITUDE = 0.0
  CENTER_LONGITUDE = 329.0
  COORDINATE_SYSTEM_NAME = PLANETOGRAPHIC
  COORDINATE_SYSTEM_TYPE = "BODY-FIXED ROTATING"
  EASTERNMOST_LONGITUDE = 330.294
  FIRST_STANDARD_PARALLEL = "N/A"
  LINE_FIRST_PIXEL = 1
  LINE_LAST_PIXEL = 40057
  LINE_PROJECTION_OFFSET = 106607.25
  MAP_PROJECTION_ROTATION = 0.0
  MAP_PROJECTION_TYPE = SINUSOIDAL
  MAP_RESOLUTION = 2370.85521546667
  MAP_SCALE = 0.025
  MAXIMUM_LATITUDE = 45.0014
  MINIMUM_LATITUDE = 28.0476
  POSITIVE_LONGITUDE_DIRECTION = EAST
  REFERENCE_LATITUDE = "N/A"
  REFERENCE_LONGITUDE = "N/A"
  SAMPLE_FIRST_PIXEL = 1
  SAMPLE_LAST_PIXEL = 4368
  SAMPLE_PROJECTION_OFFSET = 1563.75
  SECOND_STANDARD_PARALLEL = "N/A"
  WESTERNMOST_LONGITUDE = 328.083
END_OBJECT = IMAGE_MAP_PROJECTION
/* The JPEG2000 image data file associated with this label. */
OBJECT = COMPRESSED_FILE
  FILE_NAME = "H7465_0000_P13.JP2"
  RECORD_TYPE = UNDEFINED
  FILE_RECORDS = UNK
  ENCODING_TYPE = "JP2"
  INTERCHANGE_FORMAT = BINARY
  UNCOMPRESSED_FILE_NAME = "H7465_0000_P13.IMG"
  REQUIRED_STORAGE_BYTES = "174995184"
  ^DESCRIPTION = "JP2INFO.TXT"
END_OBJECT = COMPRESSED_FILE
END
