PDS_VERSION_ID = PDS3
/* FILE DATA ELEMENTS */
RECORD_TYPE = STREAM
/* POINTERS TO DATA OBJECTS */
^COMPRESSED_FILE = "H7466_0000_P13.JP2"
/* IDENTIFICATION DATA ELEMENTS */
DATA_SET_ID = "MEX-M-HRSC-5-REFDR-MAPPROJECTED-V3.0"
DATA_SET_NAME = "MARS EXPRESS HRSC MAP PROJECTED REFDR V3.0"
DETECTOR_ID = MEX_HRSC_P1
EVENT_TYPE = "MARS-REGIONAL-MAPPING-Vo-Te-Pf"
INSTRUMENT_HOST_ID = MEX
INSTRUMENT_HOST_NAME = "MARS EXPRESS"
INSTRUMENT_ID = HRSC
INSTRUMENT_NAME = "HIGH RESOLUTION STEREO CAMERA"
MISSION_NAME = "MARS EXPRESS"
MISSION_PHASE_NAME = ME_Phase_18
PROCESSING_LEVEL_ID = 3
PRODUCT_CREATION_TIME = 2016-07-01T01:18:39.000Z
PRODUCT_ID = "H7466_0000_P13.JP2"
RELEASE_ID = 0082
REVISION_ID = 0000
/* QUALITY DATA ELEMENTS */
DATA_QUALITY_ID = 1
DATA_QUALITY_DESC = "Data calculated based on original SPICE kernels"
/* TIME DATA ELEMENTS */
SPACECRAFT_CLOCK_START_COUNT = "1/0204842094.09112"
SPACECRAFT_CLOCK_STOP_COUNT = "1/0204842384.26309"
START_TIME = 2009-10-28T20:35:08.378Z
STOP_TIME = 2009-10-28T20:38:45.491Z
/* ORBITAL DATA ELEMENTS */
ASCENDING_NODE_LONGITUDE = 74.93
MAXIMUM_RESOLUTION = 29.7
FOOTPRINT_POINT_LATITUDE = (54.669,54.6521,54.634,54.6147,54.5943, 54.5725,54.4823,54.2162,53.9501,53.6834 ,53.4168,53.1498,52.7488,52.4813, 52.2136,51.9457,51.6777,51.4095,51.1411 ,50.738,50.4693,50.2004,49.9312,49.6619 ,49.3921,49.1226,48.8529,48.5832, 48.3131,47.9081,47.6344,47.364,47.0936, 46.8233,46.5527,46.1469,45.7406,45.4697 ,45.0639,44.6569,44.3858,43.979,43.572, 43.3006,42.9783,42.6542,42.1686,41.8446 ,41.5208,41.1967,40.7108,40.5444, 40.5617,40.5761,40.5872,40.5977,40.7601 ,41.0845,41.4093,41.8965,42.2211, 42.5461,42.8707,43.0332,43.3575,43.6335 ,44.0416,44.3137,44.7215,44.9933,45.401 ,45.8087,46.0806,46.4879,46.7593, 47.1666,47.4378,47.7091,48.1193,48.526, 48.9325,49.2032,49.474,49.7446,50.0151, 50.2853,50.5554,50.9605,51.2301,51.6344 ,52.0385,52.3077,52.7111,52.98,53.2485, 53.6512,53.919,54.1871,54.4549,54.669)
FOOTPRINT_POINT_LONGITUDE = (227.394,227.065,226.735,226.402, 226.068,225.731,225.317,225.36,225.403, 225.444,225.485,225.525,225.584,225.622 ,225.659,225.696,225.731,225.767, 225.801,225.851,225.884,225.916,225.947 ,225.977,226.007,226.036,226.065, 226.093,226.121,226.161,226.188,226.213 ,226.238,226.263,226.287,226.322, 226.356,226.378,226.41,226.441,226.461, 226.49,226.518,226.536,226.557,226.578, 226.608,226.627,226.645,226.663,226.689 ,227.25,227.607,227.928,228.196,228.451 ,228.444,228.431,228.417,228.396, 228.382,228.367,228.353,228.345,228.33, 228.317,228.297,228.283,228.262,228.248 ,228.227,228.205,228.19,228.167,228.151 ,228.127,228.111,228.094,228.069, 228.043,228.016,227.998,227.98,227.961, 227.942,227.923,227.904,227.874,227.853 ,227.822,227.79,227.768,227.735,227.712 ,227.689,227.653,227.629,227.605,227.58 ,227.394)
ORBIT_NUMBER = 7466
ORBITAL_ECCENTRICITY = 0.57
ORBITAL_INCLINATION = 86.83
ORBITAL_SEMIMAJOR_AXIS = 8716.89
PERIAPSIS_ALTITUDE = 360.89
PERIAPSIS_ARGUMENT_ANGLE = 128.66
PERIAPSIS_TIME = 2009-10-28T20:36:22.000Z
SPACECRAFT_ORIENTATION = (0.0,-1.0,0.0)
^MEX_ORIENTATION_DESC = "MEX_ORIENTATION_DESC.TXT"
SPACECRAFT_POINTING_MODE = ACROSSTRACK
^MEX_POINTING_DESC = "MEX_POINTING_DESC.TXT"
RIGHT_ASCENSION = -1e+32
DECLINATION = -1e+32
OFFSET_ANGLE = -0.6
SPACECRAFT_SOLAR_DISTANCE = 2.33433e+08
TARGET_NAME = MARS
/* CAMERA DATA ELEMENTS */
DETECTOR_TEMPERATURE = 17.5549
FOCAL_PLANE_TEMPERATURE = 8.3794
INST_CMPRS_NAME = "DISCRETE COSINE TRANSFORMATION (DCT)"
INST_CMPRS_RATIO = 9.8849
INST_CMPRS_QUALITY = 0
INST_CMPRS_QUANTZ_TBL_ID = 0
INSTRUMENT_TEMPERATURE = 11.4379
LENS_TEMPERATURE = 8.7872
MACROPIXEL_SIZE = 2
MISSING_FRAMES = 1
PIXEL_SUBSAMPLING_FLAG = N
SIGNAL_CHAIN_ID = 3
/* RADIOMETRIC DATA ELEMENTS */
BANDWIDTH = 174.0
CENTER_FILTER_WAVELENGTH = 675.0
RADIANCE_OFFSET = 5.38364
RADIANCE_SCALING_FACTOR = 0.0201613
REFLECTANCE_SCALING_FACTOR = 0.000590919
MEX:REFLECTANCE_OFFSET = 0.157792
/* IMAGE OBJECT DEFINITIONS */
OBJECT = IMAGE
  INTERCHANGE_FORMAT = BINARY
  LINES = 33386
  LINE_SAMPLES = 5005
  SAMPLE_TYPE = UNSIGNED_INTEGER
  SAMPLE_BITS = 8
  BANDS = 1
  BAND_STORAGE_TYPE = BAND_SEQUENTIAL
  MAXIMUM = 255
  MEAN = 76.6775
  MINIMUM = 1
  STANDARD_DEVIATION = 31.1496
END_OBJECT = IMAGE
/* MAP OBJECT DEFINITIONS */
OBJECT = IMAGE_MAP_PROJECTION
  ^DATA_SET_MAP_PROJECTION_CATALOG= "DSMAP.CAT"
  A_AXIS_RADIUS = 3396.0
  B_AXIS_RADIUS = 3396.0
  C_AXIS_RADIUS = 3396.0
  CENTER_LATITUDE = 0.0
  CENTER_LONGITUDE = 227.0
  COORDINATE_SYSTEM_NAME = PLANETOGRAPHIC
  COORDINATE_SYSTEM_TYPE = "BODY-FIXED ROTATING"
  EASTERNMOST_LONGITUDE = 228.451
  FIRST_STANDARD_PARALLEL = "N/A"
  LINE_FIRST_PIXEL = 1
  LINE_LAST_PIXEL = 33386
  LINE_PROJECTION_OFFSET = 129455.75
  MAP_PROJECTION_ROTATION = 0.0
  MAP_PROJECTION_TYPE = SINUSOIDAL
  MAP_RESOLUTION = 2370.85521546667
  MAP_SCALE = 0.025
  MAXIMUM_LATITUDE = 54.669
  MINIMUM_LATITUDE = 40.5444
  POSITIVE_LONGITUDE_DIRECTION = EAST
  REFERENCE_LATITUDE = "N/A"
  REFERENCE_LONGITUDE = "N/A"
  SAMPLE_FIRST_PIXEL = 1
  SAMPLE_LAST_PIXEL = 5005
  SAMPLE_PROJECTION_OFFSET = 2370.25
  SECOND_STANDARD_PARALLEL = "N/A"
  WESTERNMOST_LONGITUDE = 225.317
END_OBJECT = IMAGE_MAP_PROJECTION
/* The JPEG2000 image data file associated with this label. */
OBJECT = COMPRESSED_FILE
  FILE_NAME = "H7466_0000_P13.JP2"
  RECORD_TYPE = UNDEFINED
  FILE_RECORDS = UNK
  ENCODING_TYPE = "JP2"
  INTERCHANGE_FORMAT = BINARY
  UNCOMPRESSED_FILE_NAME = "H7466_0000_P13.IMG"
  REQUIRED_STORAGE_BYTES = "167121955"
  ^DESCRIPTION = "JP2INFO.TXT"
END_OBJECT = COMPRESSED_FILE
END
