PDS_VERSION_ID = PDS3
/* FILE DATA ELEMENTS */
RECORD_TYPE = STREAM
/* POINTERS TO DATA OBJECTS */
^COMPRESSED_FILE = "H7468_0000_S23.JP2"
/* IDENTIFICATION DATA ELEMENTS */
DATA_SET_ID = "MEX-M-HRSC-5-REFDR-MAPPROJECTED-V3.0"
DATA_SET_NAME = "MARS EXPRESS HRSC MAP PROJECTED REFDR V3.0"
DETECTOR_ID = MEX_HRSC_S2
EVENT_TYPE = "MARS-REGIONAL-MAPPING-Im-Fl-La"
INSTRUMENT_HOST_ID = MEX
INSTRUMENT_HOST_NAME = "MARS EXPRESS"
INSTRUMENT_ID = HRSC
INSTRUMENT_NAME = "HIGH RESOLUTION STEREO CAMERA"
MISSION_NAME = "MARS EXPRESS"
MISSION_PHASE_NAME = ME_Phase_18
PROCESSING_LEVEL_ID = 3
PRODUCT_CREATION_TIME = 2016-07-01T01:18:39.000Z
PRODUCT_ID = "H7468_0000_S23.JP2"
RELEASE_ID = 0082
REVISION_ID = 0000
/* QUALITY DATA ELEMENTS */
DATA_QUALITY_ID = 1
DATA_QUALITY_DESC = "Data calculated based on original SPICE kernels"
/* TIME DATA ELEMENTS */
SPACECRAFT_CLOCK_START_COUNT = "1/0204892019.08395"
SPACECRAFT_CLOCK_STOP_COUNT = "1/0204892377.28103"
START_TIME = 2009-10-29T10:28:16.021Z
STOP_TIME = 2009-10-29T10:32:57.969Z
/* ORBITAL DATA ELEMENTS */
ASCENDING_NODE_LONGITUDE = 74.89
MAXIMUM_RESOLUTION = 35.6
FOOTPRINT_POINT_LATITUDE = (37.3109,37.3086,37.3036,37.0764, 36.7949,36.3699,35.9379,35.6512,35.3696 ,35.0754,34.782,34.4904,34.0533,33.7549 ,33.4582,33.0146,32.7191,32.4173, 32.1144,31.6594,31.3528,31.048,30.7384, 30.4284,30.1217,29.8088,29.4935,29.0163 ,28.6964,28.3789,27.8942,27.4069, 27.0789,26.7514,26.4184,26.0869,25.7503 ,25.4147,25.0753,24.7341,24.39,23.8701, 23.5215,23.1686,22.8152,22.4683,22.1074 ,21.5608,21.5135,21.5094,21.5029, 21.4975,21.4881,21.8495,22.2108,22.567, 23.0972,23.4516,23.8015,24.3248,24.6694 ,25.008,25.353,25.6916,26.0281,26.3612, 26.8606,27.1897,27.5263,27.8505,28.1735 ,28.649,28.9683,29.2874,29.7608,30.0763 ,30.3849,30.8529,31.1666,31.4733, 31.7812,32.0841,32.382,32.674,32.9771, 33.2739,33.5748,33.8723,34.314,34.6055, 34.8985,35.3388,35.6257,35.9128,36.2008 ,36.4912,36.785,37.0551,37.3384, 37.3109)
FOOTPRINT_POINT_LONGITUDE = (26.923,26.3626,25.605,25.5773,25.5836, 25.5921,25.6009,25.606,25.6086,25.6153, 25.6201,25.6241,25.6298,25.6337,25.6367 ,25.6406,25.6404,25.6425,25.6453, 25.6469,25.6482,25.6488,25.6492,25.649, 25.6475,25.6462,25.6455,25.645,25.6435, 25.641,25.637,25.6328,25.6294,25.6256, 25.6216,25.6172,25.6124,25.6071,25.6014 ,25.5959,25.5896,25.5799,25.5726, 25.5655,25.5579,25.5457,25.5382,25.5261 ,26.144,26.3868,26.7832,27.1353,27.6401 ,27.7944,27.7871,27.7794,27.768,27.7612 ,27.7541,27.7442,27.7367,27.729,27.7228 ,27.7163,27.7088,27.702,27.6915,27.6847 ,27.6794,27.6725,27.6649,27.6526, 27.6452,27.6382,27.6275,27.6201,27.6124 ,27.6016,27.5959,27.5886,27.5814, 27.5736,27.5652,27.555,27.5475,27.5399, 27.5332,27.5253,27.5136,27.5055,27.4975 ,27.4858,27.4777,27.4693,27.4609, 27.4529,27.4472,27.4355,27.427,26.923)
ORBIT_NUMBER = 7468
ORBITAL_ECCENTRICITY = 0.57
ORBITAL_INCLINATION = 86.82
ORBITAL_SEMIMAJOR_AXIS = 8717.42
PERIAPSIS_ALTITUDE = 362.05
PERIAPSIS_ARGUMENT_ANGLE = 128.34
PERIAPSIS_TIME = 2009-10-29T10:23:55.000Z
SPACECRAFT_ORIENTATION = (0.0,-1.0,0.0)
^MEX_ORIENTATION_DESC = "MEX_ORIENTATION_DESC.TXT"
SPACECRAFT_POINTING_MODE = ACROSSTRACK
^MEX_POINTING_DESC = "MEX_POINTING_DESC.TXT"
RIGHT_ASCENSION = -1e+32
DECLINATION = -1e+32
OFFSET_ANGLE = -0.2
SPACECRAFT_SOLAR_DISTANCE = 2.33538e+08
TARGET_NAME = MARS
/* CAMERA DATA ELEMENTS */
DETECTOR_TEMPERATURE = 18.3705
FOCAL_PLANE_TEMPERATURE = 7.9716
INST_CMPRS_NAME = "DISCRETE COSINE TRANSFORMATION (DCT)"
INST_CMPRS_RATIO = 12.4427
INST_CMPRS_QUALITY = 0
INST_CMPRS_QUANTZ_TBL_ID = 0
INSTRUMENT_TEMPERATURE = 11.234
LENS_TEMPERATURE = 8.3794
MACROPIXEL_SIZE = 2
MISSING_FRAMES = 0
PIXEL_SUBSAMPLING_FLAG = N
SIGNAL_CHAIN_ID = 1
/* RADIOMETRIC DATA ELEMENTS */
BANDWIDTH = 178.0
CENTER_FILTER_WAVELENGTH = 679.0
RADIANCE_OFFSET = 4.80412
RADIANCE_SCALING_FACTOR = 0.0298744
REFLECTANCE_SCALING_FACTOR = 0.000862871
MEX:REFLECTANCE_OFFSET = 0.138759
/* IMAGE OBJECT DEFINITIONS */
OBJECT = IMAGE
  INTERCHANGE_FORMAT = BINARY
  LINES = 37655
  LINE_SAMPLES = 4717
  SAMPLE_TYPE = UNSIGNED_INTEGER
  SAMPLE_BITS = 8
  BANDS = 1
  BAND_STORAGE_TYPE = BAND_SEQUENTIAL
  MAXIMUM = 255
  MEAN = 162.773
  MINIMUM = 1
  STANDARD_DEVIATION = 23.3211
END_OBJECT = IMAGE
/* MAP OBJECT DEFINITIONS */
OBJECT = IMAGE_MAP_PROJECTION
  ^DATA_SET_MAP_PROJECTION_CATALOG= "DSMAP.CAT"
  A_AXIS_RADIUS = 3396.0
  B_AXIS_RADIUS = 3396.0
  C_AXIS_RADIUS = 3396.0
  CENTER_LATITUDE = 0.0
  CENTER_LONGITUDE = 27.0
  COORDINATE_SYSTEM_NAME = PLANETOGRAPHIC
  COORDINATE_SYSTEM_TYPE = "BODY-FIXED ROTATING"
  EASTERNMOST_LONGITUDE = 27.7944
  FIRST_STANDARD_PARALLEL = "N/A"
  LINE_FIRST_PIXEL = 1
  LINE_LAST_PIXEL = 37655
  LINE_PROJECTION_OFFSET = 88604.75
  MAP_PROJECTION_ROTATION = 0.0
  MAP_PROJECTION_TYPE = SINUSOIDAL
  MAP_RESOLUTION = 2370.85521546667
  MAP_SCALE = 0.025
  MAXIMUM_LATITUDE = 37.3384
  MINIMUM_LATITUDE = 21.4881
  POSITIVE_LONGITUDE_DIRECTION = EAST
  REFERENCE_LATITUDE = "N/A"
  REFERENCE_LONGITUDE = "N/A"
  SAMPLE_FIRST_PIXEL = 1
  SAMPLE_LAST_PIXEL = 4717
  SAMPLE_PROJECTION_OFFSET = 3127.75
  SECOND_STANDARD_PARALLEL = "N/A"
  WESTERNMOST_LONGITUDE = 25.5261
END_OBJECT = IMAGE_MAP_PROJECTION
/* The JPEG2000 image data file associated with this label. */
OBJECT = COMPRESSED_FILE
  FILE_NAME = "H7468_0000_S23.JP2"
  RECORD_TYPE = UNDEFINED
  FILE_RECORDS = UNK
  ENCODING_TYPE = "JP2"
  INTERCHANGE_FORMAT = BINARY
  UNCOMPRESSED_FILE_NAME = "H7468_0000_S23.IMG"
  REQUIRED_STORAGE_BYTES = "177642220"
  ^DESCRIPTION = "JP2INFO.TXT"
END_OBJECT = COMPRESSED_FILE
END
