PDS_VERSION_ID = PDS3
/* FILE DATA ELEMENTS */
RECORD_TYPE = STREAM
/* POINTERS TO DATA OBJECTS */
^COMPRESSED_FILE = "H7477_0000_ND3.JP2"
/* IDENTIFICATION DATA ELEMENTS */
DATA_SET_ID = "MEX-M-HRSC-5-REFDR-MAPPROJECTED-V3.0"
DATA_SET_NAME = "MARS EXPRESS HRSC MAP PROJECTED REFDR V3.0"
DETECTOR_ID = MEX_HRSC_NADIR
EVENT_TYPE = "MARS-REGIONAL-MAPPING-Vo-Pf"
INSTRUMENT_HOST_ID = MEX
INSTRUMENT_HOST_NAME = "MARS EXPRESS"
INSTRUMENT_ID = HRSC
INSTRUMENT_NAME = "HIGH RESOLUTION STEREO CAMERA"
MISSION_NAME = "MARS EXPRESS"
MISSION_PHASE_NAME = ME_Phase_18
PROCESSING_LEVEL_ID = 3
PRODUCT_CREATION_TIME = 2016-07-01T01:18:39.000Z
PRODUCT_ID = "H7477_0000_ND3.JP2"
RELEASE_ID = 0082
REVISION_ID = 0000
/* QUALITY DATA ELEMENTS */
DATA_QUALITY_ID = 1
DATA_QUALITY_DESC = "Data calculated based on original SPICE kernels"
/* TIME DATA ELEMENTS */
SPACECRAFT_CLOCK_START_COUNT = "1/0205115294.09052"
SPACECRAFT_CLOCK_STOP_COUNT = "1/0205115612.14395"
START_TIME = 2009-11-01T00:28:49.632Z
STOP_TIME = 2009-11-01T00:32:48.607Z
/* ORBITAL DATA ELEMENTS */
ASCENDING_NODE_LONGITUDE = 74.71
MAXIMUM_RESOLUTION = 14.7
FOOTPRINT_POINT_LATITUDE = (48.6915,48.6787,48.6582,48.6376, 48.1156,47.5938,47.0723,46.5511,46.2483 ,45.9376,45.627,45.3165,45.0062,44.6961 ,44.3861,44.0763,43.7667,43.4573,43.148 ,42.839,42.5301,42.2215,41.9131,41.6049 ,41.297,40.9893,40.6819,40.3747,40.0677 ,39.7611,39.4547,39.1486,38.8427, 38.5372,38.2319,37.927,37.6224,37.3181, 37.0082,36.6963,36.3848,36.0737,35.7629 ,35.445,35.1268,34.809,34.4917,34.1695, 33.8448,33.5207,33.5158,33.5215,33.5252 ,33.8501,34.1755,34.4988,34.8168, 35.1353,35.4542,35.7732,36.0846,36.3965 ,36.7087,37.0212,37.3322,37.6371, 37.9424,38.2481,38.554,38.8602,39.1667, 39.4735,39.7806,40.088,40.3956,40.7035, 41.0117,41.3201,41.6288,41.9377,42.2468 ,42.5562,42.8658,43.1756,43.4856, 43.7959,44.1063,44.4169,44.7277,45.0386 ,45.3498,45.6611,45.9725,46.2841, 46.5902,47.1129,47.636,48.1594,48.4212, 48.6915)
FOOTPRINT_POINT_LONGITUDE = (199.237,198.722,198.039,197.421, 197.464,197.505,197.544,197.581,197.602 ,197.623,197.643,197.663,197.682,197.7, 197.718,197.736,197.752,197.769,197.784 ,197.8,197.814,197.829,197.842,197.856, 197.868,197.881,197.893,197.904,197.915 ,197.926,197.936,197.945,197.955, 197.964,197.972,197.981,197.988,197.996 ,198.003,198.01,198.016,198.022,198.028 ,198.034,198.039,198.044,198.048, 198.052,198.056,198.06,198.794,199.343, 199.917,199.91,199.902,199.894,199.887, 199.879,199.871,199.863,199.855,199.847 ,199.839,199.83,199.822,199.813,199.804 ,199.796,199.787,199.777,199.768, 199.759,199.749,199.739,199.729,199.719 ,199.709,199.698,199.687,199.676, 199.665,199.654,199.642,199.63,199.618, 199.606,199.594,199.581,199.568,199.555 ,199.541,199.528,199.514,199.499, 199.485,199.46,199.434,199.407,199.394, 199.237)
ORBIT_NUMBER = 7477
ORBITAL_ECCENTRICITY = 0.57
ORBITAL_INCLINATION = 86.83
ORBITAL_SEMIMAJOR_AXIS = 8710.11
PERIAPSIS_ALTITUDE = 362.59
PERIAPSIS_ARGUMENT_ANGLE = 126.76
PERIAPSIS_TIME = 2009-11-01T00:27:40.000Z
SPACECRAFT_ORIENTATION = (0.0,-1.0,0.0)
^MEX_ORIENTATION_DESC = "MEX_ORIENTATION_DESC.TXT"
SPACECRAFT_POINTING_MODE = ACROSSTRACK
^MEX_POINTING_DESC = "MEX_POINTING_DESC.TXT"
RIGHT_ASCENSION = -1e+32
DECLINATION = -1e+32
OFFSET_ANGLE = -0.15
SPACECRAFT_SOLAR_DISTANCE = 2.3401e+08
TARGET_NAME = MARS
/* CAMERA DATA ELEMENTS */
DETECTOR_TEMPERATURE = 18.1666
FOCAL_PLANE_TEMPERATURE = 8.1755
INST_CMPRS_NAME = "DISCRETE COSINE TRANSFORMATION (DCT)"
INST_CMPRS_RATIO = 7.0382
INST_CMPRS_QUALITY = 0
INST_CMPRS_QUANTZ_TBL_ID = 0
INSTRUMENT_TEMPERATURE = 11.234
LENS_TEMPERATURE = 8.5833
MACROPIXEL_SIZE = 1
MISSING_FRAMES = 0
PIXEL_SUBSAMPLING_FLAG = N
SIGNAL_CHAIN_ID = 0
/* RADIOMETRIC DATA ELEMENTS */
BANDWIDTH = 177.0
CENTER_FILTER_WAVELENGTH = 677.5
RADIANCE_OFFSET = 4.06728
RADIANCE_SCALING_FACTOR = 0.0189407
REFLECTANCE_SCALING_FACTOR = 0.000551
MEX:REFLECTANCE_OFFSET = 0.11832
/* IMAGE OBJECT DEFINITIONS */
OBJECT = IMAGE
  INTERCHANGE_FORMAT = BINARY
  LINES = 72022
  LINE_SAMPLES = 8640
  SAMPLE_TYPE = UNSIGNED_INTEGER
  SAMPLE_BITS = 8
  BANDS = 1
  BAND_STORAGE_TYPE = BAND_SEQUENTIAL
  MAXIMUM = 255
  MEAN = 152.844
  MINIMUM = 1
  STANDARD_DEVIATION = 32.3472
END_OBJECT = IMAGE
/* MAP OBJECT DEFINITIONS */
OBJECT = IMAGE_MAP_PROJECTION
  ^DATA_SET_MAP_PROJECTION_CATALOG= "DSMAP.CAT"
  A_AXIS_RADIUS = 3396.0
  B_AXIS_RADIUS = 3396.0
  C_AXIS_RADIUS = 3396.0
  CENTER_LATITUDE = 0.0
  CENTER_LONGITUDE = 199.0
  COORDINATE_SYSTEM_NAME = PLANETOGRAPHIC
  COORDINATE_SYSTEM_TYPE = "BODY-FIXED ROTATING"
  EASTERNMOST_LONGITUDE = 199.917
  FIRST_STANDARD_PARALLEL = "N/A"
  LINE_FIRST_PIXEL = 1
  LINE_LAST_PIXEL = 72022
  LINE_PROJECTION_OFFSET = 230892.0
  MAP_PROJECTION_ROTATION = 0.0
  MAP_PROJECTION_TYPE = SINUSOIDAL
  MAP_RESOLUTION = 4741.71043093333
  MAP_SCALE = 0.0125
  MAXIMUM_LATITUDE = 48.6915
  MINIMUM_LATITUDE = 33.5158
  POSITIVE_LONGITUDE_DIRECTION = EAST
  REFERENCE_LATITUDE = "N/A"
  REFERENCE_LONGITUDE = "N/A"
  SAMPLE_FIRST_PIXEL = 1
  SAMPLE_LAST_PIXEL = 8640
  SAMPLE_PROJECTION_OFFSET = 4997.0
  SECOND_STANDARD_PARALLEL = "N/A"
  WESTERNMOST_LONGITUDE = 197.421
END_OBJECT = IMAGE_MAP_PROJECTION
/* The JPEG2000 image data file associated with this label. */
OBJECT = COMPRESSED_FILE
  FILE_NAME = "H7477_0000_ND3.JP2"
  RECORD_TYPE = UNDEFINED
  FILE_RECORDS = UNK
  ENCODING_TYPE = "JP2"
  INTERCHANGE_FORMAT = BINARY
  UNCOMPRESSED_FILE_NAME = "H7477_0000_ND3.IMG"
  REQUIRED_STORAGE_BYTES = "622304640"
  ^DESCRIPTION = "JP2INFO.TXT"
END_OBJECT = COMPRESSED_FILE
END
