PDS_VERSION_ID = PDS3
/* FILE DATA ELEMENTS */
RECORD_TYPE = STREAM
/* POINTERS TO DATA OBJECTS */
^COMPRESSED_FILE = "H7477_0000_P23.JP2"
/* IDENTIFICATION DATA ELEMENTS */
DATA_SET_ID = "MEX-M-HRSC-5-REFDR-MAPPROJECTED-V3.0"
DATA_SET_NAME = "MARS EXPRESS HRSC MAP PROJECTED REFDR V3.0"
DETECTOR_ID = MEX_HRSC_P2
EVENT_TYPE = "MARS-REGIONAL-MAPPING-Vo-Pf"
INSTRUMENT_HOST_ID = MEX
INSTRUMENT_HOST_NAME = "MARS EXPRESS"
INSTRUMENT_ID = HRSC
INSTRUMENT_NAME = "HIGH RESOLUTION STEREO CAMERA"
MISSION_NAME = "MARS EXPRESS"
MISSION_PHASE_NAME = ME_Phase_18
PROCESSING_LEVEL_ID = 3
PRODUCT_CREATION_TIME = 2016-07-01T01:18:39.000Z
PRODUCT_ID = "H7477_0000_P23.JP2"
RELEASE_ID = 0082
REVISION_ID = 0000
/* QUALITY DATA ELEMENTS */
DATA_QUALITY_ID = 1
DATA_QUALITY_DESC = "Data calculated based on original SPICE kernels"
/* TIME DATA ELEMENTS */
SPACECRAFT_CLOCK_START_COUNT = "1/0205115294.09052"
SPACECRAFT_CLOCK_STOP_COUNT = "1/0205115612.14395"
START_TIME = 2009-11-01T00:29:11.614Z
STOP_TIME = 2009-11-01T00:33:17.014Z
/* ORBITAL DATA ELEMENTS */
ASCENDING_NODE_LONGITUDE = 74.71
MAXIMUM_RESOLUTION = 30.7
FOOTPRINT_POINT_LATITUDE = (48.6394,48.6281,48.6135,48.6593, 48.1444,47.7216,47.4149,47.1088,46.8029 ,46.4973,46.1919,45.8869,45.43,45.1256, 44.8218,44.5184,44.2152,43.9124,43.6099 ,43.3079,43.0062,42.7049,42.404,42.1035 ,41.8034,41.5037,41.2045,40.9057, 40.6073,40.3094,40.0119,39.7148,39.4182 ,39.122,38.6744,38.3713,38.0689,37.7669 ,37.4656,37.0049,36.6969,36.3894, 36.0825,35.7689,35.4554,35.1425,34.6701 ,34.351,34.0325,33.7143,33.5217,33.5254 ,33.5268,33.5279,33.8518,34.1706, 34.4901,34.9678,35.2811,35.5951,35.9096 ,36.3747,36.6829,36.9915,37.4541, 37.7561,38.0587,38.3619,38.6656,38.9666 ,39.2631,39.5602,39.8577,40.1557, 40.4541,40.753,41.0523,41.3521,41.6521, 41.9527,42.2537,42.5552,42.8567,43.1592 ,43.4619,43.7649,44.0681,44.372,44.676, 44.9807,45.2855,45.7435,46.0491,46.3552 ,46.8149,47.2753,47.5825,48.036,48.2941 ,48.6394)
FOOTPRINT_POINT_LONGITUDE = (199.124,198.594,198.007,197.408, 197.449,197.482,197.505,197.528,197.549 ,197.57,197.591,197.611,197.639,197.658 ,197.676,197.693,197.71,197.726,197.742 ,197.757,197.772,197.786,197.799, 197.813,197.825,197.838,197.85,197.861, 197.872,197.882,197.892,197.902,197.911 ,197.92,197.933,197.941,197.949,197.957 ,197.963,197.973,197.98,197.986,197.991 ,197.996,198.001,198.006,198.012, 198.015,198.019,198.022,198.342,198.941 ,199.277,199.799,199.947,199.939, 199.931,199.918,199.91,199.901,199.893, 199.88,199.871,199.862,199.849,199.84, 199.83,199.821,199.812,199.802,199.792, 199.783,199.773,199.763,199.753,199.742 ,199.732,199.721,199.71,199.699,199.687 ,199.676,199.664,199.652,199.64,199.628 ,199.615,199.602,199.589,199.576, 199.562,199.541,199.527,199.512,199.49, 199.467,199.452,199.428,199.414, 199.124)
ORBIT_NUMBER = 7477
ORBITAL_ECCENTRICITY = 0.57
ORBITAL_INCLINATION = 86.83
ORBITAL_SEMIMAJOR_AXIS = 8710.11
PERIAPSIS_ALTITUDE = 362.59
PERIAPSIS_ARGUMENT_ANGLE = 126.76
PERIAPSIS_TIME = 2009-11-01T00:27:40.000Z
SPACECRAFT_ORIENTATION = (0.0,-1.0,0.0)
^MEX_ORIENTATION_DESC = "MEX_ORIENTATION_DESC.TXT"
SPACECRAFT_POINTING_MODE = ACROSSTRACK
^MEX_POINTING_DESC = "MEX_POINTING_DESC.TXT"
RIGHT_ASCENSION = -1e+32
DECLINATION = -1e+32
OFFSET_ANGLE = -0.15
SPACECRAFT_SOLAR_DISTANCE = 2.3401e+08
TARGET_NAME = MARS
/* CAMERA DATA ELEMENTS */
DETECTOR_TEMPERATURE = 18.3705
FOCAL_PLANE_TEMPERATURE = 8.1755
INST_CMPRS_NAME = "DISCRETE COSINE TRANSFORMATION (DCT)"
INST_CMPRS_RATIO = 8.64635
INST_CMPRS_QUALITY = 0
INST_CMPRS_QUANTZ_TBL_ID = 0
INSTRUMENT_TEMPERATURE = 11.234
LENS_TEMPERATURE = 8.5833
MACROPIXEL_SIZE = 2
MISSING_FRAMES = 0
PIXEL_SUBSAMPLING_FLAG = N
SIGNAL_CHAIN_ID = 3
/* RADIOMETRIC DATA ELEMENTS */
BANDWIDTH = 177.0
CENTER_FILTER_WAVELENGTH = 676.5
RADIANCE_OFFSET = 4.60306
RADIANCE_SCALING_FACTOR = 0.0185821
REFLECTANCE_SCALING_FACTOR = 0.000539541
MEX:REFLECTANCE_OFFSET = 0.133652
/* IMAGE OBJECT DEFINITIONS */
OBJECT = IMAGE
  INTERCHANGE_FORMAT = BINARY
  LINES = 36011
  LINE_SAMPLES = 4320
  SAMPLE_TYPE = UNSIGNED_INTEGER
  SAMPLE_BITS = 8
  BANDS = 1
  BAND_STORAGE_TYPE = BAND_SEQUENTIAL
  MAXIMUM = 255
  MEAN = 147.007
  MINIMUM = 1
  STANDARD_DEVIATION = 31.7523
END_OBJECT = IMAGE
/* MAP OBJECT DEFINITIONS */
OBJECT = IMAGE_MAP_PROJECTION
  ^DATA_SET_MAP_PROJECTION_CATALOG= "DSMAP.CAT"
  A_AXIS_RADIUS = 3396.0
  B_AXIS_RADIUS = 3396.0
  C_AXIS_RADIUS = 3396.0
  CENTER_LATITUDE = 0.0
  CENTER_LONGITUDE = 199.0
  COORDINATE_SYSTEM_NAME = PLANETOGRAPHIC
  COORDINATE_SYSTEM_TYPE = "BODY-FIXED ROTATING"
  EASTERNMOST_LONGITUDE = 199.947
  FIRST_STANDARD_PARALLEL = "N/A"
  LINE_FIRST_PIXEL = 1
  LINE_LAST_PIXEL = 36011
  LINE_PROJECTION_OFFSET = 115445.75
  MAP_PROJECTION_ROTATION = 0.0
  MAP_PROJECTION_TYPE = SINUSOIDAL
  MAP_RESOLUTION = 2370.85521546667
  MAP_SCALE = 0.025
  MAXIMUM_LATITUDE = 48.6593
  MINIMUM_LATITUDE = 33.5217
  POSITIVE_LONGITUDE_DIRECTION = EAST
  REFERENCE_LATITUDE = "N/A"
  REFERENCE_LONGITUDE = "N/A"
  SAMPLE_FIRST_PIXEL = 1
  SAMPLE_LAST_PIXEL = 4320
  SAMPLE_PROJECTION_OFFSET = 2498.25
  SECOND_STANDARD_PARALLEL = "N/A"
  WESTERNMOST_LONGITUDE = 197.408
END_OBJECT = IMAGE_MAP_PROJECTION
/* The JPEG2000 image data file associated with this label. */
OBJECT = COMPRESSED_FILE
  FILE_NAME = "H7477_0000_P23.JP2"
  RECORD_TYPE = UNDEFINED
  FILE_RECORDS = UNK
  ENCODING_TYPE = "JP2"
  INTERCHANGE_FORMAT = BINARY
  UNCOMPRESSED_FILE_NAME = "H7477_0000_P23.IMG"
  REQUIRED_STORAGE_BYTES = "155593440"
  ^DESCRIPTION = "JP2INFO.TXT"
END_OBJECT = COMPRESSED_FILE
END
