PDS_VERSION_ID = PDS3
/* FILE DATA ELEMENTS */
RECORD_TYPE = STREAM
/* POINTERS TO DATA OBJECTS */
^COMPRESSED_FILE = "H7477_0000_S23.JP2"
/* IDENTIFICATION DATA ELEMENTS */
DATA_SET_ID = "MEX-M-HRSC-5-REFDR-MAPPROJECTED-V3.0"
DATA_SET_NAME = "MARS EXPRESS HRSC MAP PROJECTED REFDR V3.0"
DETECTOR_ID = MEX_HRSC_S2
EVENT_TYPE = "MARS-REGIONAL-MAPPING-Vo-Pf"
INSTRUMENT_HOST_ID = MEX
INSTRUMENT_HOST_NAME = "MARS EXPRESS"
INSTRUMENT_ID = HRSC
INSTRUMENT_NAME = "HIGH RESOLUTION STEREO CAMERA"
MISSION_NAME = "MARS EXPRESS"
MISSION_PHASE_NAME = ME_Phase_18
PROCESSING_LEVEL_ID = 3
PRODUCT_CREATION_TIME = 2016-07-01T01:18:39.000Z
PRODUCT_ID = "H7477_0000_S23.JP2"
RELEASE_ID = 0082
REVISION_ID = 0000
/* QUALITY DATA ELEMENTS */
DATA_QUALITY_ID = 1
DATA_QUALITY_DESC = "Data calculated based on original SPICE kernels"
/* TIME DATA ELEMENTS */
SPACECRAFT_CLOCK_START_COUNT = "1/0205115294.09052"
SPACECRAFT_CLOCK_STOP_COUNT = "1/0205115612.14395"
START_TIME = 2009-11-01T00:29:23.662Z
STOP_TIME = 2009-11-01T00:33:32.741Z
/* ORBITAL DATA ELEMENTS */
ASCENDING_NODE_LONGITUDE = 74.71
MAXIMUM_RESOLUTION = 31.9
FOOTPRINT_POINT_LATITUDE = (48.5929,48.5775,48.5642,48.3447,48.04, 47.7356,47.4316,47.1281,46.8252,46.5224 ,46.2199,45.9183,45.6166,45.3156, 45.0148,44.7146,44.415,44.1156,43.8168, 43.5184,43.2206,42.9231,42.6263,42.3298 ,42.0339,41.7384,41.4434,41.149,40.8552 ,40.5619,40.2691,39.6852,39.3865, 38.9388,38.6414,38.3441,37.8909,37.5877 ,37.2852,36.9833,36.6755,36.3671, 36.0594,35.5957,35.2822,34.9696,34.6579 ,34.3393,34.0215,33.7044,33.5385, 33.5395,33.5399,33.5396,34.0177,34.3364 ,34.6559,34.9686,35.282,35.5962,36.0612 ,36.3694,36.6787,36.9874,37.29,37.5934, 37.8972,38.3519,38.6496,38.9478,39.3964 ,39.6958,39.9884,40.2813,40.5749, 40.8689,41.1636,41.4587,41.7543,42.0503 ,42.3472,42.6443,42.9418,43.2402,43.539 ,43.838,44.1375,44.4378,44.8888,45.1899 ,45.6429,45.9451,46.3996,46.7028, 47.0068,47.3111,47.6155,47.9207,48.2257 ,48.5929)
FOOTPRINT_POINT_LONGITUDE = (199.228,198.397,197.804,197.426,197.45 ,197.473,197.496,197.518,197.539,197.56 ,197.58,197.599,197.618,197.637,197.655 ,197.672,197.688,197.704,197.72,197.735 ,197.75,197.764,197.777,197.79,197.803, 197.815,197.827,197.838,197.849,197.86, 197.87,197.888,197.897,197.91,197.918, 197.926,197.937,197.944,197.95,197.956, 197.962,197.968,197.973,197.98,197.984, 197.988,197.992,197.995,197.998,198.0, 198.29,198.732,199.306,199.688,199.969, 199.96,199.952,199.943,199.934,199.926, 199.912,199.903,199.894,199.885,199.876 ,199.866,199.857,199.842,199.833, 199.823,199.808,199.798,199.788,199.777 ,199.767,199.756,199.746,199.735, 199.723,199.712,199.701,199.689,199.677 ,199.665,199.653,199.64,199.627,199.614 ,199.594,199.581,199.56,199.546,199.524 ,199.509,199.494,199.478,199.462, 199.446,199.43,199.228)
ORBIT_NUMBER = 7477
ORBITAL_ECCENTRICITY = 0.57
ORBITAL_INCLINATION = 86.83
ORBITAL_SEMIMAJOR_AXIS = 8710.11
PERIAPSIS_ALTITUDE = 362.59
PERIAPSIS_ARGUMENT_ANGLE = 126.76
PERIAPSIS_TIME = 2009-11-01T00:27:40.000Z
SPACECRAFT_ORIENTATION = (0.0,-1.0,0.0)
^MEX_ORIENTATION_DESC = "MEX_ORIENTATION_DESC.TXT"
SPACECRAFT_POINTING_MODE = ACROSSTRACK
^MEX_POINTING_DESC = "MEX_POINTING_DESC.TXT"
RIGHT_ASCENSION = -1e+32
DECLINATION = -1e+32
OFFSET_ANGLE = -0.15
SPACECRAFT_SOLAR_DISTANCE = 2.3401e+08
TARGET_NAME = MARS
/* CAMERA DATA ELEMENTS */
DETECTOR_TEMPERATURE = 18.3705
FOCAL_PLANE_TEMPERATURE = 8.1755
INST_CMPRS_NAME = "DISCRETE COSINE TRANSFORMATION (DCT)"
INST_CMPRS_RATIO = 14.1429
INST_CMPRS_QUALITY = 0
INST_CMPRS_QUANTZ_TBL_ID = 0
INSTRUMENT_TEMPERATURE = 11.234
LENS_TEMPERATURE = 8.5833
MACROPIXEL_SIZE = 2
MISSING_FRAMES = 0
PIXEL_SUBSAMPLING_FLAG = N
SIGNAL_CHAIN_ID = 1
/* RADIOMETRIC DATA ELEMENTS */
BANDWIDTH = 178.0
CENTER_FILTER_WAVELENGTH = 679.0
RADIANCE_OFFSET = 4.81517
RADIANCE_SCALING_FACTOR = 0.0198432
REFLECTANCE_SCALING_FACTOR = 0.000575455
MEX:REFLECTANCE_OFFSET = 0.139641
/* IMAGE OBJECT DEFINITIONS */
OBJECT = IMAGE
  INTERCHANGE_FORMAT = BINARY
  LINES = 36011
  LINE_SAMPLES = 4320
  SAMPLE_TYPE = UNSIGNED_INTEGER
  SAMPLE_BITS = 8
  BANDS = 1
  BAND_STORAGE_TYPE = BAND_SEQUENTIAL
  MAXIMUM = 255
  MEAN = 148.764
  MINIMUM = 1
  STANDARD_DEVIATION = 31.3724
END_OBJECT = IMAGE
/* MAP OBJECT DEFINITIONS */
OBJECT = IMAGE_MAP_PROJECTION
  ^DATA_SET_MAP_PROJECTION_CATALOG= "DSMAP.CAT"
  A_AXIS_RADIUS = 3396.0
  B_AXIS_RADIUS = 3396.0
  C_AXIS_RADIUS = 3396.0
  CENTER_LATITUDE = 0.0
  CENTER_LONGITUDE = 199.0
  COORDINATE_SYSTEM_NAME = PLANETOGRAPHIC
  COORDINATE_SYSTEM_TYPE = "BODY-FIXED ROTATING"
  EASTERNMOST_LONGITUDE = 199.969
  FIRST_STANDARD_PARALLEL = "N/A"
  LINE_FIRST_PIXEL = 1
  LINE_LAST_PIXEL = 36011
  LINE_PROJECTION_OFFSET = 115445.75
  MAP_PROJECTION_ROTATION = 0.0
  MAP_PROJECTION_TYPE = SINUSOIDAL
  MAP_RESOLUTION = 2370.85521546667
  MAP_SCALE = 0.025
  MAXIMUM_LATITUDE = 48.5929
  MINIMUM_LATITUDE = 33.5385
  POSITIVE_LONGITUDE_DIRECTION = EAST
  REFERENCE_LATITUDE = "N/A"
  REFERENCE_LONGITUDE = "N/A"
  SAMPLE_FIRST_PIXEL = 1
  SAMPLE_LAST_PIXEL = 4320
  SAMPLE_PROJECTION_OFFSET = 2498.25
  SECOND_STANDARD_PARALLEL = "N/A"
  WESTERNMOST_LONGITUDE = 197.426
END_OBJECT = IMAGE_MAP_PROJECTION
/* The JPEG2000 image data file associated with this label. */
OBJECT = COMPRESSED_FILE
  FILE_NAME = "H7477_0000_S23.JP2"
  RECORD_TYPE = UNDEFINED
  FILE_RECORDS = UNK
  ENCODING_TYPE = "JP2"
  INTERCHANGE_FORMAT = BINARY
  UNCOMPRESSED_FILE_NAME = "H7477_0000_S23.IMG"
  REQUIRED_STORAGE_BYTES = "155593440"
  ^DESCRIPTION = "JP2INFO.TXT"
END_OBJECT = COMPRESSED_FILE
END
