PDS_VERSION_ID = PDS3
/* FILE DATA ELEMENTS */
RECORD_TYPE = STREAM
/* POINTERS TO DATA OBJECTS */
^COMPRESSED_FILE = "H7479_0000_P13.JP2"
/* IDENTIFICATION DATA ELEMENTS */
DATA_SET_ID = "MEX-M-HRSC-5-REFDR-MAPPROJECTED-V3.0"
DATA_SET_NAME = "MARS EXPRESS HRSC MAP PROJECTED REFDR V3.0"
DETECTOR_ID = MEX_HRSC_P1
EVENT_TYPE = "MARS-REGIONAL-MAPPING-Gl-Pf-La"
INSTRUMENT_HOST_ID = MEX
INSTRUMENT_HOST_NAME = "MARS EXPRESS"
INSTRUMENT_ID = HRSC
INSTRUMENT_NAME = "HIGH RESOLUTION STEREO CAMERA"
MISSION_NAME = "MARS EXPRESS"
MISSION_PHASE_NAME = ME_Phase_18
PROCESSING_LEVEL_ID = 3
PRODUCT_CREATION_TIME = 2016-07-01T01:18:39.000Z
PRODUCT_ID = "H7479_0000_P13.JP2"
RELEASE_ID = 0082
REVISION_ID = 0000
/* QUALITY DATA ELEMENTS */
DATA_QUALITY_ID = 1
DATA_QUALITY_DESC = "Data calculated based on original SPICE kernels"
/* TIME DATA ELEMENTS */
SPACECRAFT_CLOCK_START_COUNT = "1/0205165054.09063"
SPACECRAFT_CLOCK_STOP_COUNT = "1/0205165504.58823"
START_TIME = 2009-11-01T14:17:48.267Z
STOP_TIME = 2009-11-01T14:23:21.494Z
/* ORBITAL DATA ELEMENTS */
ASCENDING_NODE_LONGITUDE = 74.68
MAXIMUM_RESOLUTION = 31.6
FOOTPRINT_POINT_LATITUDE = (41.9582,41.9667,41.972,41.974,41.5403, 40.9694,40.5875,40.2065,39.8259,39.2553 ,38.873,38.4929,38.1089,37.7336,37.3535 ,36.9745,36.5947,36.2073,35.8174, 35.4286,35.0413,34.6455,34.2466,33.6494 ,33.2458,32.8395,32.4355,31.8159,31.401 ,30.9858,30.5609,29.9245,29.2777, 28.8455,28.1856,27.7442,27.2958,26.8464 ,26.1616,25.4702,25.0039,24.5321, 24.0579,23.5767,22.8473,22.3573,21.8594 ,21.3569,20.85,20.7861,20.7782,20.7633, 20.7501,20.7347,21.2427,21.9969,22.74, 23.4735,23.9563,24.4305,24.9046,25.3719 ,25.836,26.2948,26.7521,27.2034,27.6525 ,28.3161,28.7576,29.1899,29.8387, 30.4767,30.902,31.3174,31.7345,32.1525, 32.5606,33.1682,33.5783,33.976,34.375, 34.7728,35.1606,35.5518,35.9398,36.5217 ,36.902,37.2858,37.6677,38.0485,38.4279 ,38.8099,39.1916,39.7628,40.1439,40.526 ,40.9082,41.2905,41.6728,41.9582)
FOOTPRINT_POINT_LONGITUDE = (359.174,358.629,358.076,357.533, 357.409,357.421,357.429,357.436,357.442 ,357.451,357.456,357.461,357.466, 357.469,357.472,357.475,357.478,357.48, 357.482,357.483,357.484,357.485,357.485 ,357.484,357.483,357.482,357.48,357.476 ,357.473,357.47,357.466,357.46,357.452, 357.447,357.437,357.43,357.423,357.415, 357.403,357.389,357.379,357.369,357.358 ,357.347,357.328,357.315,357.302, 357.288,357.273,357.672,357.995,358.544 ,358.894,359.377,359.375,359.372, 359.369,359.364,359.363,359.362,359.36, 359.358,359.357,359.356,359.353,359.351 ,359.35,359.347,359.344,359.343,359.34, 359.336,359.334,359.332,359.329,359.325 ,359.322,359.322,359.314,359.312, 359.309,359.308,359.31,359.305,359.304, 359.302,359.299,359.292,359.287,359.283 ,359.282,359.277,359.273,359.269, 359.265,359.261,359.257,359.252,359.248 ,359.174)
ORBIT_NUMBER = 7479
ORBITAL_ECCENTRICITY = 0.57
ORBITAL_INCLINATION = 86.83
ORBITAL_SEMIMAJOR_AXIS = 8711.57
PERIAPSIS_ALTITUDE = 363.13
PERIAPSIS_ARGUMENT_ANGLE = 126.4
PERIAPSIS_TIME = 2009-11-01T14:15:11.000Z
SPACECRAFT_ORIENTATION = (0.0,-1.0,0.0)
^MEX_ORIENTATION_DESC = "MEX_ORIENTATION_DESC.TXT"
SPACECRAFT_POINTING_MODE = ACROSSTRACK
^MEX_POINTING_DESC = "MEX_POINTING_DESC.TXT"
RIGHT_ASCENSION = -1e+32
DECLINATION = -1e+32
OFFSET_ANGLE = 0.74
SPACECRAFT_SOLAR_DISTANCE = 2.34115e+08
TARGET_NAME = MARS
/* CAMERA DATA ELEMENTS */
DETECTOR_TEMPERATURE = 17.7588
FOCAL_PLANE_TEMPERATURE = 7.7677
INST_CMPRS_NAME = "DISCRETE COSINE TRANSFORMATION (DCT)"
INST_CMPRS_RATIO = 12.5439
INST_CMPRS_QUALITY = 0
INST_CMPRS_QUANTZ_TBL_ID = 0
INSTRUMENT_TEMPERATURE = 11.0301
LENS_TEMPERATURE = 8.3794
MACROPIXEL_SIZE = 2
MISSING_FRAMES = 0
PIXEL_SUBSAMPLING_FLAG = N
SIGNAL_CHAIN_ID = 3
/* RADIOMETRIC DATA ELEMENTS */
BANDWIDTH = 174.0
CENTER_FILTER_WAVELENGTH = 675.0
RADIANCE_OFFSET = 3.59743
RADIANCE_SCALING_FACTOR = 0.0288978
REFLECTANCE_SCALING_FACTOR = 0.000851941
MEX:REFLECTANCE_OFFSET = 0.106057
/* IMAGE OBJECT DEFINITIONS */
OBJECT = IMAGE
  INTERCHANGE_FORMAT = BINARY
  LINES = 50196
  LINE_SAMPLES = 5039
  SAMPLE_TYPE = UNSIGNED_INTEGER
  SAMPLE_BITS = 8
  BANDS = 1
  BAND_STORAGE_TYPE = BAND_SEQUENTIAL
  MAXIMUM = 255
  MEAN = 122.844
  MINIMUM = 1
  STANDARD_DEVIATION = 38.4453
END_OBJECT = IMAGE
/* MAP OBJECT DEFINITIONS */
OBJECT = IMAGE_MAP_PROJECTION
  ^DATA_SET_MAP_PROJECTION_CATALOG= "DSMAP.CAT"
  A_AXIS_RADIUS = 3396.0
  B_AXIS_RADIUS = 3396.0
  C_AXIS_RADIUS = 3396.0
  CENTER_LATITUDE = 0.0
  CENTER_LONGITUDE = 358.0
  COORDINATE_SYSTEM_NAME = PLANETOGRAPHIC
  COORDINATE_SYSTEM_TYPE = "BODY-FIXED ROTATING"
  EASTERNMOST_LONGITUDE = 359.377
  FIRST_STANDARD_PARALLEL = "N/A"
  LINE_FIRST_PIXEL = 1
  LINE_LAST_PIXEL = 50196
  LINE_PROJECTION_OFFSET = 99423.75
  MAP_PROJECTION_ROTATION = 0.0
  MAP_PROJECTION_TYPE = SINUSOIDAL
  MAP_RESOLUTION = 2370.85521546667
  MAP_SCALE = 0.025
  MAXIMUM_LATITUDE = 41.974
  MINIMUM_LATITUDE = 20.7347
  POSITIVE_LONGITUDE_DIRECTION = EAST
  REFERENCE_LATITUDE = "N/A"
  REFERENCE_LONGITUDE = "N/A"
  SAMPLE_FIRST_PIXEL = 1
  SAMPLE_LAST_PIXEL = 5039
  SAMPLE_PROJECTION_OFFSET = 1757.75
  SECOND_STANDARD_PARALLEL = "N/A"
  WESTERNMOST_LONGITUDE = 357.273
END_OBJECT = IMAGE_MAP_PROJECTION
/* The JPEG2000 image data file associated with this label. */
OBJECT = COMPRESSED_FILE
  FILE_NAME = "H7479_0000_P13.JP2"
  RECORD_TYPE = UNDEFINED
  FILE_RECORDS = UNK
  ENCODING_TYPE = "JP2"
  INTERCHANGE_FORMAT = BINARY
  UNCOMPRESSED_FILE_NAME = "H7479_0000_P13.IMG"
  REQUIRED_STORAGE_BYTES = "252962839"
  ^DESCRIPTION = "JP2INFO.TXT"
END_OBJECT = COMPRESSED_FILE
END
