PDS_VERSION_ID = PDS3
/* FILE DATA ELEMENTS */
RECORD_TYPE = STREAM
/* POINTERS TO DATA OBJECTS */
^COMPRESSED_FILE = "H7480_0001_BL3.JP2"
/* IDENTIFICATION DATA ELEMENTS */
DATA_SET_ID = "MEX-M-HRSC-5-REFDR-MAPPROJECTED-V3.0"
DATA_SET_NAME = "MARS EXPRESS HRSC MAP PROJECTED REFDR V3.0"
DETECTOR_ID = MEX_HRSC_BLUE
EVENT_TYPE = "MARS-CLOUD-VARIABLE-At"
INSTRUMENT_HOST_ID = MEX
INSTRUMENT_HOST_NAME = "MARS EXPRESS"
INSTRUMENT_ID = HRSC
INSTRUMENT_NAME = "HIGH RESOLUTION STEREO CAMERA"
MISSION_NAME = "MARS EXPRESS"
MISSION_PHASE_NAME = ME_Phase_18
PROCESSING_LEVEL_ID = 3
PRODUCT_CREATION_TIME = 2016-07-01T01:18:39.000Z
PRODUCT_ID = "H7480_0001_BL3.JP2"
RELEASE_ID = 0082
REVISION_ID = 0000
/* QUALITY DATA ELEMENTS */
DATA_QUALITY_ID = 1
DATA_QUALITY_DESC = "Data calculated based on original SPICE kernels"
/* TIME DATA ELEMENTS */
SPACECRAFT_CLOCK_START_COUNT = "1/0205190405.07278"
SPACECRAFT_CLOCK_STOP_COUNT = "1/0205191521.56122"
START_TIME = 2009-11-01T21:21:27.971Z
STOP_TIME = 2009-11-01T21:33:39.834Z
/* ORBITAL DATA ELEMENTS */
ASCENDING_NODE_LONGITUDE = 74.66
MAXIMUM_RESOLUTION = 125.5
FOOTPRINT_POINT_LATITUDE = (9.62001,9.63724,9.65219,8.54199, 7.81883,7.09986,6.38717,5.67998,4.97886 ,4.28373,3.59457,2.91126,2.23401,1.5626 ,0.896961,0.237206,-0.416615,-1.06463, -1.70699,-2.34331,-2.97408,-3.59951, -4.2194,-4.83342,-5.44189,-6.04197, -6.64118,-7.23258,-7.81843,-8.39875, -8.97397,-9.5435,-10.1079,-10.6673, -11.2211,-11.77,-12.3137,-12.8525, -13.3863,-13.9151,-14.439,-14.9581, -15.4723,-15.9823,-16.9879,-17.9737, -18.9411,-19.8915,-20.2153,-20.271, -20.3165,-20.3609,-20.3931,-20.4211, -20.4363,-19.4805,-18.5071,-17.5158, -16.506,-15.4772,-14.9556,-14.4291, -13.8978,-13.3616,-12.8207,-12.2746, -11.7234,-11.1674,-10.6061,-10.0391, -9.46667,-8.88892,-8.30705,-7.71806, -7.12569,-6.22187,-5.61682,-5.00666, -4.38815,-3.76379,-3.13392,-2.49865, -1.85788,-1.21114,-0.559083,0.0988117, 0.762529,1.432,2.1074,2.78874,3.47597, 4.16905,4.8682,5.57329,6.28426,7.0013, 7.72431,8.45311,9.18799,9.62001)
FOOTPRINT_POINT_LONGITUDE = (257.259,256.421,255.638,255.377, 255.331,255.287,255.242,255.196,255.15, 255.102,255.054,255.005,254.956,254.906 ,254.855,254.803,254.751,254.698, 254.644,254.59,254.534,254.479,254.423, 254.367,254.309,254.248,254.192,254.132 ,254.071,254.01,253.948,253.885,253.822 ,253.759,253.694,253.629,253.564, 253.498,253.431,253.364,253.296,253.228 ,253.159,253.09,252.95,252.807,252.66, 252.513,253.508,254.484,255.399,256.437 ,257.357,258.342,259.044,258.989, 258.936,258.885,258.836,258.79,258.767, 258.746,258.724,258.704,258.683,258.663 ,258.643,258.623,258.604,258.587,258.57 ,258.554,258.536,258.522,258.505, 258.489,258.471,258.451,258.438,258.426 ,258.414,258.402,258.389,258.378, 258.366,258.354,258.342,258.331,258.32, 258.31,258.299,258.289,258.279,258.27, 258.261,258.252,258.243,258.234,258.225 ,257.259)
ORBIT_NUMBER = 7480
ORBITAL_ECCENTRICITY = 0.57
ORBITAL_INCLINATION = 86.82
ORBITAL_SEMIMAJOR_AXIS = 8715.42
PERIAPSIS_ALTITUDE = 362.55
PERIAPSIS_ARGUMENT_ANGLE = 126.22
PERIAPSIS_TIME = 2009-11-01T21:08:58.000Z
SPACECRAFT_ORIENTATION = (0.0,-1.0,0.0)
^MEX_ORIENTATION_DESC = "MEX_ORIENTATION_DESC.TXT"
SPACECRAFT_POINTING_MODE = ACROSSTRACK
^MEX_POINTING_DESC = "MEX_POINTING_DESC.TXT"
RIGHT_ASCENSION = -1e+32
DECLINATION = -1e+32
OFFSET_ANGLE = 0.33
SPACECRAFT_SOLAR_DISTANCE = 2.34167e+08
TARGET_NAME = MARS
/* CAMERA DATA ELEMENTS */
DETECTOR_TEMPERATURE = 19.7978
FOCAL_PLANE_TEMPERATURE = 8.3794
INST_CMPRS_NAME = "DISCRETE COSINE TRANSFORMATION (DCT)"
INST_CMPRS_RATIO = 32.5505
INST_CMPRS_QUALITY = 0
INST_CMPRS_QUANTZ_TBL_ID = 0
INSTRUMENT_TEMPERATURE = 13.273
LENS_TEMPERATURE = 8.5833
MACROPIXEL_SIZE = 4
MISSING_FRAMES = 0
PIXEL_SUBSAMPLING_FLAG = N
SIGNAL_CHAIN_ID = 2
/* RADIOMETRIC DATA ELEMENTS */
BANDWIDTH = 76.0
CENTER_FILTER_WAVELENGTH = 444.0
RADIANCE_OFFSET = 0.71898
RADIANCE_SCALING_FACTOR = 0.00261322
REFLECTANCE_SCALING_FACTOR = 0.000147228
MEX:REFLECTANCE_OFFSET = 0.0405069
/* IMAGE OBJECT DEFINITIONS */
OBJECT = IMAGE
  INTERCHANGE_FORMAT = BINARY
  LINES = 17833
  LINE_SAMPLES = 3719
  SAMPLE_TYPE = UNSIGNED_INTEGER
  SAMPLE_BITS = 8
  BANDS = 1
  BAND_STORAGE_TYPE = BAND_SEQUENTIAL
  MAXIMUM = 255
  MEAN = 138.68
  MINIMUM = 1
  STANDARD_DEVIATION = 49.457
END_OBJECT = IMAGE
/* MAP OBJECT DEFINITIONS */
OBJECT = IMAGE_MAP_PROJECTION
  ^DATA_SET_MAP_PROJECTION_CATALOG= "DSMAP.CAT"
  A_AXIS_RADIUS = 3396.0
  B_AXIS_RADIUS = 3396.0
  C_AXIS_RADIUS = 3396.0
  CENTER_LATITUDE = 0.0
  CENTER_LONGITUDE = 256.0
  COORDINATE_SYSTEM_NAME = PLANETOGRAPHIC
  COORDINATE_SYSTEM_TYPE = "BODY-FIXED ROTATING"
  EASTERNMOST_LONGITUDE = 259.044
  FIRST_STANDARD_PARALLEL = "N/A"
  LINE_FIRST_PIXEL = 1
  LINE_LAST_PIXEL = 17833
  LINE_PROJECTION_OFFSET = 5723.0
  MAP_PROJECTION_ROTATION = 0.0
  MAP_PROJECTION_TYPE = SINUSOIDAL
  MAP_RESOLUTION = 592.713803866667
  MAP_SCALE = 0.1
  MAXIMUM_LATITUDE = 9.652189999999999
  MINIMUM_LATITUDE = -20.4363
  POSITIVE_LONGITUDE_DIRECTION = EAST
  REFERENCE_LATITUDE = "N/A"
  REFERENCE_LONGITUDE = "N/A"
  SAMPLE_FIRST_PIXEL = 1
  SAMPLE_LAST_PIXEL = 3719
  SAMPLE_PROJECTION_OFFSET = 1989.0
  SECOND_STANDARD_PARALLEL = "N/A"
  WESTERNMOST_LONGITUDE = 252.513
END_OBJECT = IMAGE_MAP_PROJECTION
/* The JPEG2000 image data file associated with this label. */
OBJECT = COMPRESSED_FILE
  FILE_NAME = "H7480_0001_BL3.JP2"
  RECORD_TYPE = UNDEFINED
  FILE_RECORDS = UNK
  ENCODING_TYPE = "JP2"
  INTERCHANGE_FORMAT = BINARY
  UNCOMPRESSED_FILE_NAME = "H7480_0001_BL3.IMG"
  REQUIRED_STORAGE_BYTES = "66343241"
  ^DESCRIPTION = "JP2INFO.TXT"
END_OBJECT = COMPRESSED_FILE
END
