PDS_VERSION_ID = PDS3
/* FILE DATA ELEMENTS */
RECORD_TYPE = STREAM
/* POINTERS TO DATA OBJECTS */
^COMPRESSED_FILE = "H7488_0009_BL3.JP2"
/* IDENTIFICATION DATA ELEMENTS */
DATA_SET_ID = "MEX-M-HRSC-5-REFDR-MAPPROJECTED-V3.0"
DATA_SET_NAME = "MARS EXPRESS HRSC MAP PROJECTED REFDR V3.0"
DETECTOR_ID = MEX_HRSC_BLUE
EVENT_TYPE = "MARS-REGIONAL-MAPPING-Vo-Fl-Pf"
INSTRUMENT_HOST_ID = MEX
INSTRUMENT_HOST_NAME = "MARS EXPRESS"
INSTRUMENT_ID = HRSC
INSTRUMENT_NAME = "HIGH RESOLUTION STEREO CAMERA"
MISSION_NAME = "MARS EXPRESS"
MISSION_PHASE_NAME = ME_Phase_18
PROCESSING_LEVEL_ID = 3
PRODUCT_CREATION_TIME = 2016-07-01T01:18:39.000Z
PRODUCT_ID = "H7488_0009_BL3.JP2"
RELEASE_ID = 0082
REVISION_ID = 0000
/* QUALITY DATA ELEMENTS */
DATA_QUALITY_ID = 1
DATA_QUALITY_DESC = "Data calculated based on original SPICE kernels"
/* TIME DATA ELEMENTS */
SPACECRAFT_CLOCK_START_COUNT = "1/0205388397.07296"
SPACECRAFT_CLOCK_STOP_COUNT = "1/0205388819.07950"
START_TIME = 2009-11-04T04:20:38.887Z
STOP_TIME = 2009-11-04T04:26:13.708Z
/* ORBITAL DATA ELEMENTS */
ASCENDING_NODE_LONGITUDE = 74.49
MAXIMUM_RESOLUTION = 119.9
FOOTPRINT_POINT_LATITUDE = (49.0472,49.019,48.6306,48.2353,47.8404 ,47.4458,47.0514,46.6574,46.2637, 45.8704,45.4775,45.0849,44.6927,44.301, 43.9097,43.5189,43.1284,42.7385,42.349, 41.96,41.5715,40.7961,40.0229,39.6299, 39.2344,38.8394,38.4451,37.8408,37.4378 ,37.0356,36.6241,36.2131,35.8029, 35.3842,34.7565,34.333,33.9064,33.4805, 33.0457,32.612,31.9517,31.5106,31.0612, 30.6125,30.1565,29.7003,29.2365,28.7725 ,28.3508,28.3538,28.3544,28.3553, 28.8282,29.2928,29.757,30.2142,30.6708, 31.1208,31.5703,32.0128,32.4562,32.8911 ,33.3262,33.9708,34.3986,35.0316, 35.4514,35.8701,36.2813,36.6935,37.1049 ,37.5082,37.9123,38.517,38.9121,39.3085 ,39.7051,40.098,40.873,41.2616,41.6506, 42.0402,42.4302,42.8208,43.2117,43.6033 ,43.9952,44.3876,44.7804,45.174,45.5676 ,45.9617,46.356,46.7507,47.1461,47.5416 ,47.9376,48.3338,48.7303,49.0472)
FOOTPRINT_POINT_LONGITUDE = (168.872,167.996,167.796,167.829, 167.862,167.893,167.924,167.953,167.982 ,168.009,168.035,168.06,168.085,168.108 ,168.13,168.151,168.172,168.192,168.211 ,168.229,168.246,168.279,168.308, 168.322,168.335,168.348,168.36,168.377, 168.387,168.397,168.406,168.415,168.423 ,168.43,168.44,168.446,168.452,168.456, 168.46,168.464,168.468,168.47,168.472, 168.472,168.472,168.472,168.471,168.469 ,168.714,169.348,169.845,170.504, 170.494,170.484,170.474,170.464,170.454 ,170.443,170.433,170.422,170.411,170.4, 170.388,170.372,170.36,170.343,170.33, 170.318,170.306,170.293,170.28,170.268, 170.254,170.234,170.22,170.207,170.192, 170.178,170.148,170.133,170.118,170.102 ,170.086,170.069,170.052,170.034, 170.016,169.998,169.979,169.96,169.941, 169.92,169.899,169.878,169.857,169.834, 169.812,169.788,169.764,168.872)
ORBIT_NUMBER = 7488
ORBITAL_ECCENTRICITY = 0.57
ORBITAL_INCLINATION = 86.83
ORBITAL_SEMIMAJOR_AXIS = 8707.66
PERIAPSIS_ALTITUDE = 364.41
PERIAPSIS_ARGUMENT_ANGLE = 124.86
PERIAPSIS_TIME = 2009-11-04T04:19:00.000Z
SPACECRAFT_ORIENTATION = (0.0,-1.0,0.0)
^MEX_ORIENTATION_DESC = "MEX_ORIENTATION_DESC.TXT"
SPACECRAFT_POINTING_MODE = ACROSSTRACK
^MEX_POINTING_DESC = "MEX_POINTING_DESC.TXT"
RIGHT_ASCENSION = -1e+32
DECLINATION = -1e+32
OFFSET_ANGLE = -0.3
SPACECRAFT_SOLAR_DISTANCE = 2.34581e+08
TARGET_NAME = MARS
/* CAMERA DATA ELEMENTS */
DETECTOR_TEMPERATURE = 18.5744
FOCAL_PLANE_TEMPERATURE = 10.0106
INST_CMPRS_NAME = "DISCRETE COSINE TRANSFORMATION (DCT)"
INST_CMPRS_RATIO = 34.6852
INST_CMPRS_QUALITY = 0
INST_CMPRS_QUANTZ_TBL_ID = 0
INSTRUMENT_TEMPERATURE = 12.0496
LENS_TEMPERATURE = 9.3989
MACROPIXEL_SIZE = 8
MISSING_FRAMES = 0
PIXEL_SUBSAMPLING_FLAG = N
SIGNAL_CHAIN_ID = 2
/* RADIOMETRIC DATA ELEMENTS */
BANDWIDTH = 76.0
CENTER_FILTER_WAVELENGTH = 444.0
RADIANCE_OFFSET = 0.727968
RADIANCE_SCALING_FACTOR = 0.00169502
REFLECTANCE_SCALING_FACTOR = 9.58341e-05
MEX:REFLECTANCE_OFFSET = 0.0411582
/* IMAGE OBJECT DEFINITIONS */
OBJECT = IMAGE
  INTERCHANGE_FORMAT = BINARY
  LINES = 12295
  LINE_SAMPLES = 1288
  SAMPLE_TYPE = UNSIGNED_INTEGER
  SAMPLE_BITS = 8
  BANDS = 1
  BAND_STORAGE_TYPE = BAND_SEQUENTIAL
  MAXIMUM = 255
  MEAN = 101.59
  MINIMUM = 1
  STANDARD_DEVIATION = 29.3792
END_OBJECT = IMAGE
/* MAP OBJECT DEFINITIONS */
OBJECT = IMAGE_MAP_PROJECTION
  ^DATA_SET_MAP_PROJECTION_CATALOG= "DSMAP.CAT"
  A_AXIS_RADIUS = 3396.0
  B_AXIS_RADIUS = 3396.0
  C_AXIS_RADIUS = 3396.0
  CENTER_LATITUDE = 0.0
  CENTER_LONGITUDE = 169.0
  COORDINATE_SYSTEM_NAME = PLANETOGRAPHIC
  COORDINATE_SYSTEM_TYPE = "BODY-FIXED ROTATING"
  EASTERNMOST_LONGITUDE = 170.504
  FIRST_STANDARD_PARALLEL = "N/A"
  LINE_FIRST_PIXEL = 1
  LINE_LAST_PIXEL = 12295
  LINE_PROJECTION_OFFSET = 29099.6875
  MAP_PROJECTION_ROTATION = 0.0
  MAP_PROJECTION_TYPE = SINUSOIDAL
  MAP_RESOLUTION = 592.713803866667
  MAP_SCALE = 0.1
  MAXIMUM_LATITUDE = 49.0472
  MINIMUM_LATITUDE = 28.3508
  POSITIVE_LONGITUDE_DIRECTION = EAST
  REFERENCE_LATITUDE = "N/A"
  REFERENCE_LONGITUDE = "N/A"
  SAMPLE_FIRST_PIXEL = 1
  SAMPLE_LAST_PIXEL = 1288
  SAMPLE_PROJECTION_OFFSET = 501.0625
  SECOND_STANDARD_PARALLEL = "N/A"
  WESTERNMOST_LONGITUDE = 167.796
END_OBJECT = IMAGE_MAP_PROJECTION
/* The JPEG2000 image data file associated with this label. */
OBJECT = COMPRESSED_FILE
  FILE_NAME = "H7488_0009_BL3.JP2"
  RECORD_TYPE = UNDEFINED
  FILE_RECORDS = UNK
  ENCODING_TYPE = "JP2"
  INTERCHANGE_FORMAT = BINARY
  UNCOMPRESSED_FILE_NAME = "H7488_0009_BL3.IMG"
  REQUIRED_STORAGE_BYTES = "15855280"
  ^DESCRIPTION = "JP2INFO.TXT"
END_OBJECT = COMPRESSED_FILE
END
