PDS_VERSION_ID = PDS3
/* FILE DATA ELEMENTS */
RECORD_TYPE = STREAM
/* POINTERS TO DATA OBJECTS */
^COMPRESSED_FILE = "H7488_0009_RE3.JP2"
/* IDENTIFICATION DATA ELEMENTS */
DATA_SET_ID = "MEX-M-HRSC-5-REFDR-MAPPROJECTED-V3.0"
DATA_SET_NAME = "MARS EXPRESS HRSC MAP PROJECTED REFDR V3.0"
DETECTOR_ID = MEX_HRSC_RED
EVENT_TYPE = "MARS-REGIONAL-MAPPING-Vo-Fl-Pf"
INSTRUMENT_HOST_ID = MEX
INSTRUMENT_HOST_NAME = "MARS EXPRESS"
INSTRUMENT_ID = HRSC
INSTRUMENT_NAME = "HIGH RESOLUTION STEREO CAMERA"
MISSION_NAME = "MARS EXPRESS"
MISSION_PHASE_NAME = ME_Phase_18
PROCESSING_LEVEL_ID = 3
PRODUCT_CREATION_TIME = 2016-07-01T01:18:39.000Z
PRODUCT_ID = "H7488_0009_RE3.JP2"
RELEASE_ID = 0082
REVISION_ID = 0000
/* QUALITY DATA ELEMENTS */
DATA_QUALITY_ID = 1
DATA_QUALITY_DESC = "Data calculated based on original SPICE kernels"
/* TIME DATA ELEMENTS */
SPACECRAFT_CLOCK_START_COUNT = "1/0205388397.07296"
SPACECRAFT_CLOCK_STOP_COUNT = "1/0205388819.07950"
START_TIME = 2009-11-04T04:21:01.621Z
STOP_TIME = 2009-11-04T04:26:49.415Z
/* ORBITAL DATA ELEMENTS */
ASCENDING_NODE_LONGITUDE = 74.49
MAXIMUM_RESOLUTION = 126.9
FOOTPRINT_POINT_LATITUDE = (49.0033,48.9921,49.0469,48.6494, 48.2525,47.8561,47.4601,47.0649,46.6702 ,46.2761,45.883,45.4909,45.0993,44.708, 44.3181,43.9287,43.5403,43.1524,42.7654 ,42.3788,41.6087,41.2171,40.8239, 40.4314,40.0401,39.6395,39.2399,38.8412 ,38.4366,38.0299,37.6242,37.2128, 36.7995,36.3874,35.9672,35.3383,34.9116 ,34.4855,33.8384,33.4061,32.9663, 32.5274,32.0812,31.409,30.9567,30.4998, 29.8089,29.344,28.8732,28.3837,28.3791, 28.3724,28.609,29.0816,29.5505,30.0165, 30.4769,30.9355,31.3886,32.0633,32.5107 ,32.951,33.6091,34.0433,34.4752,34.9024 ,35.3301,35.75,36.1712,36.7955,37.2098, 37.6225,38.0291,38.4367,38.8419,39.2429 ,39.6437,40.0453,40.4364,40.8301, 41.2249,41.618,42.0038,42.3903,42.7776, 43.1654,43.5547,43.9441,44.3344,44.7255 ,45.1186,45.5113,45.9047,46.4952, 46.8907,47.2868,47.6838,48.0811,48.4792 ,49.0033)
FOOTPRINT_POINT_LONGITUDE = (169.416,168.783,167.735,167.769, 167.803,167.835,167.866,167.896,167.925 ,167.953,167.98,168.005,168.029,168.053 ,168.076,168.097,168.118,168.138, 168.157,168.175,168.209,168.225,168.241 ,168.256,168.269,168.283,168.296, 168.308,168.319,168.33,168.34,168.349, 168.358,168.366,168.374,168.384,168.39, 168.395,168.402,168.405,168.408,168.41, 168.412,168.414,168.413,168.413,168.41, 168.408,168.405,168.705,169.337,170.046 ,170.559,170.547,170.536,170.524, 170.512,170.5,170.488,170.47,170.458, 170.446,170.427,170.414,170.401,170.389 ,170.375,170.362,170.348,170.328, 170.314,170.3,170.286,170.271,170.256, 170.242,170.227,170.211,170.195,170.18, 170.164,170.147,170.131,170.114,170.097 ,170.079,170.062,170.043,170.024, 170.005,169.985,169.965,169.944,169.912 ,169.89,169.868,169.845,169.821,169.797 ,169.416)
ORBIT_NUMBER = 7488
ORBITAL_ECCENTRICITY = 0.57
ORBITAL_INCLINATION = 86.83
ORBITAL_SEMIMAJOR_AXIS = 8707.66
PERIAPSIS_ALTITUDE = 364.41
PERIAPSIS_ARGUMENT_ANGLE = 124.86
PERIAPSIS_TIME = 2009-11-04T04:19:00.000Z
SPACECRAFT_ORIENTATION = (0.0,-1.0,0.0)
^MEX_ORIENTATION_DESC = "MEX_ORIENTATION_DESC.TXT"
SPACECRAFT_POINTING_MODE = ACROSSTRACK
^MEX_POINTING_DESC = "MEX_POINTING_DESC.TXT"
RIGHT_ASCENSION = -1e+32
DECLINATION = -1e+32
OFFSET_ANGLE = -0.3
SPACECRAFT_SOLAR_DISTANCE = 2.34581e+08
TARGET_NAME = MARS
/* CAMERA DATA ELEMENTS */
DETECTOR_TEMPERATURE = 18.7783
FOCAL_PLANE_TEMPERATURE = 10.0106
INST_CMPRS_NAME = "DISCRETE COSINE TRANSFORMATION (DCT)"
INST_CMPRS_RATIO = 27.3008
INST_CMPRS_QUALITY = 0
INST_CMPRS_QUANTZ_TBL_ID = 0
INSTRUMENT_TEMPERATURE = 12.0496
LENS_TEMPERATURE = 9.3989
MACROPIXEL_SIZE = 8
MISSING_FRAMES = 0
PIXEL_SUBSAMPLING_FLAG = N
SIGNAL_CHAIN_ID = 2
/* RADIOMETRIC DATA ELEMENTS */
BANDWIDTH = 48.0
CENTER_FILTER_WAVELENGTH = 748.0
RADIANCE_OFFSET = 1.3603
RADIANCE_SCALING_FACTOR = 0.00696201
REFLECTANCE_SCALING_FACTOR = 0.000874276
MEX:REFLECTANCE_OFFSET = 0.170824
/* IMAGE OBJECT DEFINITIONS */
OBJECT = IMAGE
  INTERCHANGE_FORMAT = BINARY
  LINES = 12295
  LINE_SAMPLES = 1288
  SAMPLE_TYPE = UNSIGNED_INTEGER
  SAMPLE_BITS = 8
  BANDS = 1
  BAND_STORAGE_TYPE = BAND_SEQUENTIAL
  MAXIMUM = 255
  MEAN = 118.858
  MINIMUM = 1
  STANDARD_DEVIATION = 29.0866
END_OBJECT = IMAGE
/* MAP OBJECT DEFINITIONS */
OBJECT = IMAGE_MAP_PROJECTION
  ^DATA_SET_MAP_PROJECTION_CATALOG= "DSMAP.CAT"
  A_AXIS_RADIUS = 3396.0
  B_AXIS_RADIUS = 3396.0
  C_AXIS_RADIUS = 3396.0
  CENTER_LATITUDE = 0.0
  CENTER_LONGITUDE = 169.0
  COORDINATE_SYSTEM_NAME = PLANETOGRAPHIC
  COORDINATE_SYSTEM_TYPE = "BODY-FIXED ROTATING"
  EASTERNMOST_LONGITUDE = 170.559
  FIRST_STANDARD_PARALLEL = "N/A"
  LINE_FIRST_PIXEL = 1
  LINE_LAST_PIXEL = 12295
  LINE_PROJECTION_OFFSET = 29099.6875
  MAP_PROJECTION_ROTATION = 0.0
  MAP_PROJECTION_TYPE = SINUSOIDAL
  MAP_RESOLUTION = 592.713803866667
  MAP_SCALE = 0.1
  MAXIMUM_LATITUDE = 49.0469
  MINIMUM_LATITUDE = 28.3724
  POSITIVE_LONGITUDE_DIRECTION = EAST
  REFERENCE_LATITUDE = "N/A"
  REFERENCE_LONGITUDE = "N/A"
  SAMPLE_FIRST_PIXEL = 1
  SAMPLE_LAST_PIXEL = 1288
  SAMPLE_PROJECTION_OFFSET = 501.0625
  SECOND_STANDARD_PARALLEL = "N/A"
  WESTERNMOST_LONGITUDE = 167.735
END_OBJECT = IMAGE_MAP_PROJECTION
/* The JPEG2000 image data file associated with this label. */
OBJECT = COMPRESSED_FILE
  FILE_NAME = "H7488_0009_RE3.JP2"
  RECORD_TYPE = UNDEFINED
  FILE_RECORDS = UNK
  ENCODING_TYPE = "JP2"
  INTERCHANGE_FORMAT = BINARY
  UNCOMPRESSED_FILE_NAME = "H7488_0009_RE3.IMG"
  REQUIRED_STORAGE_BYTES = "15855280"
  ^DESCRIPTION = "JP2INFO.TXT"
END_OBJECT = COMPRESSED_FILE
END
