PDS_VERSION_ID = PDS3
/* FILE DATA ELEMENTS */
RECORD_TYPE = STREAM
/* POINTERS TO DATA OBJECTS */
^COMPRESSED_FILE = "H7488_0009_S13.JP2"
/* IDENTIFICATION DATA ELEMENTS */
DATA_SET_ID = "MEX-M-HRSC-5-REFDR-MAPPROJECTED-V3.0"
DATA_SET_NAME = "MARS EXPRESS HRSC MAP PROJECTED REFDR V3.0"
DETECTOR_ID = MEX_HRSC_S1
EVENT_TYPE = "MARS-REGIONAL-MAPPING-Vo-Fl-Pf"
INSTRUMENT_HOST_ID = MEX
INSTRUMENT_HOST_NAME = "MARS EXPRESS"
INSTRUMENT_ID = HRSC
INSTRUMENT_NAME = "HIGH RESOLUTION STEREO CAMERA"
MISSION_NAME = "MARS EXPRESS"
MISSION_PHASE_NAME = ME_Phase_18
PROCESSING_LEVEL_ID = 3
PRODUCT_CREATION_TIME = 2016-07-01T01:18:39.000Z
PRODUCT_ID = "H7488_0009_S13.JP2"
RELEASE_ID = 0082
REVISION_ID = 0000
/* QUALITY DATA ELEMENTS */
DATA_QUALITY_ID = 1
DATA_QUALITY_DESC = "Data calculated based on original SPICE kernels"
/* TIME DATA ELEMENTS */
SPACECRAFT_CLOCK_START_COUNT = "1/0205388397.07296"
SPACECRAFT_CLOCK_STOP_COUNT = "1/0205388819.07950"
START_TIME = 2009-11-04T04:19:59.608Z
STOP_TIME = 2009-11-04T04:25:18.608Z
/* ORBITAL DATA ELEMENTS */
ASCENDING_NODE_LONGITUDE = 74.49
MAXIMUM_RESOLUTION = 31.4
FOOTPRINT_POINT_LATITUDE = (49.1943,49.1711,49.1439,49.1052, 48.6695,48.331,47.9923,47.6536,47.3147, 46.9296,46.5249,46.12,45.7141,45.1058, 44.4969,43.8874,43.4812,43.075,42.6685, 42.0588,41.4493,41.0429,40.6368,40.2301 ,39.6204,39.2139,38.8077,38.4016, 37.9955,37.5896,37.1839,36.7703,36.354, 35.9376,35.5217,35.0957,34.6691,34.2427 ,33.8106,33.374,32.7191,32.2723,31.8265 ,31.3784,30.9216,30.4656,30.0028, 29.5374,28.831,28.3559,28.3317,28.3398, 28.3474,28.3531,28.8289,29.305,29.7714, 30.2396,30.6993,31.1555,31.8342,32.2813 ,32.9489,33.3872,33.8236,34.2574,34.685 ,35.1129,35.7492,36.1663,36.7922, 37.2078,37.6143,38.0211,38.4282,38.837, 39.242,39.6491,40.0566,40.4656,40.8725, 41.2797,41.687,42.0942,42.5016,42.909, 43.3164,43.9277,44.335,44.7425,45.1481, 45.5552,45.9618,46.3696,46.979,47.5417, 47.8811,48.2211,48.5606,49.1943)
FOOTPRINT_POINT_LONGITUDE = (169.706,169.122,168.534,167.813, 167.782,167.812,167.841,167.87,167.897, 167.928,167.959,167.989,168.017,168.058 ,168.097,168.134,168.157,168.179, 168.201,168.231,168.26,168.278,168.296, 168.312,168.336,168.35,168.364,168.377, 168.39,168.402,168.413,168.424,168.434, 168.443,168.452,168.461,168.468,168.475 ,168.482,168.488,168.495,168.5,168.504, 168.507,168.51,168.512,168.513,168.514, 168.514,168.513,169.207,169.58,170.045, 170.44,170.432,170.424,170.415,170.406, 170.397,170.388,170.374,170.364,170.35, 170.339,170.329,170.319,170.308,170.297 ,170.281,170.269,170.252,170.24,170.228 ,170.216,170.203,170.19,170.177,170.163 ,170.15,170.135,170.12,170.106,170.09, 170.075,170.059,170.042,170.025,169.999 ,169.981,169.963,169.944,169.925, 169.905,169.885,169.853,169.823,169.805 ,169.786,169.766,169.706)
ORBIT_NUMBER = 7488
ORBITAL_ECCENTRICITY = 0.57
ORBITAL_INCLINATION = 86.83
ORBITAL_SEMIMAJOR_AXIS = 8707.66
PERIAPSIS_ALTITUDE = 364.41
PERIAPSIS_ARGUMENT_ANGLE = 124.86
PERIAPSIS_TIME = 2009-11-04T04:19:00.000Z
SPACECRAFT_ORIENTATION = (0.0,-1.0,0.0)
^MEX_ORIENTATION_DESC = "MEX_ORIENTATION_DESC.TXT"
SPACECRAFT_POINTING_MODE = ACROSSTRACK
^MEX_POINTING_DESC = "MEX_POINTING_DESC.TXT"
RIGHT_ASCENSION = -1e+32
DECLINATION = -1e+32
OFFSET_ANGLE = -0.3
SPACECRAFT_SOLAR_DISTANCE = 2.34581e+08
TARGET_NAME = MARS
/* CAMERA DATA ELEMENTS */
DETECTOR_TEMPERATURE = 17.7588
FOCAL_PLANE_TEMPERATURE = 10.0106
INST_CMPRS_NAME = "DISCRETE COSINE TRANSFORMATION (DCT)"
INST_CMPRS_RATIO = 13.2759
INST_CMPRS_QUALITY = 0
INST_CMPRS_QUANTZ_TBL_ID = 0
INSTRUMENT_TEMPERATURE = 12.0496
LENS_TEMPERATURE = 9.3989
MACROPIXEL_SIZE = 2
MISSING_FRAMES = 0
PIXEL_SUBSAMPLING_FLAG = N
SIGNAL_CHAIN_ID = 1
/* RADIOMETRIC DATA ELEMENTS */
BANDWIDTH = 180.0
CENTER_FILTER_WAVELENGTH = 677.0
RADIANCE_OFFSET = 5.38617
RADIANCE_SCALING_FACTOR = 0.0242284
REFLECTANCE_SCALING_FACTOR = 0.000695592
MEX:REFLECTANCE_OFFSET = 0.154635
/* IMAGE OBJECT DEFINITIONS */
OBJECT = IMAGE
  INTERCHANGE_FORMAT = BINARY
  LINES = 49180
  LINE_SAMPLES = 5150
  SAMPLE_TYPE = UNSIGNED_INTEGER
  SAMPLE_BITS = 8
  BANDS = 1
  BAND_STORAGE_TYPE = BAND_SEQUENTIAL
  MAXIMUM = 255
  MEAN = 104.935
  MINIMUM = 1
  STANDARD_DEVIATION = 26.3062
END_OBJECT = IMAGE
/* MAP OBJECT DEFINITIONS */
OBJECT = IMAGE_MAP_PROJECTION
  ^DATA_SET_MAP_PROJECTION_CATALOG= "DSMAP.CAT"
  A_AXIS_RADIUS = 3396.0
  B_AXIS_RADIUS = 3396.0
  C_AXIS_RADIUS = 3396.0
  CENTER_LATITUDE = 0.0
  CENTER_LONGITUDE = 169.0
  COORDINATE_SYSTEM_NAME = PLANETOGRAPHIC
  COORDINATE_SYSTEM_TYPE = "BODY-FIXED ROTATING"
  EASTERNMOST_LONGITUDE = 170.44
  FIRST_STANDARD_PARALLEL = "N/A"
  LINE_FIRST_PIXEL = 1
  LINE_LAST_PIXEL = 49180
  LINE_PROJECTION_OFFSET = 116400.25
  MAP_PROJECTION_ROTATION = 0.0
  MAP_PROJECTION_TYPE = SINUSOIDAL
  MAP_RESOLUTION = 2370.85521546667
  MAP_SCALE = 0.025
  MAXIMUM_LATITUDE = 49.1943
  MINIMUM_LATITUDE = 28.3317
  POSITIVE_LONGITUDE_DIRECTION = EAST
  REFERENCE_LATITUDE = "N/A"
  REFERENCE_LONGITUDE = "N/A"
  SAMPLE_FIRST_PIXEL = 1
  SAMPLE_LAST_PIXEL = 5150
  SAMPLE_PROJECTION_OFFSET = 2005.75
  SECOND_STANDARD_PARALLEL = "N/A"
  WESTERNMOST_LONGITUDE = 167.782
END_OBJECT = IMAGE_MAP_PROJECTION
/* The JPEG2000 image data file associated with this label. */
OBJECT = COMPRESSED_FILE
  FILE_NAME = "H7488_0009_S13.JP2"
  RECORD_TYPE = UNDEFINED
  FILE_RECORDS = UNK
  ENCODING_TYPE = "JP2"
  INTERCHANGE_FORMAT = BINARY
  UNCOMPRESSED_FILE_NAME = "H7488_0009_S13.IMG"
  REQUIRED_STORAGE_BYTES = "253302750"
  ^DESCRIPTION = "JP2INFO.TXT"
END_OBJECT = COMPRESSED_FILE
END
