PDS_VERSION_ID = PDS3
/* FILE DATA ELEMENTS */
RECORD_TYPE = STREAM
/* POINTERS TO DATA OBJECTS */
^COMPRESSED_FILE = "H7490_0000_BL3.JP2"
/* IDENTIFICATION DATA ELEMENTS */
DATA_SET_ID = "MEX-M-HRSC-5-REFDR-MAPPROJECTED-V3.0"
DATA_SET_NAME = "MARS EXPRESS HRSC MAP PROJECTED REFDR V3.0"
DETECTOR_ID = MEX_HRSC_BLUE
EVENT_TYPE = "MARS-REGIONAL-MAPPING-Vo-Lc-Pf"
INSTRUMENT_HOST_ID = MEX
INSTRUMENT_HOST_NAME = "MARS EXPRESS"
INSTRUMENT_ID = HRSC
INSTRUMENT_NAME = "HIGH RESOLUTION STEREO CAMERA"
MISSION_NAME = "MARS EXPRESS"
MISSION_PHASE_NAME = ME_Phase_18
PROCESSING_LEVEL_ID = 3
PRODUCT_CREATION_TIME = 2016-07-01T01:18:39.000Z
PRODUCT_ID = "H7490_0000_BL3.JP2"
RELEASE_ID = 0082
REVISION_ID = 0000
/* QUALITY DATA ELEMENTS */
DATA_QUALITY_ID = 1
DATA_QUALITY_DESC = "Data calculated based on original SPICE kernels"
/* TIME DATA ELEMENTS */
SPACECRAFT_CLOCK_START_COUNT = "1/0205438070.09139"
SPACECRAFT_CLOCK_STOP_COUNT = "1/0205438446.24378"
START_TIME = 2009-11-04T18:08:32.145Z
STOP_TIME = 2009-11-04T18:13:22.401Z
/* ORBITAL DATA ELEMENTS */
ASCENDING_NODE_LONGITUDE = 74.46
MAXIMUM_RESOLUTION = 121.5
FOOTPRINT_POINT_LATITUDE = (47.7342,47.7131,47.6964,47.1835, 46.8376,46.492,46.1467,45.8016,45.4568, 45.1124,44.7682,44.4245,44.081,43.7379, 43.3951,43.0527,42.7107,42.369,42.0278, 41.6869,41.3465,41.0064,40.6668,40.3277 ,39.8097,39.4625,39.1159,38.7697,38.417 ,38.0628,37.7091,37.356,36.9952,36.454, 36.094,35.7263,35.3586,34.9916,34.6184, 34.2439,33.8701,33.2992,32.9184,32.339, 31.9515,31.3623,30.9684,30.5689,30.1682 ,29.7684,29.7719,29.7742,29.776,29.7758 ,29.9822,30.3838,30.9851,31.38,31.9706, 32.3591,32.9399,33.3214,33.8937,34.2684 ,34.6439,35.0177,35.3857,35.7542, 36.1226,36.4835,36.845,37.3875,37.7415, 38.096,38.4511,38.8045,39.1515,39.499, 39.847,40.3661,40.706,41.0465,41.3873, 41.7285,42.0701,42.4126,42.9262,43.2693 ,43.6128,43.9566,44.3008,44.6453, 44.9902,45.3353,45.6809,46.0267,46.5462 ,46.8926,47.2396,47.7342)
FOOTPRINT_POINT_LONGITUDE = (328.304,327.41,326.849,326.601,326.624 ,326.647,326.668,326.689,326.71,326.729 ,326.748,326.766,326.784,326.801, 326.817,326.833,326.848,326.862,326.876 ,326.889,326.902,326.914,326.926, 326.937,326.953,326.963,326.972,326.981 ,326.99,326.998,327.006,327.013,327.02, 327.029,327.035,327.04,327.045,327.049, 327.053,327.057,327.06,327.063,327.065, 327.067,327.067,327.068,327.067,327.066 ,327.065,327.063,327.458,327.818, 328.423,328.82,329.074,329.066,329.054, 329.046,329.034,329.026,329.014,329.005 ,328.992,328.983,328.975,328.965, 328.956,328.947,328.938,328.928,328.919 ,328.904,328.894,328.884,328.874, 328.864,328.853,328.842,328.832,328.815 ,328.804,328.793,328.781,328.769, 328.757,328.745,328.726,328.713,328.7, 328.686,328.672,328.658,328.644,328.629 ,328.614,328.598,328.575,328.558, 328.542,328.304)
ORBIT_NUMBER = 7490
ORBITAL_ECCENTRICITY = 0.57
ORBITAL_INCLINATION = 86.84
ORBITAL_SEMIMAJOR_AXIS = 8706.74
PERIAPSIS_ALTITUDE = 364.1
PERIAPSIS_ARGUMENT_ANGLE = 124.5
PERIAPSIS_TIME = 2009-11-04T18:06:27.000Z
SPACECRAFT_ORIENTATION = (0.0,-1.0,0.0)
^MEX_ORIENTATION_DESC = "MEX_ORIENTATION_DESC.TXT"
SPACECRAFT_POINTING_MODE = ACROSSTRACK
^MEX_POINTING_DESC = "MEX_POINTING_DESC.TXT"
RIGHT_ASCENSION = -1e+32
DECLINATION = -1e+32
OFFSET_ANGLE = -0.07
SPACECRAFT_SOLAR_DISTANCE = 2.34685e+08
TARGET_NAME = MARS
/* CAMERA DATA ELEMENTS */
DETECTOR_TEMPERATURE = 18.1666
FOCAL_PLANE_TEMPERATURE = 8.5833
INST_CMPRS_NAME = "DISCRETE COSINE TRANSFORMATION (DCT)"
INST_CMPRS_RATIO = 28.3364
INST_CMPRS_QUALITY = 0
INST_CMPRS_QUANTZ_TBL_ID = 0
INSTRUMENT_TEMPERATURE = 11.234
LENS_TEMPERATURE = 8.9911
MACROPIXEL_SIZE = 8
MISSING_FRAMES = 0
PIXEL_SUBSAMPLING_FLAG = N
SIGNAL_CHAIN_ID = 2
/* RADIOMETRIC DATA ELEMENTS */
BANDWIDTH = 76.0
CENTER_FILTER_WAVELENGTH = 444.0
RADIANCE_OFFSET = 0.742785
RADIANCE_SCALING_FACTOR = 0.00115889
REFLECTANCE_SCALING_FACTOR = 6.55794e-05
MEX:REFLECTANCE_OFFSET = 0.0420328
/* IMAGE OBJECT DEFINITIONS */
OBJECT = IMAGE
  INTERCHANGE_FORMAT = BINARY
  LINES = 10671
  LINE_SAMPLES = 1145
  SAMPLE_TYPE = UNSIGNED_INTEGER
  SAMPLE_BITS = 8
  BANDS = 1
  BAND_STORAGE_TYPE = BAND_SEQUENTIAL
  MAXIMUM = 255
  MEAN = 132.951
  MINIMUM = 5
  STANDARD_DEVIATION = 42.9907
END_OBJECT = IMAGE
/* MAP OBJECT DEFINITIONS */
OBJECT = IMAGE_MAP_PROJECTION
  ^DATA_SET_MAP_PROJECTION_CATALOG= "DSMAP.CAT"
  A_AXIS_RADIUS = 3396.0
  B_AXIS_RADIUS = 3396.0
  C_AXIS_RADIUS = 3396.0
  CENTER_LATITUDE = 0.0
  CENTER_LONGITUDE = 328.0
  COORDINATE_SYSTEM_NAME = PLANETOGRAPHIC
  COORDINATE_SYSTEM_TYPE = "BODY-FIXED ROTATING"
  EASTERNMOST_LONGITUDE = 329.074
  FIRST_STANDARD_PARALLEL = "N/A"
  LINE_FIRST_PIXEL = 1
  LINE_LAST_PIXEL = 10671
  LINE_PROJECTION_OFFSET = 28310.6875
  MAP_PROJECTION_ROTATION = 0.0
  MAP_PROJECTION_TYPE = SINUSOIDAL
  MAP_RESOLUTION = 592.713803866667
  MAP_SCALE = 0.1
  MAXIMUM_LATITUDE = 47.7342
  MINIMUM_LATITUDE = 29.7684
  POSITIVE_LONGITUDE_DIRECTION = EAST
  REFERENCE_LATITUDE = "N/A"
  REFERENCE_LONGITUDE = "N/A"
  SAMPLE_FIRST_PIXEL = 1
  SAMPLE_LAST_PIXEL = 1145
  SAMPLE_PROJECTION_OFFSET = 585.3125
  SECOND_STANDARD_PARALLEL = "N/A"
  WESTERNMOST_LONGITUDE = 326.601
END_OBJECT = IMAGE_MAP_PROJECTION
/* The JPEG2000 image data file associated with this label. */
OBJECT = COMPRESSED_FILE
  FILE_NAME = "H7490_0000_BL3.JP2"
  RECORD_TYPE = UNDEFINED
  FILE_RECORDS = UNK
  ENCODING_TYPE = "JP2"
  INTERCHANGE_FORMAT = BINARY
  UNCOMPRESSED_FILE_NAME = "H7490_0000_BL3.IMG"
  REQUIRED_STORAGE_BYTES = "12237760"
  ^DESCRIPTION = "JP2INFO.TXT"
END_OBJECT = COMPRESSED_FILE
END
