PDS_VERSION_ID = PDS3
/* FILE DATA ELEMENTS */
RECORD_TYPE = STREAM
/* POINTERS TO DATA OBJECTS */
^COMPRESSED_FILE = "H7499_0000_P23.JP2"
/* IDENTIFICATION DATA ELEMENTS */
DATA_SET_ID = "MEX-M-HRSC-5-REFDR-MAPPROJECTED-V3.0"
DATA_SET_NAME = "MARS EXPRESS HRSC MAP PROJECTED REFDR V3.0"
DETECTOR_ID = MEX_HRSC_P2
EVENT_TYPE = "MARS-REGIONAL-MAPPING-Vo-Fl-Pf"
INSTRUMENT_HOST_ID = MEX
INSTRUMENT_HOST_NAME = "MARS EXPRESS"
INSTRUMENT_ID = HRSC
INSTRUMENT_NAME = "HIGH RESOLUTION STEREO CAMERA"
MISSION_NAME = "MARS EXPRESS"
MISSION_PHASE_NAME = ME_Phase_18
PROCESSING_LEVEL_ID = 3
PRODUCT_CREATION_TIME = 2016-07-01T01:18:39.000Z
PRODUCT_ID = "H7499_0000_P23.JP2"
RELEASE_ID = 0082
REVISION_ID = 0000
/* QUALITY DATA ELEMENTS */
DATA_QUALITY_ID = 1
DATA_QUALITY_DESC = "Data calculated based on original SPICE kernels"
/* TIME DATA ELEMENTS */
SPACECRAFT_CLOCK_START_COUNT = "1/0205661665.07303"
SPACECRAFT_CLOCK_STOP_COUNT = "1/0205662012.24324"
START_TIME = 2009-11-07T08:15:37.747Z
STOP_TIME = 2009-11-07T08:19:46.851Z
/* ORBITAL DATA ELEMENTS */
ASCENDING_NODE_LONGITUDE = 74.28
MAXIMUM_RESOLUTION = 37.9
FOOTPRINT_POINT_LATITUDE = (38.074,38.0877,38.0993,37.7475,37.3418 ,37.0679,36.7944,36.5216,36.2456, 35.9674,35.6899,35.4129,35.1304,34.8485 ,34.5672,34.14,33.8539,33.5686,33.2781, 32.988,32.6987,32.4103,32.1221,31.8345, 31.5476,31.2618,30.9764,30.6918,30.4082 ,30.1252,29.8427,29.5608,29.2798, 28.9996,28.7204,28.4416,28.1638,27.8868 ,27.6108,27.3335,27.0575,26.7831, 26.5093,26.2359,25.9634,25.6906,25.4201 ,25.0147,24.6103,24.1814,24.1668, 24.1402,24.1261,24.096,24.0776,24.6182, 25.0211,25.2917,25.7005,25.9739,26.2478 ,26.5224,26.7986,27.0755,27.4929, 27.7713,28.0571,28.3314,28.6116,28.8929 ,29.1752,29.4581,29.7423,30.0269, 30.3117,30.5972,30.8842,31.3157,31.6035 ,31.8924,32.1815,32.4709,32.9069, 33.1978,33.49,33.7766,34.0636,34.493, 34.7755,35.0584,35.4812,35.7595,36.0384 ,36.4556,36.7294,37.0039,37.279,37.5518 ,38.0915,38.074)
FOOTPRINT_POINT_LONGITUDE = (138.182,137.519,136.828,136.578, 136.602,136.617,136.632,136.647,136.661 ,136.675,136.688,136.702,136.714, 136.727,136.739,136.756,136.767,136.778 ,136.788,136.798,136.808,136.816, 136.825,136.834,136.842,136.849,136.856 ,136.863,136.869,136.875,136.88,136.886 ,136.89,136.895,136.898,136.902,136.905 ,136.907,136.909,136.913,136.916, 136.918,136.92,136.921,136.923,136.925, 136.925,136.926,136.927,137.21,137.543, 138.12,138.439,139.064,139.472,139.451, 139.437,139.427,139.412,139.401,139.391 ,139.38,139.368,139.357,139.339,139.327 ,139.312,139.303,139.291,139.278, 139.266,139.253,139.239,139.226,139.212 ,139.199,139.184,139.162,139.148, 139.133,139.118,139.104,139.081,139.066 ,139.05,139.034,139.018,138.994,138.978 ,138.962,138.937,138.921,138.904, 138.878,138.861,138.843,138.826,138.808 ,138.772,138.182)
ORBIT_NUMBER = 7499
ORBITAL_ECCENTRICITY = 0.57
ORBITAL_INCLINATION = 86.82
ORBITAL_SEMIMAJOR_AXIS = 8708.55
PERIAPSIS_ALTITUDE = 365.42
PERIAPSIS_ARGUMENT_ANGLE = 122.94
PERIAPSIS_TIME = 2009-11-07T08:10:13.000Z
SPACECRAFT_ORIENTATION = (0.0,-1.0,0.0)
^MEX_ORIENTATION_DESC = "MEX_ORIENTATION_DESC.TXT"
SPACECRAFT_POINTING_MODE = ACROSSTRACK
^MEX_POINTING_DESC = "MEX_POINTING_DESC.TXT"
RIGHT_ASCENSION = -1e+32
DECLINATION = -1e+32
OFFSET_ANGLE = -2.0
SPACECRAFT_SOLAR_DISTANCE = 2.35146e+08
TARGET_NAME = MARS
/* CAMERA DATA ELEMENTS */
DETECTOR_TEMPERATURE = 18.5744
FOCAL_PLANE_TEMPERATURE = 7.9716
INST_CMPRS_NAME = "DISCRETE COSINE TRANSFORMATION (DCT)"
INST_CMPRS_RATIO = 7.86841
INST_CMPRS_QUALITY = 0
INST_CMPRS_QUANTZ_TBL_ID = 0
INSTRUMENT_TEMPERATURE = 10.2145
LENS_TEMPERATURE = 8.3794
MACROPIXEL_SIZE = 2
MISSING_FRAMES = 0
PIXEL_SUBSAMPLING_FLAG = N
SIGNAL_CHAIN_ID = 3
/* RADIOMETRIC DATA ELEMENTS */
BANDWIDTH = 177.0
CENTER_FILTER_WAVELENGTH = 676.5
RADIANCE_OFFSET = 5.25039
RADIANCE_SCALING_FACTOR = 0.0263897
REFLECTANCE_SCALING_FACTOR = 0.000773693
MEX:REFLECTANCE_OFFSET = 0.153931
/* IMAGE OBJECT DEFINITIONS */
OBJECT = IMAGE
  INTERCHANGE_FORMAT = BINARY
  LINES = 33301
  LINE_SAMPLES = 5840
  SAMPLE_TYPE = UNSIGNED_INTEGER
  SAMPLE_BITS = 8
  BANDS = 1
  BAND_STORAGE_TYPE = BAND_SEQUENTIAL
  MAXIMUM = 255
  MEAN = 143.068
  MINIMUM = 1
  STANDARD_DEVIATION = 56.6749
END_OBJECT = IMAGE
/* MAP OBJECT DEFINITIONS */
OBJECT = IMAGE_MAP_PROJECTION
  ^DATA_SET_MAP_PROJECTION_CATALOG= "DSMAP.CAT"
  A_AXIS_RADIUS = 3396.0
  B_AXIS_RADIUS = 3396.0
  C_AXIS_RADIUS = 3396.0
  CENTER_LATITUDE = 0.0
  CENTER_LONGITUDE = 138.0
  COORDINATE_SYSTEM_NAME = PLANETOGRAPHIC
  COORDINATE_SYSTEM_TYPE = "BODY-FIXED ROTATING"
  EASTERNMOST_LONGITUDE = 139.472
  FIRST_STANDARD_PARALLEL = "N/A"
  LINE_FIRST_PIXEL = 1
  LINE_LAST_PIXEL = 33301
  LINE_PROJECTION_OFFSET = 90458.25
  MAP_PROJECTION_ROTATION = 0.0
  MAP_PROJECTION_TYPE = SINUSOIDAL
  MAP_RESOLUTION = 2370.85521546667
  MAP_SCALE = 0.025
  MAXIMUM_LATITUDE = 38.0993
  MINIMUM_LATITUDE = 24.0776
  POSITIVE_LONGITUDE_DIRECTION = EAST
  REFERENCE_LATITUDE = "N/A"
  REFERENCE_LONGITUDE = "N/A"
  SAMPLE_FIRST_PIXEL = 1
  SAMPLE_LAST_PIXEL = 5840
  SAMPLE_PROJECTION_OFFSET = 2793.75
  SECOND_STANDARD_PARALLEL = "N/A"
  WESTERNMOST_LONGITUDE = 136.578
END_OBJECT = IMAGE_MAP_PROJECTION
/* The JPEG2000 image data file associated with this label. */
OBJECT = COMPRESSED_FILE
  FILE_NAME = "H7499_0000_P23.JP2"
  RECORD_TYPE = UNDEFINED
  FILE_RECORDS = UNK
  ENCODING_TYPE = "JP2"
  INTERCHANGE_FORMAT = BINARY
  UNCOMPRESSED_FILE_NAME = "H7499_0000_P23.IMG"
  REQUIRED_STORAGE_BYTES = "194507040"
  ^DESCRIPTION = "JP2INFO.TXT"
END_OBJECT = COMPRESSED_FILE
END
