PDS_VERSION_ID = PDS3
/* FILE DATA ELEMENTS */
RECORD_TYPE = STREAM
/* POINTERS TO DATA OBJECTS */
^COMPRESSED_FILE = "H7504_0000_P23.JP2"
/* IDENTIFICATION DATA ELEMENTS */
DATA_SET_ID = "MEX-M-HRSC-5-REFDR-MAPPROJECTED-V3.0"
DATA_SET_NAME = "MARS EXPRESS HRSC MAP PROJECTED REFDR V3.0"
DETECTOR_ID = MEX_HRSC_P2
EVENT_TYPE = "MARS-REGIONAL-MAPPING-Gl-Pf-La"
INSTRUMENT_HOST_ID = MEX
INSTRUMENT_HOST_NAME = "MARS EXPRESS"
INSTRUMENT_ID = HRSC
INSTRUMENT_NAME = "HIGH RESOLUTION STEREO CAMERA"
MISSION_NAME = "MARS EXPRESS"
MISSION_PHASE_NAME = ME_Phase_18
PROCESSING_LEVEL_ID = 3
PRODUCT_CREATION_TIME = 2016-07-01T12:48:20.000Z
PRODUCT_ID = "H7504_0000_P23.JP2"
RELEASE_ID = 0083
REVISION_ID = 0000
/* QUALITY DATA ELEMENTS */
DATA_QUALITY_ID = 1
DATA_QUALITY_DESC = "Data calculated based on original SPICE kernels"
/* TIME DATA ELEMENTS */
SPACECRAFT_CLOCK_START_COUNT = "1/0205785746.09071"
SPACECRAFT_CLOCK_STOP_COUNT = "1/0205786207.45385"
START_TIME = 2009-11-08T18:43:32.038Z
STOP_TIME = 2009-11-08T18:49:39.107Z
/* ORBITAL DATA ELEMENTS */
ASCENDING_NODE_LONGITUDE = 74.19
MAXIMUM_RESOLUTION = 35.4
FOOTPRINT_POINT_LATITUDE = (41.9734,41.9593,41.9432,41.8096, 41.4609,40.9281,40.5725,40.2173,39.6758 ,39.3143,38.7689,38.4005,38.0332, 37.4738,37.0995,36.532,36.1544,35.7722, 35.386,34.8047,34.4117,34.0215,33.6198, 33.2225,32.8196,32.212,31.8076,31.1813, 30.7636,30.344,29.9191,29.287,28.8592, 28.4226,27.9753,27.3062,26.8566,26.4054 ,25.949,25.4883,25.0229,24.5537,24.08, 23.3612,22.8806,22.4029,21.928,21.456, 21.4452,21.444,21.4431,21.4416,21.4385, 21.438,21.9118,22.3882,23.1083,23.5893, 24.0692,24.5463,25.0181,25.4849,25.9482 ,26.4066,26.8606,27.3109,27.7578, 28.2006,28.6399,29.0745,29.5069,29.9342 ,30.3601,30.7798,31.4075,31.8222, 32.2301,32.6387,33.0431,33.4466,33.8451 ,34.4385,34.8295,35.4128,35.993,36.3727 ,36.9434,37.3183,37.6937,38.0676, 38.4351,38.8046,39.3511,39.7136,40.2568 ,40.6127,41.1468,41.5044,41.8532, 41.9734)
FOOTPRINT_POINT_LONGITUDE = (357.295,356.68,356.071,355.601,355.609 ,355.62,355.626,355.633,355.641,355.646 ,355.652,355.656,355.659,355.663, 355.666,355.668,355.669,355.669,355.669 ,355.668,355.668,355.665,355.664, 355.661,355.658,355.652,355.646,355.64, 355.634,355.628,355.621,355.607,355.598 ,355.589,355.581,355.566,355.556, 355.544,355.531,355.518,355.504,355.49, 355.474,355.45,355.433,355.416,355.398, 355.38,355.782,356.337,356.666,357.097, 357.684,358.002,357.994,357.987,357.977 ,357.968,357.961,357.956,357.949, 357.942,357.936,357.929,357.923,357.916 ,357.909,357.902,357.897,357.889, 357.882,357.876,357.869,357.861,357.853 ,357.846,357.838,357.831,357.825, 357.819,357.812,357.802,357.793,357.783 ,357.772,357.764,357.753,357.746, 357.739,357.732,357.724,357.716,357.704 ,357.696,357.683,357.675,357.661, 357.654,357.645,357.295)
ORBIT_NUMBER = 7504
ORBITAL_ECCENTRICITY = 0.57
ORBITAL_INCLINATION = 86.83
ORBITAL_SEMIMAJOR_AXIS = 8704.95
PERIAPSIS_ALTITUDE = 365.58
PERIAPSIS_ARGUMENT_ANGLE = 122.04
PERIAPSIS_TIME = 2009-11-08T18:38:57.000Z
SPACECRAFT_ORIENTATION = (0.0,-1.0,0.0)
^MEX_ORIENTATION_DESC = "MEX_ORIENTATION_DESC.TXT"
SPACECRAFT_POINTING_MODE = ACROSSTRACK
^MEX_POINTING_DESC = "MEX_POINTING_DESC.TXT"
RIGHT_ASCENSION = -1e+32
DECLINATION = -1e+32
OFFSET_ANGLE = 0.45
SPACECRAFT_SOLAR_DISTANCE = 2.354e+08
TARGET_NAME = MARS
/* CAMERA DATA ELEMENTS */
DETECTOR_TEMPERATURE = 18.7783
FOCAL_PLANE_TEMPERATURE = 8.3794
INST_CMPRS_NAME = "DISCRETE COSINE TRANSFORMATION (DCT)"
INST_CMPRS_RATIO = 7.40202
INST_CMPRS_QUALITY = 0
INST_CMPRS_QUANTZ_TBL_ID = 0
INSTRUMENT_TEMPERATURE = 11.234
LENS_TEMPERATURE = 8.7872
MACROPIXEL_SIZE = 2
MISSING_FRAMES = 0
PIXEL_SUBSAMPLING_FLAG = N
SIGNAL_CHAIN_ID = 3
/* RADIOMETRIC DATA ELEMENTS */
BANDWIDTH = 177.0
CENTER_FILTER_WAVELENGTH = 676.5
RADIANCE_OFFSET = 4.39478
RADIANCE_SCALING_FACTOR = 0.0282821
REFLECTANCE_SCALING_FACTOR = 0.000830966
MEX:REFLECTANCE_OFFSET = 0.129124
/* IMAGE OBJECT DEFINITIONS */
OBJECT = IMAGE
  INTERCHANGE_FORMAT = BINARY
  LINES = 48809
  LINE_SAMPLES = 5517
  SAMPLE_TYPE = UNSIGNED_INTEGER
  SAMPLE_BITS = 8
  BANDS = 1
  BAND_STORAGE_TYPE = BAND_SEQUENTIAL
  MAXIMUM = 255
  MEAN = 129.793
  MINIMUM = 1
  STANDARD_DEVIATION = 38.4962
END_OBJECT = IMAGE
/* MAP OBJECT DEFINITIONS */
OBJECT = IMAGE_MAP_PROJECTION
  ^DATA_SET_MAP_PROJECTION_CATALOG= "DSMAP.CAT"
  A_AXIS_RADIUS = 3396.0
  B_AXIS_RADIUS = 3396.0
  C_AXIS_RADIUS = 3396.0
  CENTER_LATITUDE = 0.0
  CENTER_LONGITUDE = 357.0
  COORDINATE_SYSTEM_NAME = PLANETOGRAPHIC
  COORDINATE_SYSTEM_TYPE = "BODY-FIXED ROTATING"
  EASTERNMOST_LONGITUDE = 358.002
  FIRST_STANDARD_PARALLEL = "N/A"
  LINE_FIRST_PIXEL = 1
  LINE_LAST_PIXEL = 48809
  LINE_PROJECTION_OFFSET = 99593.75
  MAP_PROJECTION_ROTATION = 0.0
  MAP_PROJECTION_TYPE = SINUSOIDAL
  MAP_RESOLUTION = 2370.85521546667
  MAP_SCALE = 0.025
  MAXIMUM_LATITUDE = 41.9734
  MINIMUM_LATITUDE = 21.438
  POSITIVE_LONGITUDE_DIRECTION = EAST
  REFERENCE_LATITUDE = "N/A"
  REFERENCE_LONGITUDE = "N/A"
  SAMPLE_FIRST_PIXEL = 1
  SAMPLE_LAST_PIXEL = 5517
  SAMPLE_PROJECTION_OFFSET = 3428.75
  SECOND_STANDARD_PARALLEL = "N/A"
  WESTERNMOST_LONGITUDE = 355.38
END_OBJECT = IMAGE_MAP_PROJECTION
/* The JPEG2000 image data file associated with this label. */
OBJECT = COMPRESSED_FILE
  FILE_NAME = "H7504_0000_P23.JP2"
  RECORD_TYPE = UNDEFINED
  FILE_RECORDS = UNK
  ENCODING_TYPE = "JP2"
  INTERCHANGE_FORMAT = BINARY
  UNCOMPRESSED_FILE_NAME = "H7504_0000_P23.IMG"
  REQUIRED_STORAGE_BYTES = "269306838"
  ^DESCRIPTION = "JP2INFO.TXT"
END_OBJECT = COMPRESSED_FILE
END
