PDS_VERSION_ID = PDS3
/* FILE DATA ELEMENTS */
RECORD_TYPE = STREAM
/* POINTERS TO DATA OBJECTS */
^COMPRESSED_FILE = "H7504_0000_RE3.JP2"
/* IDENTIFICATION DATA ELEMENTS */
DATA_SET_ID = "MEX-M-HRSC-5-REFDR-MAPPROJECTED-V3.0"
DATA_SET_NAME = "MARS EXPRESS HRSC MAP PROJECTED REFDR V3.0"
DETECTOR_ID = MEX_HRSC_RED
EVENT_TYPE = "MARS-REGIONAL-MAPPING-Gl-Pf-La"
INSTRUMENT_HOST_ID = MEX
INSTRUMENT_HOST_NAME = "MARS EXPRESS"
INSTRUMENT_ID = HRSC
INSTRUMENT_NAME = "HIGH RESOLUTION STEREO CAMERA"
MISSION_NAME = "MARS EXPRESS"
MISSION_PHASE_NAME = ME_Phase_18
PROCESSING_LEVEL_ID = 3
PRODUCT_CREATION_TIME = 2016-07-01T12:48:20.000Z
PRODUCT_ID = "H7504_0000_RE3.JP2"
RELEASE_ID = 0083
REVISION_ID = 0000
/* QUALITY DATA ELEMENTS */
DATA_QUALITY_ID = 1
DATA_QUALITY_DESC = "Data calculated based on original SPICE kernels"
/* TIME DATA ELEMENTS */
SPACECRAFT_CLOCK_START_COUNT = "1/0205785746.09071"
SPACECRAFT_CLOCK_STOP_COUNT = "1/0205786207.45385"
START_TIME = 2009-11-08T18:43:39.547Z
STOP_TIME = 2009-11-08T18:49:53.454Z
/* ORBITAL DATA ELEMENTS */
ASCENDING_NODE_LONGITUDE = 74.19
MAXIMUM_RESOLUTION = 145
FOOTPRINT_POINT_LATITUDE = (41.9338,41.9177,41.8999,41.2624,40.912 ,40.5623,40.2044,39.8476,39.4923, 39.1303,38.7684,38.4065,38.0388,37.6703 ,37.1137,36.7385,36.3656,35.986,35.6076 ,35.2243,34.8389,34.4503,33.8673, 33.4673,33.0723,32.6717,32.0696,31.6682 ,31.2532,30.6293,30.0022,29.5815, 29.1689,28.742,28.3092,27.8582,27.4198, 26.9763,26.5302,26.0807,25.6252,25.1665 ,24.7039,24.2373,23.7669,23.2994, 22.8348,22.3729,21.9139,21.4582,21.4352 ,21.4344,21.4334,21.4312,22.1208, 22.5832,23.0476,23.5129,24.22,24.6906, 25.1558,25.6164,26.0734,26.5259,26.9751 ,27.4192,27.8604,28.2976,28.7334,29.162 ,29.8013,30.2245,30.6423,31.2635, 31.6766,32.0836,32.689,33.0913,33.4886, 33.8858,34.2773,34.6671,35.0521,35.4394 ,35.8209,36.2006,36.5796,36.9529, 37.5145,38.0683,38.4374,38.8004,39.1632 ,39.526,39.8826,40.2403,40.7745,41.3022 ,42.0033,41.9338)
FOOTPRINT_POINT_LONGITUDE = (356.96,356.367,355.78,355.624,355.631, 355.637,355.643,355.649,355.653,355.658 ,355.662,355.665,355.669,355.671, 355.675,355.676,355.677,355.678,355.678 ,355.677,355.676,355.675,355.672,355.67 ,355.667,355.663,355.657,355.651, 355.646,355.638,355.628,355.62,355.609, 355.599,355.59,355.583,355.573,355.562, 355.55,355.537,355.524,355.51,355.496, 355.48,355.465,355.448,355.432,355.414, 355.397,355.378,356.142,356.539,357.113 ,357.79,358.023,358.015,358.008,357.999 ,357.988,357.981,357.974,357.967, 357.959,357.952,357.945,357.938,357.93, 357.923,357.917,357.909,357.898,357.891 ,357.884,357.873,357.867,357.859, 357.848,357.841,357.835,357.828,357.821 ,357.812,357.804,357.797,357.79,357.782 ,357.775,357.767,357.756,357.744, 357.737,357.729,357.72,357.712,357.703, 357.695,357.682,357.67,357.651,356.96)
ORBIT_NUMBER = 7504
ORBITAL_ECCENTRICITY = 0.57
ORBITAL_INCLINATION = 86.83
ORBITAL_SEMIMAJOR_AXIS = 8704.95
PERIAPSIS_ALTITUDE = 365.58
PERIAPSIS_ARGUMENT_ANGLE = 122.04
PERIAPSIS_TIME = 2009-11-08T18:38:57.000Z
SPACECRAFT_ORIENTATION = (0.0,-1.0,0.0)
^MEX_ORIENTATION_DESC = "MEX_ORIENTATION_DESC.TXT"
SPACECRAFT_POINTING_MODE = ACROSSTRACK
^MEX_POINTING_DESC = "MEX_POINTING_DESC.TXT"
RIGHT_ASCENSION = -1e+32
DECLINATION = -1e+32
OFFSET_ANGLE = 0.45
SPACECRAFT_SOLAR_DISTANCE = 2.354e+08
TARGET_NAME = MARS
/* CAMERA DATA ELEMENTS */
DETECTOR_TEMPERATURE = 18.7783
FOCAL_PLANE_TEMPERATURE = 8.3794
INST_CMPRS_NAME = "DISCRETE COSINE TRANSFORMATION (DCT)"
INST_CMPRS_RATIO = 16.9094
INST_CMPRS_QUALITY = 0
INST_CMPRS_QUANTZ_TBL_ID = 0
INSTRUMENT_TEMPERATURE = 11.234
LENS_TEMPERATURE = 8.7872
MACROPIXEL_SIZE = 8
MISSING_FRAMES = 0
PIXEL_SUBSAMPLING_FLAG = N
SIGNAL_CHAIN_ID = 2
/* RADIOMETRIC DATA ELEMENTS */
BANDWIDTH = 48.0
CENTER_FILTER_WAVELENGTH = 748.0
RADIANCE_OFFSET = 1.18176
RADIANCE_SCALING_FACTOR = 0.00844651
REFLECTANCE_SCALING_FACTOR = 0.00106812
MEX:REFLECTANCE_OFFSET = 0.149442
/* IMAGE OBJECT DEFINITIONS */
OBJECT = IMAGE
  INTERCHANGE_FORMAT = BINARY
  LINES = 12203
  LINE_SAMPLES = 1380
  SAMPLE_TYPE = UNSIGNED_INTEGER
  SAMPLE_BITS = 8
  BANDS = 1
  BAND_STORAGE_TYPE = BAND_SEQUENTIAL
  MAXIMUM = 255
  MEAN = 135.372
  MINIMUM = 1
  STANDARD_DEVIATION = 40.2052
END_OBJECT = IMAGE
/* MAP OBJECT DEFINITIONS */
OBJECT = IMAGE_MAP_PROJECTION
  ^DATA_SET_MAP_PROJECTION_CATALOG= "DSMAP.CAT"
  A_AXIS_RADIUS = 3396.0
  B_AXIS_RADIUS = 3396.0
  C_AXIS_RADIUS = 3396.0
  CENTER_LATITUDE = 0.0
  CENTER_LONGITUDE = 357.0
  COORDINATE_SYSTEM_NAME = PLANETOGRAPHIC
  COORDINATE_SYSTEM_TYPE = "BODY-FIXED ROTATING"
  EASTERNMOST_LONGITUDE = 358.023
  FIRST_STANDARD_PARALLEL = "N/A"
  LINE_FIRST_PIXEL = 1
  LINE_LAST_PIXEL = 12203
  LINE_PROJECTION_OFFSET = 24898.0625
  MAP_PROJECTION_ROTATION = 0.0
  MAP_PROJECTION_TYPE = SINUSOIDAL
  MAP_RESOLUTION = 592.713803866667
  MAP_SCALE = 0.1
  MAXIMUM_LATITUDE = 42.0033
  MINIMUM_LATITUDE = 21.4312
  POSITIVE_LONGITUDE_DIRECTION = EAST
  REFERENCE_LATITUDE = "N/A"
  REFERENCE_LONGITUDE = "N/A"
  SAMPLE_FIRST_PIXEL = 1
  SAMPLE_LAST_PIXEL = 1380
  SAMPLE_PROJECTION_OFFSET = 856.8125
  SECOND_STANDARD_PARALLEL = "N/A"
  WESTERNMOST_LONGITUDE = 355.378
END_OBJECT = IMAGE_MAP_PROJECTION
/* The JPEG2000 image data file associated with this label. */
OBJECT = COMPRESSED_FILE
  FILE_NAME = "H7504_0000_RE3.JP2"
  RECORD_TYPE = UNDEFINED
  FILE_RECORDS = UNK
  ENCODING_TYPE = "JP2"
  INTERCHANGE_FORMAT = BINARY
  UNCOMPRESSED_FILE_NAME = "H7504_0000_RE3.IMG"
  REQUIRED_STORAGE_BYTES = "16859460"
  ^DESCRIPTION = "JP2INFO.TXT"
END_OBJECT = COMPRESSED_FILE
END
