PDS_VERSION_ID = PDS3
/* FILE DATA ELEMENTS */
RECORD_TYPE = STREAM
/* POINTERS TO DATA OBJECTS */
^COMPRESSED_FILE = "H7508_0000_P23.JP2"
/* IDENTIFICATION DATA ELEMENTS */
DATA_SET_ID = "MEX-M-HRSC-5-REFDR-MAPPROJECTED-V3.0"
DATA_SET_NAME = "MARS EXPRESS HRSC MAP PROJECTED REFDR V3.0"
DETECTOR_ID = MEX_HRSC_P2
EVENT_TYPE = "MARS-REGIONAL-MAPPING-Fl-Pf-Eo"
INSTRUMENT_HOST_ID = MEX
INSTRUMENT_HOST_NAME = "MARS EXPRESS"
INSTRUMENT_ID = HRSC
INSTRUMENT_NAME = "HIGH RESOLUTION STEREO CAMERA"
MISSION_NAME = "MARS EXPRESS"
MISSION_PHASE_NAME = ME_Phase_18
PROCESSING_LEVEL_ID = 3
PRODUCT_CREATION_TIME = 2016-07-01T12:48:20.000Z
PRODUCT_ID = "H7508_0000_P23.JP2"
RELEASE_ID = 0083
REVISION_ID = 0000
/* QUALITY DATA ELEMENTS */
DATA_QUALITY_ID = 1
DATA_QUALITY_DESC = "Data calculated based on original SPICE kernels"
/* TIME DATA ELEMENTS */
SPACECRAFT_CLOCK_START_COUNT = "1/0205885070.09058"
SPACECRAFT_CLOCK_STOP_COUNT = "1/0205885456.49492"
START_TIME = 2009-11-09T22:18:58.391Z
STOP_TIME = 2009-11-09T22:23:51.133Z
/* ORBITAL DATA ELEMENTS */
ASCENDING_NODE_LONGITUDE = 74.11
MAXIMUM_RESOLUTION = 36.3
FOOTPRINT_POINT_LATITUDE = (41.175,41.175,41.1745,41.1734,41.17, 40.7869,40.4957,40.2048,39.9144,39.4702 ,39.1739,38.8785,38.4283,38.1274, 37.8271,37.3692,37.0636,36.7586,36.4469 ,36.1367,35.6699,35.3544,35.04,34.5609, 34.242,33.7574,33.4334,32.9415,32.6131, 32.1136,31.7803,31.4419,31.1045,30.7623 ,30.4203,30.0757,29.7297,29.3781, 28.8503,28.495,28.1365,27.5952,27.2323, 26.8649,26.4955,26.1238,25.7485,25.3709 ,24.9912,24.7992,24.7651,24.7568, 24.7468,24.7381,24.7288,24.7204,24.9136 ,25.2949,25.8634,26.425,26.9807,27.5302 ,28.0742,28.434,28.7903,29.3211,29.6738 ,30.021,30.3686,30.7117,31.0555,31.3941 ,31.7336,32.068,32.5696,32.8993,33.3932 ,33.7183,34.2048,34.5252,35.0056, 35.3212,35.6375,36.107,36.4185,36.8838, 37.1899,37.4968,37.8029,38.1041,38.4058 ,38.858,39.1543,39.4512,39.8973,40.3343 ,40.6265,40.9191,41.2088,41.175)
FOOTPRINT_POINT_LONGITUDE = (311.833,311.521,311.205,310.887, 310.342,310.283,310.297,310.31,310.324, 310.343,310.355,310.367,310.384,310.395 ,310.405,310.421,310.43,310.439,310.448 ,310.456,310.467,310.474,310.481, 310.491,310.496,310.504,310.509,310.515 ,310.519,310.523,310.526,310.529, 310.531,310.532,310.533,310.532,310.532 ,310.532,310.529,310.528,310.526, 310.522,310.518,310.514,310.51,310.505, 310.499,310.493,310.487,310.483,311.032 ,311.403,311.869,312.258,312.644, 313.014,313.008,312.998,312.981,312.965 ,312.948,312.932,312.915,312.903, 312.892,312.875,312.863,312.852,312.84, 312.828,312.816,312.804,312.792,312.78, 312.761,312.749,312.73,312.717,312.698, 312.685,312.665,312.652,312.639,312.618 ,312.604,312.583,312.569,312.555, 312.541,312.526,312.512,312.489,312.474 ,312.459,312.436,312.412,312.396,312.38 ,312.364,311.833)
ORBIT_NUMBER = 7508
ORBITAL_ECCENTRICITY = 0.569
ORBITAL_INCLINATION = 86.83
ORBITAL_SEMIMAJOR_AXIS = 8702.89
PERIAPSIS_ALTITUDE = 365.91
PERIAPSIS_ARGUMENT_ANGLE = 121.38
PERIAPSIS_TIME = 2009-11-09T22:14:00.000Z
SPACECRAFT_ORIENTATION = (0.0,-1.0,0.0)
^MEX_ORIENTATION_DESC = "MEX_ORIENTATION_DESC.TXT"
SPACECRAFT_POINTING_MODE = ACROSSTRACK
^MEX_POINTING_DESC = "MEX_POINTING_DESC.TXT"
RIGHT_ASCENSION = -1e+32
DECLINATION = -1e+32
OFFSET_ANGLE = -0.916
SPACECRAFT_SOLAR_DISTANCE = 2.35603e+08
TARGET_NAME = MARS
/* CAMERA DATA ELEMENTS */
DETECTOR_TEMPERATURE = 18.7783
FOCAL_PLANE_TEMPERATURE = 8.5833
INST_CMPRS_NAME = "DISCRETE COSINE TRANSFORMATION (DCT)"
INST_CMPRS_RATIO = 7.51695
INST_CMPRS_QUALITY = 0
INST_CMPRS_QUANTZ_TBL_ID = 0
INSTRUMENT_TEMPERATURE = 11.234
LENS_TEMPERATURE = 8.9911
MACROPIXEL_SIZE = 2
MISSING_FRAMES = 0
PIXEL_SUBSAMPLING_FLAG = N
SIGNAL_CHAIN_ID = 3
/* RADIOMETRIC DATA ELEMENTS */
BANDWIDTH = 177.0
CENTER_FILTER_WAVELENGTH = 676.5
RADIANCE_OFFSET = 4.28574
RADIANCE_SCALING_FACTOR = 0.016152
REFLECTANCE_SCALING_FACTOR = 0.000475385
MEX:REFLECTANCE_OFFSET = 0.126138
/* IMAGE OBJECT DEFINITIONS */
OBJECT = IMAGE
  INTERCHANGE_FORMAT = BINARY
  LINES = 39165
  LINE_SAMPLES = 5201
  SAMPLE_TYPE = UNSIGNED_INTEGER
  SAMPLE_BITS = 8
  BANDS = 1
  BAND_STORAGE_TYPE = BAND_SEQUENTIAL
  MAXIMUM = 255
  MEAN = 152.127
  MINIMUM = 1
  STANDARD_DEVIATION = 32.1396
END_OBJECT = IMAGE
/* MAP OBJECT DEFINITIONS */
OBJECT = IMAGE_MAP_PROJECTION
  ^DATA_SET_MAP_PROJECTION_CATALOG= "DSMAP.CAT"
  A_AXIS_RADIUS = 3396.0
  B_AXIS_RADIUS = 3396.0
  C_AXIS_RADIUS = 3396.0
  CENTER_LATITUDE = 0.0
  CENTER_LONGITUDE = 312.0
  COORDINATE_SYSTEM_NAME = PLANETOGRAPHIC
  COORDINATE_SYSTEM_TYPE = "BODY-FIXED ROTATING"
  EASTERNMOST_LONGITUDE = 313.014
  FIRST_STANDARD_PARALLEL = "N/A"
  LINE_FIRST_PIXEL = 1
  LINE_LAST_PIXEL = 39165
  LINE_PROJECTION_OFFSET = 97782.75
  MAP_PROJECTION_ROTATION = 0.0
  MAP_PROJECTION_TYPE = SINUSOIDAL
  MAP_RESOLUTION = 2370.85521546667
  MAP_SCALE = 0.025
  MAXIMUM_LATITUDE = 41.2088
  MINIMUM_LATITUDE = 24.7204
  POSITIVE_LONGITUDE_DIRECTION = EAST
  REFERENCE_LATITUDE = "N/A"
  REFERENCE_LONGITUDE = "N/A"
  SAMPLE_FIRST_PIXEL = 1
  SAMPLE_LAST_PIXEL = 5201
  SAMPLE_PROJECTION_OFFSET = 3197.75
  SECOND_STANDARD_PARALLEL = "N/A"
  WESTERNMOST_LONGITUDE = 310.283
END_OBJECT = IMAGE_MAP_PROJECTION
/* The JPEG2000 image data file associated with this label. */
OBJECT = COMPRESSED_FILE
  FILE_NAME = "H7508_0000_P23.JP2"
  RECORD_TYPE = UNDEFINED
  FILE_RECORDS = UNK
  ENCODING_TYPE = "JP2"
  INTERCHANGE_FORMAT = BINARY
  UNCOMPRESSED_FILE_NAME = "H7508_0000_P23.IMG"
  REQUIRED_STORAGE_BYTES = "203723170"
  ^DESCRIPTION = "JP2INFO.TXT"
END_OBJECT = COMPRESSED_FILE
END
