PDS_VERSION_ID = PDS3
/* FILE DATA ELEMENTS */
RECORD_TYPE = STREAM
/* POINTERS TO DATA OBJECTS */
^COMPRESSED_FILE = "H7523_0000_RE3.JP2"
/* IDENTIFICATION DATA ELEMENTS */
DATA_SET_ID = "MEX-M-HRSC-5-REFDR-MAPPROJECTED-V3.0"
DATA_SET_NAME = "MARS EXPRESS HRSC MAP PROJECTED REFDR V3.0"
DETECTOR_ID = MEX_HRSC_RED
EVENT_TYPE = "MARS-REGIONAL-MAPPING-Vo-Te-Fl"
INSTRUMENT_HOST_ID = MEX
INSTRUMENT_HOST_NAME = "MARS EXPRESS"
INSTRUMENT_ID = HRSC
INSTRUMENT_NAME = "HIGH RESOLUTION STEREO CAMERA"
MISSION_NAME = "MARS EXPRESS"
MISSION_PHASE_NAME = ME_Phase_18
PROCESSING_LEVEL_ID = 3
PRODUCT_CREATION_TIME = 2016-07-01T12:48:20.000Z
PRODUCT_ID = "H7523_0000_RE3.JP2"
RELEASE_ID = 0083
REVISION_ID = 0000
/* QUALITY DATA ELEMENTS */
DATA_QUALITY_ID = 1
DATA_QUALITY_DESC = "Data calculated based on original SPICE kernels"
/* TIME DATA ELEMENTS */
SPACECRAFT_CLOCK_START_COUNT = "1/0206257202.09042"
SPACECRAFT_CLOCK_STOP_COUNT = "1/0206257605.17543"
START_TIME = 2009-11-14T05:41:06.114Z
STOP_TIME = 2009-11-14T05:46:37.346Z
/* ORBITAL DATA ELEMENTS */
ASCENDING_NODE_LONGITUDE = 73.82
MAXIMUM_RESOLUTION = 124
FOOTPRINT_POINT_LATITUDE = (59.4155,59.3923,59.4501,58.9048, 58.5037,58.1029,57.7027,57.1028,56.7036 ,56.3048,55.9063,55.5085,55.1111, 54.7148,54.3191,53.7261,53.3315,52.9376 ,52.5444,52.1518,51.7596,51.368,50.9774 ,50.5874,50.1982,49.81,49.422,49.0349, 48.6488,48.2633,47.8719,47.4768,47.083, 46.6895,46.088,45.6869,45.2868,44.8784, 44.4696,44.0623,43.6487,43.234,42.6092, 42.1869,41.7663,41.3381,40.6974,40.2622 ,39.8296,39.3904,39.2364,39.2342,39.233 ,39.2315,39.4522,39.8911,40.3261, 40.7606,41.1888,41.8316,42.2543,42.8889 ,43.3042,43.722,44.3406,44.751,45.3647, 45.9693,46.5764,47.1691,47.5645,47.9611 ,48.3527,48.9342,49.3222,49.7113, 50.1009,50.4912,50.8825,51.2744,51.667, 52.0604,52.454,52.8486,53.2439,53.6398, 54.0364,54.4339,54.8316,55.2301,55.6292 ,56.0289,56.4292,56.8301,57.2315, 57.6333,58.2372,58.6401,59.2436, 59.4155)
FOOTPRINT_POINT_LONGITUDE = (237.596,236.863,236.021,236.139, 236.222,236.303,236.38,236.492,236.563, 236.632,236.699,236.763,236.825,236.884 ,236.942,237.024,237.077,237.128, 237.177,237.224,237.27,237.315,237.357, 237.399,237.438,237.476,237.514,237.549 ,237.583,237.617,237.649,237.682, 237.712,237.742,237.786,237.814,237.84, 237.866,237.892,237.915,237.938,237.96, 237.991,238.011,238.029,238.048,238.072 ,238.087,238.101,238.114,238.82,239.393 ,239.718,240.041,240.285,240.265, 240.245,240.224,240.203,240.171,240.149 ,240.116,240.093,240.07,240.035,240.011 ,239.974,239.937,239.898,239.858, 239.831,239.803,239.775,239.732,239.702 ,239.672,239.64,239.608,239.575,239.542 ,239.507,239.471,239.435,239.397, 239.359,239.319,239.279,239.237,239.194 ,239.15,239.105,239.058,239.01,238.96, 238.909,238.857,238.775,238.719,238.631 ,237.596)
ORBIT_NUMBER = 7523
ORBITAL_ECCENTRICITY = 0.569
ORBITAL_INCLINATION = 86.83
ORBITAL_SEMIMAJOR_AXIS = 8700.85
PERIAPSIS_ALTITUDE = 366.37
PERIAPSIS_ARGUMENT_ANGLE = 118.73
PERIAPSIS_TIME = 2009-11-14T05:40:13.000Z
SPACECRAFT_ORIENTATION = (0.0,-1.0,0.0)
^MEX_ORIENTATION_DESC = "MEX_ORIENTATION_DESC.TXT"
SPACECRAFT_POINTING_MODE = ACROSSTRACK
^MEX_POINTING_DESC = "MEX_POINTING_DESC.TXT"
RIGHT_ASCENSION = -1e+32
DECLINATION = -1e+32
OFFSET_ANGLE = -0.52
SPACECRAFT_SOLAR_DISTANCE = 2.36353e+08
TARGET_NAME = MARS
/* CAMERA DATA ELEMENTS */
DETECTOR_TEMPERATURE = 18.3705
FOCAL_PLANE_TEMPERATURE = 7.9716
INST_CMPRS_NAME = "DISCRETE COSINE TRANSFORMATION (DCT)"
INST_CMPRS_RATIO = 23.4767
INST_CMPRS_QUALITY = 0
INST_CMPRS_QUANTZ_TBL_ID = 0
INSTRUMENT_TEMPERATURE = 11.0301
LENS_TEMPERATURE = 8.3794
MACROPIXEL_SIZE = 8
MISSING_FRAMES = 0
PIXEL_SUBSAMPLING_FLAG = N
SIGNAL_CHAIN_ID = 2
/* RADIOMETRIC DATA ELEMENTS */
BANDWIDTH = 48.0
CENTER_FILTER_WAVELENGTH = 748.0
RADIANCE_OFFSET = 1.49864
RADIANCE_SCALING_FACTOR = 0.00759492
REFLECTANCE_SCALING_FACTOR = 0.00096821
MEX:REFLECTANCE_OFFSET = 0.191049
/* IMAGE OBJECT DEFINITIONS */
OBJECT = IMAGE
  INTERCHANGE_FORMAT = BINARY
  LINES = 12026
  LINE_SAMPLES = 1462
  SAMPLE_TYPE = UNSIGNED_INTEGER
  SAMPLE_BITS = 8
  BANDS = 1
  BAND_STORAGE_TYPE = BAND_SEQUENTIAL
  MAXIMUM = 255
  MEAN = 96.6858
  MINIMUM = 1
  STANDARD_DEVIATION = 49.8548
END_OBJECT = IMAGE
/* MAP OBJECT DEFINITIONS */
OBJECT = IMAGE_MAP_PROJECTION
  ^DATA_SET_MAP_PROJECTION_CATALOG= "DSMAP.CAT"
  A_AXIS_RADIUS = 3396.0
  B_AXIS_RADIUS = 3396.0
  C_AXIS_RADIUS = 3396.0
  CENTER_LATITUDE = 0.0
  CENTER_LONGITUDE = 239.0
  COORDINATE_SYSTEM_NAME = PLANETOGRAPHIC
  COORDINATE_SYSTEM_TYPE = "BODY-FIXED ROTATING"
  EASTERNMOST_LONGITUDE = 240.285
  FIRST_STANDARD_PARALLEL = "N/A"
  LINE_FIRST_PIXEL = 1
  LINE_LAST_PIXEL = 12026
  LINE_PROJECTION_OFFSET = 35293.8125
  MAP_PROJECTION_ROTATION = 0.0
  MAP_PROJECTION_TYPE = SINUSOIDAL
  MAP_RESOLUTION = 592.713803866667
  MAP_SCALE = 0.1
  MAXIMUM_LATITUDE = 59.4501
  MINIMUM_LATITUDE = 39.2315
  POSITIVE_LONGITUDE_DIRECTION = EAST
  REFERENCE_LATITUDE = "N/A"
  REFERENCE_LONGITUDE = "N/A"
  SAMPLE_FIRST_PIXEL = 1
  SAMPLE_LAST_PIXEL = 1462
  SAMPLE_PROJECTION_OFFSET = 891.6875
  SECOND_STANDARD_PARALLEL = "N/A"
  WESTERNMOST_LONGITUDE = 236.021
END_OBJECT = IMAGE_MAP_PROJECTION
/* The JPEG2000 image data file associated with this label. */
OBJECT = COMPRESSED_FILE
  FILE_NAME = "H7523_0000_RE3.JP2"
  RECORD_TYPE = UNDEFINED
  FILE_RECORDS = UNK
  ENCODING_TYPE = "JP2"
  INTERCHANGE_FORMAT = BINARY
  UNCOMPRESSED_FILE_NAME = "H7523_0000_RE3.IMG"
  REQUIRED_STORAGE_BYTES = "17601018"
  ^DESCRIPTION = "JP2INFO.TXT"
END_OBJECT = COMPRESSED_FILE
END
