PDS_VERSION_ID = PDS3
/* FILE DATA ELEMENTS */
RECORD_TYPE = STREAM
/* POINTERS TO DATA OBJECTS */
^COMPRESSED_FILE = "H7529_0000_S13.JP2"
/* IDENTIFICATION DATA ELEMENTS */
DATA_SET_ID = "MEX-M-HRSC-5-REFDR-MAPPROJECTED-V3.0"
DATA_SET_NAME = "MARS EXPRESS HRSC MAP PROJECTED REFDR V3.0"
DETECTOR_ID = MEX_HRSC_S1
EVENT_TYPE = "MARS-REGIONAL-MAPPING-Fl-Gl-Pf"
INSTRUMENT_HOST_ID = MEX
INSTRUMENT_HOST_NAME = "MARS EXPRESS"
INSTRUMENT_ID = HRSC
INSTRUMENT_NAME = "HIGH RESOLUTION STEREO CAMERA"
MISSION_NAME = "MARS EXPRESS"
MISSION_PHASE_NAME = ME_Phase_18
PROCESSING_LEVEL_ID = 3
PRODUCT_CREATION_TIME = 2016-07-01T12:48:20.000Z
PRODUCT_ID = "H7529_0000_S13.JP2"
RELEASE_ID = 0083
REVISION_ID = 0000
/* QUALITY DATA ELEMENTS */
DATA_QUALITY_ID = 1
DATA_QUALITY_DESC = "Data calculated based on original SPICE kernels"
/* TIME DATA ELEMENTS */
SPACECRAFT_CLOCK_START_COUNT = "1/0206406293.07287"
SPACECRAFT_CLOCK_STOP_COUNT = "1/0206406705.04763"
START_TIME = 2009-11-15T23:04:55.606Z
STOP_TIME = 2009-11-15T23:09:53.603Z
/* ORBITAL DATA ELEMENTS */
ASCENDING_NODE_LONGITUDE = 73.7
MAXIMUM_RESOLUTION = 32.6
FOOTPRINT_POINT_LATITUDE = (51.7347,51.7123,51.6882,51.3938, 51.0366,50.5007,50.1425,49.6061,49.2483 ,48.7118,48.354,47.9965,47.46,47.1023, 46.5659,46.2083,45.851,45.4934,44.9573, 44.4109,44.0445,43.6778,43.3109,42.9382 ,42.5625,41.9993,41.6213,41.2367, 40.8529,40.4688,40.078,39.6847,39.2922, 38.6934,38.2928,37.6841,37.2732,36.8632 ,36.2364,35.8177,35.3944,34.9683, 34.5355,33.8863,33.4459,33.0012,32.7785 ,32.553,32.3274,32.3303,32.3372,32.34, 32.343,32.3451,32.3451,32.573,32.7985, 33.0211,33.4683,33.9095,34.3458,34.7797 ,35.4206,35.8476,36.268,36.8963,37.3063 ,37.7164,38.1237,38.5261,39.1309, 39.7218,40.116,40.5073,41.0854,41.4706, 41.8534,42.4183,42.7946,43.3568,43.7241 ,44.092,44.6432,45.0073,45.5451,46.0825 ,46.6202,47.1581,47.5169,47.8757, 48.2346,48.5932,48.9523,49.3109,49.8487 ,50.2075,50.566,51.1036,51.6411, 51.7347)
FOOTPRINT_POINT_LONGITUDE = (354.791,354.048,353.406,353.097,353.13 ,353.177,353.207,353.251,353.279, 353.318,353.344,353.369,353.404,353.427 ,353.459,353.479,353.499,353.518, 353.545,353.572,353.588,353.604,353.619 ,353.634,353.648,353.668,353.681, 353.693,353.705,353.716,353.726,353.736 ,353.745,353.758,353.766,353.776, 353.782,353.788,353.795,353.8,353.804, 353.807,353.809,353.813,353.814,353.814 ,353.814,353.814,353.814,354.187, 354.686,354.956,355.268,355.683,355.961 ,355.956,355.952,355.948,355.938,355.93 ,355.921,355.912,355.898,355.888, 355.878,355.863,355.853,355.843,355.832 ,355.821,355.803,355.786,355.774, 355.762,355.743,355.731,355.718,355.698 ,355.685,355.664,355.65,355.635,355.613 ,355.598,355.575,355.551,355.526, 355.501,355.483,355.465,355.447,355.428 ,355.409,355.389,355.359,355.338, 355.317,355.284,355.25,354.791)
ORBIT_NUMBER = 7529
ORBITAL_ECCENTRICITY = 0.569
ORBITAL_INCLINATION = 86.83
ORBITAL_SEMIMAJOR_AXIS = 8698.89
PERIAPSIS_ALTITUDE = 367.8
PERIAPSIS_ARGUMENT_ANGLE = 117.69
PERIAPSIS_TIME = 2009-11-15T23:02:45.000Z
SPACECRAFT_ORIENTATION = (0.0,-1.0,0.0)
^MEX_ORIENTATION_DESC = "MEX_ORIENTATION_DESC.TXT"
SPACECRAFT_POINTING_MODE = NADIR
^MEX_POINTING_DESC = "MEX_POINTING_DESC.TXT"
RIGHT_ASCENSION = -1e+32
DECLINATION = -1e+32
OFFSET_ANGLE = -1e+32
SPACECRAFT_SOLAR_DISTANCE = 2.36649e+08
TARGET_NAME = MARS
/* CAMERA DATA ELEMENTS */
DETECTOR_TEMPERATURE = 17.5549
FOCAL_PLANE_TEMPERATURE = 8.1755
INST_CMPRS_NAME = "DISCRETE COSINE TRANSFORMATION (DCT)"
INST_CMPRS_RATIO = 12.6364
INST_CMPRS_QUALITY = 0
INST_CMPRS_QUANTZ_TBL_ID = 0
INSTRUMENT_TEMPERATURE = 11.234
LENS_TEMPERATURE = 8.5833
MACROPIXEL_SIZE = 2
MISSING_FRAMES = 0
PIXEL_SUBSAMPLING_FLAG = N
SIGNAL_CHAIN_ID = 1
/* RADIOMETRIC DATA ELEMENTS */
BANDWIDTH = 180.0
CENTER_FILTER_WAVELENGTH = 677.0
RADIANCE_OFFSET = 4.46275
RADIANCE_SCALING_FACTOR = 0.0253372
REFLECTANCE_SCALING_FACTOR = 0.000740304
MEX:REFLECTANCE_OFFSET = 0.130393
/* IMAGE OBJECT DEFINITIONS */
OBJECT = IMAGE
  INTERCHANGE_FORMAT = BINARY
  LINES = 45791
  LINE_SAMPLES = 4983
  SAMPLE_TYPE = UNSIGNED_INTEGER
  SAMPLE_BITS = 8
  BANDS = 1
  BAND_STORAGE_TYPE = BAND_SEQUENTIAL
  MAXIMUM = 255
  MEAN = 79.2366
  MINIMUM = 1
  STANDARD_DEVIATION = 61.1792
END_OBJECT = IMAGE
/* MAP OBJECT DEFINITIONS */
OBJECT = IMAGE_MAP_PROJECTION
  ^DATA_SET_MAP_PROJECTION_CATALOG= "DSMAP.CAT"
  A_AXIS_RADIUS = 3396.0
  B_AXIS_RADIUS = 3396.0
  C_AXIS_RADIUS = 3396.0
  CENTER_LATITUDE = 0.0
  CENTER_LONGITUDE = 355.0
  COORDINATE_SYSTEM_NAME = PLANETOGRAPHIC
  COORDINATE_SYSTEM_TYPE = "BODY-FIXED ROTATING"
  EASTERNMOST_LONGITUDE = 355.961
  FIRST_STANDARD_PARALLEL = "N/A"
  LINE_FIRST_PIXEL = 1
  LINE_LAST_PIXEL = 45791
  LINE_PROJECTION_OFFSET = 122474.25
  MAP_PROJECTION_ROTATION = 0.0
  MAP_PROJECTION_TYPE = SINUSOIDAL
  MAP_RESOLUTION = 2370.85521546667
  MAP_SCALE = 0.025
  MAXIMUM_LATITUDE = 51.7347
  MINIMUM_LATITUDE = 32.3274
  POSITIVE_LONGITUDE_DIRECTION = EAST
  REFERENCE_LATITUDE = "N/A"
  REFERENCE_LONGITUDE = "N/A"
  SAMPLE_FIRST_PIXEL = 1
  SAMPLE_LAST_PIXEL = 4983
  SAMPLE_PROJECTION_OFFSET = 2886.75
  SECOND_STANDARD_PARALLEL = "N/A"
  WESTERNMOST_LONGITUDE = 353.097
END_OBJECT = IMAGE_MAP_PROJECTION
/* The JPEG2000 image data file associated with this label. */
OBJECT = COMPRESSED_FILE
  FILE_NAME = "H7529_0000_S13.JP2"
  RECORD_TYPE = UNDEFINED
  FILE_RECORDS = UNK
  ENCODING_TYPE = "JP2"
  INTERCHANGE_FORMAT = BINARY
  UNCOMPRESSED_FILE_NAME = "H7529_0000_S13.IMG"
  REQUIRED_STORAGE_BYTES = "228201468"
  ^DESCRIPTION = "JP2INFO.TXT"
END_OBJECT = COMPRESSED_FILE
END
