PDS_VERSION_ID = PDS3
/* FILE DATA ELEMENTS */
RECORD_TYPE = STREAM
/* POINTERS TO DATA OBJECTS */
^COMPRESSED_FILE = "H7530_0000_RE3.JP2"
/* IDENTIFICATION DATA ELEMENTS */
DATA_SET_ID = "MEX-M-HRSC-5-REFDR-MAPPROJECTED-V3.0"
DATA_SET_NAME = "MARS EXPRESS HRSC MAP PROJECTED REFDR V3.0"
DETECTOR_ID = MEX_HRSC_RED
EVENT_TYPE = "MARS-REGIONAL-MAPPING-Vo-Te"
INSTRUMENT_HOST_ID = MEX
INSTRUMENT_HOST_NAME = "MARS EXPRESS"
INSTRUMENT_ID = HRSC
INSTRUMENT_NAME = "HIGH RESOLUTION STEREO CAMERA"
MISSION_NAME = "MARS EXPRESS"
MISSION_PHASE_NAME = ME_Phase_18
PROCESSING_LEVEL_ID = 3
PRODUCT_CREATION_TIME = 2016-07-01T12:48:20.000Z
PRODUCT_ID = "H7530_0000_RE3.JP2"
RELEASE_ID = 0083
REVISION_ID = 0000
/* QUALITY DATA ELEMENTS */
DATA_QUALITY_ID = 1
DATA_QUALITY_DESC = "Data calculated based on original SPICE kernels"
/* TIME DATA ELEMENTS */
SPACECRAFT_CLOCK_START_COUNT = "1/0206431014.09113"
SPACECRAFT_CLOCK_STOP_COUNT = "1/0206431334.30480"
START_TIME = 2009-11-16T05:57:58.088Z
STOP_TIME = 2009-11-16T06:02:07.028Z
/* ORBITAL DATA ELEMENTS */
ASCENDING_NODE_LONGITUDE = 73.69
MAXIMUM_RESOLUTION = 125.3
FOOTPRINT_POINT_LATITUDE = (58.6326,58.6103,58.5826,58.4849, 58.1807,57.877,57.5734,57.1183,56.6639, 56.3619,56.0595,55.7579,55.4563,55.1554 ,54.8547,54.5544,54.2546,53.8049, 53.5058,53.2074,52.7599,52.4624,52.0163 ,51.7197,51.4238,50.98,50.6851,50.2433, 49.9493,49.6559,49.3619,49.0619,48.6118 ,48.1629,47.7094,47.4016,46.9419, 46.4841,46.0153,45.7026,45.3906,45.0732 ,44.7556,44.4405,44.1264,43.8071, 43.4873,43.3528,43.3588,43.3686,43.374, 43.3844,43.7067,44.0291,44.346,44.6644, 44.9826,45.2997,45.6113,45.9247,46.2379 ,46.5497,46.8559,47.1616,47.4689, 47.9291,48.2289,48.5297,48.8297,49.1311 ,49.4321,49.7264,50.1684,50.4633, 50.7591,51.055,51.3516,51.6482,51.9459, 52.2435,52.5419,52.8405,53.1397,53.4391 ,53.7393,54.0397,54.3407,54.6416, 55.0941,55.3962,55.6988,56.002,56.4569, 56.7604,57.0641,57.3689,57.6737,57.9789 ,58.2843,58.6326)
FOOTPRINT_POINT_LONGITUDE = (253.431,252.759,252.021,251.314, 251.365,251.415,251.463,251.533,251.6, 251.643,251.685,251.725,251.765,251.803 ,251.841,251.877,251.912,251.963, 251.996,252.028,252.075,252.104,252.147 ,252.175,252.202,252.241,252.265, 252.301,252.324,252.347,252.369,252.39, 252.421,252.451,252.481,252.501,252.529 ,252.555,252.581,252.598,252.615, 252.632,252.647,252.661,252.673,252.686 ,252.697,253.247,253.531,254.018, 254.323,254.866,254.852,254.838,254.824 ,254.811,254.797,254.782,254.768, 254.754,254.74,254.724,254.709,254.694, 254.678,254.653,254.637,254.62,254.603, 254.585,254.567,254.549,254.521,254.502 ,254.483,254.464,254.444,254.423, 254.402,254.381,254.359,254.337,254.314 ,254.291,254.268,254.244,254.219, 254.194,254.155,254.129,254.102,254.074 ,254.031,254.002,253.972,253.941,253.91 ,253.878,253.845,253.431)
ORBIT_NUMBER = 7530
ORBITAL_ECCENTRICITY = 0.569
ORBITAL_INCLINATION = 86.83
ORBITAL_SEMIMAJOR_AXIS = 8699.89
PERIAPSIS_ALTITUDE = 367.15
PERIAPSIS_ARGUMENT_ANGLE = 117.51
PERIAPSIS_TIME = 2009-11-16T05:56:33.000Z
SPACECRAFT_ORIENTATION = (0.0,-1.0,0.0)
^MEX_ORIENTATION_DESC = "MEX_ORIENTATION_DESC.TXT"
SPACECRAFT_POINTING_MODE = NADIR
^MEX_POINTING_DESC = "MEX_POINTING_DESC.TXT"
RIGHT_ASCENSION = -1e+32
DECLINATION = -1e+32
OFFSET_ANGLE = -1e+32
SPACECRAFT_SOLAR_DISTANCE = 2.36698e+08
TARGET_NAME = MARS
/* CAMERA DATA ELEMENTS */
DETECTOR_TEMPERATURE = 18.3705
FOCAL_PLANE_TEMPERATURE = 8.3794
INST_CMPRS_NAME = "DISCRETE COSINE TRANSFORMATION (DCT)"
INST_CMPRS_RATIO = 26.7043
INST_CMPRS_QUALITY = 0
INST_CMPRS_QUANTZ_TBL_ID = 0
INSTRUMENT_TEMPERATURE = 11.234
LENS_TEMPERATURE = 8.5833
MACROPIXEL_SIZE = 8
MISSING_FRAMES = 0
PIXEL_SUBSAMPLING_FLAG = N
SIGNAL_CHAIN_ID = 2
/* RADIOMETRIC DATA ELEMENTS */
BANDWIDTH = 48.0
CENTER_FILTER_WAVELENGTH = 748.0
RADIANCE_OFFSET = 1.19891
RADIANCE_SCALING_FACTOR = 0.00849907
REFLECTANCE_SCALING_FACTOR = 0.00108664
MEX:REFLECTANCE_OFFSET = 0.153286
/* IMAGE OBJECT DEFINITIONS */
OBJECT = IMAGE
  INTERCHANGE_FORMAT = BINARY
  LINES = 9096
  LINE_SAMPLES = 1329
  SAMPLE_TYPE = UNSIGNED_INTEGER
  SAMPLE_BITS = 8
  BANDS = 1
  BAND_STORAGE_TYPE = BAND_SEQUENTIAL
  MAXIMUM = 255
  MEAN = 109.286
  MINIMUM = 1
  STANDARD_DEVIATION = 42.8353
END_OBJECT = IMAGE
/* MAP OBJECT DEFINITIONS */
OBJECT = IMAGE_MAP_PROJECTION
  ^DATA_SET_MAP_PROJECTION_CATALOG= "DSMAP.CAT"
  A_AXIS_RADIUS = 3396.0
  B_AXIS_RADIUS = 3396.0
  C_AXIS_RADIUS = 3396.0
  CENTER_LATITUDE = 0.0
  CENTER_LONGITUDE = 253.0
  COORDINATE_SYSTEM_NAME = PLANETOGRAPHIC
  COORDINATE_SYSTEM_TYPE = "BODY-FIXED ROTATING"
  EASTERNMOST_LONGITUDE = 254.866
  FIRST_STANDARD_PARALLEL = "N/A"
  LINE_FIRST_PIXEL = 1
  LINE_LAST_PIXEL = 9096
  LINE_PROJECTION_OFFSET = 34808.5625
  MAP_PROJECTION_ROTATION = 0.0
  MAP_PROJECTION_TYPE = SINUSOIDAL
  MAP_RESOLUTION = 592.713803866667
  MAP_SCALE = 0.1
  MAXIMUM_LATITUDE = 58.6326
  MINIMUM_LATITUDE = 43.3528
  POSITIVE_LONGITUDE_DIRECTION = EAST
  REFERENCE_LATITUDE = "N/A"
  REFERENCE_LONGITUDE = "N/A"
  SAMPLE_FIRST_PIXEL = 1
  SAMPLE_LAST_PIXEL = 1329
  SAMPLE_PROJECTION_OFFSET = 530.9375
  SECOND_STANDARD_PARALLEL = "N/A"
  WESTERNMOST_LONGITUDE = 251.314
END_OBJECT = IMAGE_MAP_PROJECTION
/* The JPEG2000 image data file associated with this label. */
OBJECT = COMPRESSED_FILE
  FILE_NAME = "H7530_0000_RE3.JP2"
  RECORD_TYPE = UNDEFINED
  FILE_RECORDS = UNK
  ENCODING_TYPE = "JP2"
  INTERCHANGE_FORMAT = BINARY
  UNCOMPRESSED_FILE_NAME = "H7530_0000_RE3.IMG"
  REQUIRED_STORAGE_BYTES = "12107190"
  ^DESCRIPTION = "JP2INFO.TXT"
END_OBJECT = COMPRESSED_FILE
END
