PDS_VERSION_ID = PDS3
/* FILE DATA ELEMENTS */
RECORD_TYPE = STREAM
/* POINTERS TO DATA OBJECTS */
^COMPRESSED_FILE = "H7531_0000_P13.JP2"
/* IDENTIFICATION DATA ELEMENTS */
DATA_SET_ID = "MEX-M-HRSC-5-REFDR-MAPPROJECTED-V3.0"
DATA_SET_NAME = "MARS EXPRESS HRSC MAP PROJECTED REFDR V3.0"
DETECTOR_ID = MEX_HRSC_P1
EVENT_TYPE = "MARS-REGIONAL-MAPPING-Im-Pf-At"
INSTRUMENT_HOST_ID = MEX
INSTRUMENT_HOST_NAME = "MARS EXPRESS"
INSTRUMENT_ID = HRSC
INSTRUMENT_NAME = "HIGH RESOLUTION STEREO CAMERA"
MISSION_NAME = "MARS EXPRESS"
MISSION_PHASE_NAME = ME_Phase_18
PROCESSING_LEVEL_ID = 3
PRODUCT_CREATION_TIME = 2016-07-01T12:48:20.000Z
PRODUCT_ID = "H7531_0000_P13.JP2"
RELEASE_ID = 0083
REVISION_ID = 0000
/* QUALITY DATA ELEMENTS */
DATA_QUALITY_ID = 1
DATA_QUALITY_DESC = "Data calculated based on original SPICE kernels"
/* TIME DATA ELEMENTS */
SPACECRAFT_CLOCK_START_COUNT = "1/0206455724.08254"
SPACECRAFT_CLOCK_STOP_COUNT = "1/0206455985.30624"
START_TIME = 2009-11-16T12:48:58.626Z
STOP_TIME = 2009-11-16T12:52:07.509Z
/* ORBITAL DATA ELEMENTS */
ASCENDING_NODE_LONGITUDE = 73.66
MAXIMUM_RESOLUTION = 30.5
FOOTPRINT_POINT_LATITUDE = (66.3302,66.2951,66.2493,66.1366, 65.8809,65.4969,65.2408,64.9844,64.5992 ,64.342,64.085,63.8276,63.5699,63.3119, 63.0537,62.7954,62.555,62.3381,62.1211, 61.9045,61.579,61.3618,61.1441,60.8177, 60.6001,60.3823,60.0554,59.8375,59.6192 ,59.4011,59.1827,58.9644,58.7459,58.418 ,58.1995,57.9743,57.5826,57.3213, 57.0602,56.7986,56.4062,56.1446,55.7521 ,55.3595,54.9667,54.7049,54.443,54.05, 54.0709,54.0846,54.0988,54.1088,54.1227 ,54.2605,54.5236,54.7865,55.0493, 55.4436,55.7065,55.9693,56.2321,56.6262 ,56.8888,57.1514,57.5454,57.8079, 58.0703,58.2968,58.5166,58.7364,58.956, 59.1755,59.3951,59.6145,59.834,60.0535, 60.3817,60.6006,60.8197,61.0386,61.3667 ,61.5856,61.8042,62.1319,62.3503, 62.5686,62.7889,63.0494,63.3095,63.5695 ,63.8293,64.0889,64.4778,64.737,65.1255 ,65.3841,65.7716,66.0302,66.2882, 66.3302)
FOOTPRINT_POINT_LONGITUDE = (150.743,149.963,149.065,148.513, 148.603,148.733,148.818,148.9,149.02, 149.097,149.173,149.247,149.319,149.39, 149.459,149.526,149.586,149.64,149.693, 149.745,149.821,149.871,149.919,149.99, 150.036,150.081,150.148,150.191,150.233 ,150.275,150.316,150.356,150.395, 150.452,150.49,150.528,150.592,150.633, 150.674,150.713,150.771,150.808,150.863 ,150.916,150.966,150.999,151.032, 151.079,151.582,151.933,152.328,152.636 ,153.119,153.337,153.316,153.295, 153.273,153.24,153.217,153.194,153.17, 153.134,153.109,153.084,153.045,153.018 ,152.991,152.968,152.944,152.92,152.896 ,152.872,152.847,152.821,152.795, 152.769,152.73,152.702,152.675,152.646, 152.603,152.574,152.544,152.498,152.466 ,152.435,152.402,152.362,152.322, 152.281,152.239,152.196,152.13,152.085, 152.015,151.967,151.893,151.842,151.79, 150.743)
ORBIT_NUMBER = 7531
ORBITAL_ECCENTRICITY = 0.569
ORBITAL_INCLINATION = 86.82
ORBITAL_SEMIMAJOR_AXIS = 8699.12
PERIAPSIS_ALTITUDE = 368.56
PERIAPSIS_ARGUMENT_ANGLE = 117.37
PERIAPSIS_TIME = 2009-11-16T12:50:19.000Z
SPACECRAFT_ORIENTATION = (0.0,-1.0,0.0)
^MEX_ORIENTATION_DESC = "MEX_ORIENTATION_DESC.TXT"
SPACECRAFT_POINTING_MODE = NADIR
^MEX_POINTING_DESC = "MEX_POINTING_DESC.TXT"
RIGHT_ASCENSION = -1e+32
DECLINATION = -1e+32
OFFSET_ANGLE = -1e+32
SPACECRAFT_SOLAR_DISTANCE = 2.36747e+08
TARGET_NAME = MARS
/* CAMERA DATA ELEMENTS */
DETECTOR_TEMPERATURE = 17.1471
FOCAL_PLANE_TEMPERATURE = 7.3599
INST_CMPRS_NAME = "DISCRETE COSINE TRANSFORMATION (DCT)"
INST_CMPRS_RATIO = 16.4489
INST_CMPRS_QUALITY = 0
INST_CMPRS_QUANTZ_TBL_ID = 0
INSTRUMENT_TEMPERATURE = 11.0301
LENS_TEMPERATURE = 8.3794
MACROPIXEL_SIZE = 2
MISSING_FRAMES = 0
PIXEL_SUBSAMPLING_FLAG = N
SIGNAL_CHAIN_ID = 3
/* RADIOMETRIC DATA ELEMENTS */
BANDWIDTH = 174.0
CENTER_FILTER_WAVELENGTH = 675.0
RADIANCE_OFFSET = 4.17111
RADIANCE_SCALING_FACTOR = 0.0213025
REFLECTANCE_SCALING_FACTOR = 0.000642221
MEX:REFLECTANCE_OFFSET = 0.125749
/* IMAGE OBJECT DEFINITIONS */
OBJECT = IMAGE
  INTERCHANGE_FORMAT = BINARY
  LINES = 28997
  LINE_SAMPLES = 5577
  SAMPLE_TYPE = UNSIGNED_INTEGER
  SAMPLE_BITS = 8
  BANDS = 1
  BAND_STORAGE_TYPE = BAND_SEQUENTIAL
  MAXIMUM = 255
  MEAN = 107.69
  MINIMUM = 1
  STANDARD_DEVIATION = 76.1673
END_OBJECT = IMAGE
/* MAP OBJECT DEFINITIONS */
OBJECT = IMAGE_MAP_PROJECTION
  ^DATA_SET_MAP_PROJECTION_CATALOG= "DSMAP.CAT"
  A_AXIS_RADIUS = 3396.0
  B_AXIS_RADIUS = 3396.0
  C_AXIS_RADIUS = 3396.0
  CENTER_LATITUDE = 0.0
  CENTER_LONGITUDE = 151.0
  COORDINATE_SYSTEM_NAME = PLANETOGRAPHIC
  COORDINATE_SYSTEM_TYPE = "BODY-FIXED ROTATING"
  EASTERNMOST_LONGITUDE = 153.337
  FIRST_STANDARD_PARALLEL = "N/A"
  LINE_FIRST_PIXEL = 1
  LINE_LAST_PIXEL = 28997
  LINE_PROJECTION_OFFSET = 157162.75
  MAP_PROJECTION_ROTATION = 0.0
  MAP_PROJECTION_TYPE = SINUSOIDAL
  MAP_RESOLUTION = 2370.85521546667
  MAP_SCALE = 0.025
  MAXIMUM_LATITUDE = 66.3302
  MINIMUM_LATITUDE = 54.05
  POSITIVE_LONGITUDE_DIRECTION = EAST
  REFERENCE_LATITUDE = "N/A"
  REFERENCE_LONGITUDE = "N/A"
  SAMPLE_FIRST_PIXEL = 1
  SAMPLE_LAST_PIXEL = 5577
  SAMPLE_PROJECTION_OFFSET = 2351.75
  SECOND_STANDARD_PARALLEL = "N/A"
  WESTERNMOST_LONGITUDE = 148.513
END_OBJECT = IMAGE_MAP_PROJECTION
/* The JPEG2000 image data file associated with this label. */
OBJECT = COMPRESSED_FILE
  FILE_NAME = "H7531_0000_P13.JP2"
  RECORD_TYPE = UNDEFINED
  FILE_RECORDS = UNK
  ENCODING_TYPE = "JP2"
  INTERCHANGE_FORMAT = BINARY
  UNCOMPRESSED_FILE_NAME = "H7531_0000_P13.IMG"
  REQUIRED_STORAGE_BYTES = "161744154"
  ^DESCRIPTION = "JP2INFO.TXT"
END_OBJECT = COMPRESSED_FILE
END
