PDS_VERSION_ID = PDS3
/* FILE DATA ELEMENTS */
RECORD_TYPE = STREAM
/* POINTERS TO DATA OBJECTS */
^COMPRESSED_FILE = "H7539_0000_BL3.JP2"
/* IDENTIFICATION DATA ELEMENTS */
DATA_SET_ID = "MEX-M-HRSC-5-REFDR-MAPPROJECTED-V3.0"
DATA_SET_NAME = "MARS EXPRESS HRSC MAP PROJECTED REFDR V3.0"
DETECTOR_ID = MEX_HRSC_BLUE
EVENT_TYPE = "MARS-REGIONAL-MAPPING-Pf-At"
INSTRUMENT_HOST_ID = MEX
INSTRUMENT_HOST_NAME = "MARS EXPRESS"
INSTRUMENT_ID = HRSC
INSTRUMENT_NAME = "HIGH RESOLUTION STEREO CAMERA"
MISSION_NAME = "MARS EXPRESS"
MISSION_PHASE_NAME = ME_Phase_18
PROCESSING_LEVEL_ID = 3
PRODUCT_CREATION_TIME = 2016-07-01T12:48:20.000Z
PRODUCT_ID = "H7539_0000_BL3.JP2"
RELEASE_ID = 0083
REVISION_ID = 0000
/* QUALITY DATA ELEMENTS */
DATA_QUALITY_ID = 1
DATA_QUALITY_DESC = "Data calculated based on original SPICE kernels"
/* TIME DATA ELEMENTS */
SPACECRAFT_CLOCK_START_COUNT = "1/0206654261.07274"
SPACECRAFT_CLOCK_STOP_COUNT = "1/0206654514.28948"
START_TIME = 2009-11-18T19:58:25.464Z
STOP_TIME = 2009-11-18T20:01:26.213Z
/* ORBITAL DATA ELEMENTS */
ASCENDING_NODE_LONGITUDE = 73.5
MAXIMUM_RESOLUTION = 59.3
FOOTPRINT_POINT_LATITUDE = (71.6324,71.5754,71.5284,71.4814, 71.2325,70.9833,70.6091,70.2344,69.9845 ,69.7343,69.4839,69.2333,68.9826, 68.7318,68.4808,68.2296,67.9783,67.727, 67.4755,67.2238,66.9721,66.7203,66.4685 ,66.2573,66.0461,65.7292,65.5179, 65.2008,64.9893,64.7778,64.5663,64.249, 64.0374,63.8257,63.6141,63.2967,63.0851 ,62.7676,62.5559,62.3442,62.1326, 61.9209,61.7092,61.4977,61.286,61.0745, 60.7571,60.5363,60.2839,59.9659,60.011, 60.0284,60.0489,60.3128,60.5665,60.8006 ,61.0134,61.2261,61.439,61.7583,61.9712 ,62.1841,62.5036,62.7166,63.0361, 63.2493,63.4623,63.782,63.9951,64.2083, 64.528,64.7411,64.9543,65.274,65.4871, 65.7002,65.9133,66.1264,66.3395,66.5525 ,66.7946,67.0488,67.303,67.5571,67.8112 ,68.0653,68.3192,68.5731,68.827,69.0807 ,69.4612,69.7148,70.095,70.3484,70.6016 ,70.8548,71.1078,71.3607,71.6134, 71.6324)
FOOTPRINT_POINT_LONGITUDE = (62.6874,61.4326,60.5158,59.2782, 59.4309,59.5796,59.7952,60.0013,60.1338 ,60.2628,60.3883,60.5105,60.6292, 60.7447,60.8571,60.967,61.0734,61.1769, 61.278,61.3767,61.4727,61.5664,61.6576, 61.7322,61.8055,61.9124,61.9818,62.0833 ,62.1493,62.2141,62.2774,62.3699,62.43, 62.4896,62.5471,62.6313,62.6862,62.7666 ,62.819,62.8702,62.9203,62.9696,63.0182 ,63.0653,63.1117,63.1572,63.2238, 63.2692,63.3196,63.5747,64.6138,65.0738 ,65.6795,65.9469,65.9143,65.8839, 65.8558,65.8271,65.798,65.7532,65.7228, 65.6917,65.6443,65.6118,65.5621,65.5285 ,65.4939,65.441,65.405,65.3682,65.3118, 65.2733,65.2342,65.1739,65.1327,65.0907 ,65.048,65.0042,64.96,64.9145,64.8617, 64.8051,64.7471,64.6877,64.6269,64.5645 ,64.5005,64.4347,64.3675,64.2983,64.191 ,64.1175,64.0031,63.9245,63.8435, 63.7603,63.6747,63.5866,63.4959, 62.6874)
ORBIT_NUMBER = 7539
ORBITAL_ECCENTRICITY = 0.569
ORBITAL_INCLINATION = 86.84
ORBITAL_SEMIMAJOR_AXIS = 8700.09
PERIAPSIS_ALTITUDE = 367.85
PERIAPSIS_ARGUMENT_ANGLE = 115.96
PERIAPSIS_TIME = 2009-11-18T20:00:20.000Z
SPACECRAFT_ORIENTATION = (0.0,-1.0,0.0)
^MEX_ORIENTATION_DESC = "MEX_ORIENTATION_DESC.TXT"
SPACECRAFT_POINTING_MODE = NADIR
^MEX_POINTING_DESC = "MEX_POINTING_DESC.TXT"
RIGHT_ASCENSION = -1e+32
DECLINATION = -1e+32
OFFSET_ANGLE = -1e+32
SPACECRAFT_SOLAR_DISTANCE = 2.37137e+08
TARGET_NAME = MARS
/* CAMERA DATA ELEMENTS */
DETECTOR_TEMPERATURE = 17.9627
FOCAL_PLANE_TEMPERATURE = 7.5638
INST_CMPRS_NAME = "DISCRETE COSINE TRANSFORMATION (DCT)"
INST_CMPRS_RATIO = 9.88384
INST_CMPRS_QUALITY = 0
INST_CMPRS_QUANTZ_TBL_ID = 0
INSTRUMENT_TEMPERATURE = 10.6223
LENS_TEMPERATURE = 7.9716
MACROPIXEL_SIZE = 4
MISSING_FRAMES = 0
PIXEL_SUBSAMPLING_FLAG = N
SIGNAL_CHAIN_ID = 2
/* RADIOMETRIC DATA ELEMENTS */
BANDWIDTH = 76.0
CENTER_FILTER_WAVELENGTH = 444.0
RADIANCE_OFFSET = 0.867808
RADIANCE_SCALING_FACTOR = 0.00284629
REFLECTANCE_SCALING_FACTOR = 0.000164449
MEX:REFLECTANCE_OFFSET = 0.050139
/* IMAGE OBJECT DEFINITIONS */
OBJECT = IMAGE
  INTERCHANGE_FORMAT = BINARY
  LINES = 13903
  LINE_SAMPLES = 2915
  SAMPLE_TYPE = UNSIGNED_INTEGER
  SAMPLE_BITS = 8
  BANDS = 1
  BAND_STORAGE_TYPE = BAND_SEQUENTIAL
  MAXIMUM = 255
  MEAN = 165.532
  MINIMUM = 1
  STANDARD_DEVIATION = 49.468
END_OBJECT = IMAGE
/* MAP OBJECT DEFINITIONS */
OBJECT = IMAGE_MAP_PROJECTION
  ^DATA_SET_MAP_PROJECTION_CATALOG= "DSMAP.CAT"
  A_AXIS_RADIUS = 3396.0
  B_AXIS_RADIUS = 3396.0
  C_AXIS_RADIUS = 3396.0
  CENTER_LATITUDE = 0.0
  CENTER_LONGITUDE = 64.0
  COORDINATE_SYSTEM_NAME = PLANETOGRAPHIC
  COORDINATE_SYSTEM_TYPE = "BODY-FIXED ROTATING"
  EASTERNMOST_LONGITUDE = 65.9469
  FIRST_STANDARD_PARALLEL = "N/A"
  LINE_FIRST_PIXEL = 1
  LINE_LAST_PIXEL = 13903
  LINE_PROJECTION_OFFSET = 84968.625
  MAP_PROJECTION_ROTATION = 0.0
  MAP_PROJECTION_TYPE = SINUSOIDAL
  MAP_RESOLUTION = 1185.42760773333
  MAP_SCALE = 0.05
  MAXIMUM_LATITUDE = 71.6324
  MINIMUM_LATITUDE = 59.9659
  POSITIVE_LONGITUDE_DIRECTION = EAST
  REFERENCE_LATITUDE = "N/A"
  REFERENCE_LONGITUDE = "N/A"
  SAMPLE_FIRST_PIXEL = 1
  SAMPLE_LAST_PIXEL = 2915
  SAMPLE_PROJECTION_OFFSET = 1775.875
  SECOND_STANDARD_PARALLEL = "N/A"
  WESTERNMOST_LONGITUDE = 59.2782
END_OBJECT = IMAGE_MAP_PROJECTION
/* The JPEG2000 image data file associated with this label. */
OBJECT = COMPRESSED_FILE
  FILE_NAME = "H7539_0000_BL3.JP2"
  RECORD_TYPE = UNDEFINED
  FILE_RECORDS = UNK
  ENCODING_TYPE = "JP2"
  INTERCHANGE_FORMAT = BINARY
  UNCOMPRESSED_FILE_NAME = "H7539_0000_BL3.IMG"
  REQUIRED_STORAGE_BYTES = "40550565"
  ^DESCRIPTION = "JP2INFO.TXT"
END_OBJECT = COMPRESSED_FILE
END
