PDS_VERSION_ID = PDS3
/* FILE DATA ELEMENTS */
RECORD_TYPE = STREAM
/* POINTERS TO DATA OBJECTS */
^COMPRESSED_FILE = "H7539_0000_GR3.JP2"
/* IDENTIFICATION DATA ELEMENTS */
DATA_SET_ID = "MEX-M-HRSC-5-REFDR-MAPPROJECTED-V3.0"
DATA_SET_NAME = "MARS EXPRESS HRSC MAP PROJECTED REFDR V3.0"
DETECTOR_ID = MEX_HRSC_GREEN
EVENT_TYPE = "MARS-REGIONAL-MAPPING-Pf-At"
INSTRUMENT_HOST_ID = MEX
INSTRUMENT_HOST_NAME = "MARS EXPRESS"
INSTRUMENT_ID = HRSC
INSTRUMENT_NAME = "HIGH RESOLUTION STEREO CAMERA"
MISSION_NAME = "MARS EXPRESS"
MISSION_PHASE_NAME = ME_Phase_18
PROCESSING_LEVEL_ID = 3
PRODUCT_CREATION_TIME = 2016-07-01T12:48:20.000Z
PRODUCT_ID = "H7539_0000_GR3.JP2"
RELEASE_ID = 0083
REVISION_ID = 0000
/* QUALITY DATA ELEMENTS */
DATA_QUALITY_ID = 1
DATA_QUALITY_DESC = "Data calculated based on original SPICE kernels"
/* TIME DATA ELEMENTS */
SPACECRAFT_CLOCK_START_COUNT = "1/0206654261.07274"
SPACECRAFT_CLOCK_STOP_COUNT = "1/0206654514.28948"
START_TIME = 2009-11-18T19:58:13.718Z
STOP_TIME = 2009-11-18T20:01:14.969Z
/* ORBITAL DATA ELEMENTS */
ASCENDING_NODE_LONGITUDE = 73.5
MAXIMUM_RESOLUTION = 59.2
FOOTPRINT_POINT_LATITUDE = (71.6942,71.6526,71.6184,71.5535,71.47, 71.2231,70.8523,70.6048,70.3569,70.1088 ,69.8604,69.6118,69.3629,69.1139, 68.8645,68.4901,68.2404,67.9903,67.74, 67.4896,67.1137,66.8628,66.6118,66.3606 ,66.1094,65.7333,65.417,65.2061,64.9951 ,64.784,64.4672,64.2559,64.0446,63.7275 ,63.4101,63.1985,62.881,62.6693,62.4575 ,62.2457,62.0338,61.822,61.504,61.1861, 60.974,60.762,60.4439,60.1258,59.9619, 59.9813,60.0068,60.0201,60.0363,60.2663 ,60.5862,60.7994,61.1193,61.3325, 61.5457,61.7589,61.9721,62.1853,62.3985 ,62.7183,62.9315,63.1445,63.3576, 63.5707,63.8902,64.2097,64.4226,64.6355 ,64.8483,65.0611,65.3802,65.5929, 65.8055,66.0448,66.2984,66.552,66.9321, 67.1854,67.4386,67.6917,67.9447,68.1975 ,68.4502,68.7029,68.9553,69.2077, 69.4599,69.7119,69.9639,70.2156,70.4671 ,70.7185,70.9698,71.2209,71.4717, 71.6942)
FOOTPRINT_POINT_LONGITUDE = (63.3531,62.3441,61.5993,60.3414, 59.2673,59.4194,59.6399,59.7824,59.92, 60.0543,60.1847,60.3117,60.4353,60.5557 ,60.6727,60.8425,60.9523,61.0589, 61.1626,61.2639,61.4112,61.5064,61.599, 61.6893,61.7777,61.9056,62.0094,62.077, 62.1432,62.2082,62.3029,62.3646,62.425, 62.5137,62.5993,62.655,62.7367,62.7898, 62.8419,62.8929,62.943,62.9924,63.064, 63.1338,63.1792,63.2237,63.289,63.3524, 63.7715,64.2049,64.8313,65.1937,65.6766 ,65.9477,65.907,65.8796,65.8373,65.8086 ,65.7793,65.7496,65.7193,65.6885, 65.6571,65.609,65.576,65.543,65.5091, 65.4745,65.4215,65.3671,65.33,65.2922, 65.2536,65.2144,65.154,65.1128,65.0709, 65.0226,64.9704,64.917,64.834,64.7773, 64.7192,64.6598,64.5988,64.5362,64.4722 ,64.4065,64.339,64.2699,64.1986,64.1261 ,64.0511,63.9749,63.8962,63.8153, 63.7322,63.6468,63.559,63.3531)
ORBIT_NUMBER = 7539
ORBITAL_ECCENTRICITY = 0.569
ORBITAL_INCLINATION = 86.84
ORBITAL_SEMIMAJOR_AXIS = 8700.09
PERIAPSIS_ALTITUDE = 367.85
PERIAPSIS_ARGUMENT_ANGLE = 115.96
PERIAPSIS_TIME = 2009-11-18T20:00:20.000Z
SPACECRAFT_ORIENTATION = (0.0,-1.0,0.0)
^MEX_ORIENTATION_DESC = "MEX_ORIENTATION_DESC.TXT"
SPACECRAFT_POINTING_MODE = NADIR
^MEX_POINTING_DESC = "MEX_POINTING_DESC.TXT"
RIGHT_ASCENSION = -1e+32
DECLINATION = -1e+32
OFFSET_ANGLE = -1e+32
SPACECRAFT_SOLAR_DISTANCE = 2.37137e+08
TARGET_NAME = MARS
/* CAMERA DATA ELEMENTS */
DETECTOR_TEMPERATURE = 17.9627
FOCAL_PLANE_TEMPERATURE = 7.5638
INST_CMPRS_NAME = "DISCRETE COSINE TRANSFORMATION (DCT)"
INST_CMPRS_RATIO = 17.8989
INST_CMPRS_QUALITY = 0
INST_CMPRS_QUANTZ_TBL_ID = 0
INSTRUMENT_TEMPERATURE = 10.6223
LENS_TEMPERATURE = 7.9716
MACROPIXEL_SIZE = 4
MISSING_FRAMES = 1
PIXEL_SUBSAMPLING_FLAG = N
SIGNAL_CHAIN_ID = 2
/* RADIOMETRIC DATA ELEMENTS */
BANDWIDTH = 88.0
CENTER_FILTER_WAVELENGTH = 538.0
RADIANCE_OFFSET = 1.77845
RADIANCE_SCALING_FACTOR = 0.00629056
REFLECTANCE_SCALING_FACTOR = 0.000304563
MEX:REFLECTANCE_OFFSET = 0.0861051
/* IMAGE OBJECT DEFINITIONS */
OBJECT = IMAGE
  INTERCHANGE_FORMAT = BINARY
  LINES = 13903
  LINE_SAMPLES = 2915
  SAMPLE_TYPE = UNSIGNED_INTEGER
  SAMPLE_BITS = 8
  BANDS = 1
  BAND_STORAGE_TYPE = BAND_SEQUENTIAL
  MAXIMUM = 255
  MEAN = 167.713
  MINIMUM = 1
  STANDARD_DEVIATION = 50.6319
END_OBJECT = IMAGE
/* MAP OBJECT DEFINITIONS */
OBJECT = IMAGE_MAP_PROJECTION
  ^DATA_SET_MAP_PROJECTION_CATALOG= "DSMAP.CAT"
  A_AXIS_RADIUS = 3396.0
  B_AXIS_RADIUS = 3396.0
  C_AXIS_RADIUS = 3396.0
  CENTER_LATITUDE = 0.0
  CENTER_LONGITUDE = 64.0
  COORDINATE_SYSTEM_NAME = PLANETOGRAPHIC
  COORDINATE_SYSTEM_TYPE = "BODY-FIXED ROTATING"
  EASTERNMOST_LONGITUDE = 65.9477
  FIRST_STANDARD_PARALLEL = "N/A"
  LINE_FIRST_PIXEL = 1
  LINE_LAST_PIXEL = 13903
  LINE_PROJECTION_OFFSET = 84968.625
  MAP_PROJECTION_ROTATION = 0.0
  MAP_PROJECTION_TYPE = SINUSOIDAL
  MAP_RESOLUTION = 1185.42760773333
  MAP_SCALE = 0.05
  MAXIMUM_LATITUDE = 71.6942
  MINIMUM_LATITUDE = 59.9619
  POSITIVE_LONGITUDE_DIRECTION = EAST
  REFERENCE_LATITUDE = "N/A"
  REFERENCE_LONGITUDE = "N/A"
  SAMPLE_FIRST_PIXEL = 1
  SAMPLE_LAST_PIXEL = 2915
  SAMPLE_PROJECTION_OFFSET = 1775.875
  SECOND_STANDARD_PARALLEL = "N/A"
  WESTERNMOST_LONGITUDE = 59.2673
END_OBJECT = IMAGE_MAP_PROJECTION
/* The JPEG2000 image data file associated with this label. */
OBJECT = COMPRESSED_FILE
  FILE_NAME = "H7539_0000_GR3.JP2"
  RECORD_TYPE = UNDEFINED
  FILE_RECORDS = UNK
  ENCODING_TYPE = "JP2"
  INTERCHANGE_FORMAT = BINARY
  UNCOMPRESSED_FILE_NAME = "H7539_0000_GR3.IMG"
  REQUIRED_STORAGE_BYTES = "40550565"
  ^DESCRIPTION = "JP2INFO.TXT"
END_OBJECT = COMPRESSED_FILE
END
