PDS_VERSION_ID = PDS3
/* FILE DATA ELEMENTS */
RECORD_TYPE = STREAM
/* POINTERS TO DATA OBJECTS */
^COMPRESSED_FILE = "H7543_0000_S13.JP2"
/* IDENTIFICATION DATA ELEMENTS */
DATA_SET_ID = "MEX-M-HRSC-5-REFDR-MAPPROJECTED-V3.0"
DATA_SET_NAME = "MARS EXPRESS HRSC MAP PROJECTED REFDR V3.0"
DETECTOR_ID = MEX_HRSC_S1
EVENT_TYPE = "MARS-REGIONAL-MAPPING-Im-Pf-At"
INSTRUMENT_HOST_ID = MEX
INSTRUMENT_HOST_NAME = "MARS EXPRESS"
INSTRUMENT_ID = HRSC
INSTRUMENT_NAME = "HIGH RESOLUTION STEREO CAMERA"
MISSION_NAME = "MARS EXPRESS"
MISSION_PHASE_NAME = ME_Phase_18
PROCESSING_LEVEL_ID = 3
PRODUCT_CREATION_TIME = 2016-07-01T12:48:20.000Z
PRODUCT_ID = "H7543_0000_S13.JP2"
RELEASE_ID = 0083
REVISION_ID = 0000
/* QUALITY DATA ELEMENTS */
DATA_QUALITY_ID = 1
DATA_QUALITY_DESC = "Data calculated based on original SPICE kernels"
/* TIME DATA ELEMENTS */
SPACECRAFT_CLOCK_START_COUNT = "1/0206753665.07279"
SPACECRAFT_CLOCK_STOP_COUNT = "1/0206753895.23947"
START_TIME = 2009-11-19T23:34:27.604Z
STOP_TIME = 2009-11-19T23:37:04.966Z
/* ORBITAL DATA ELEMENTS */
ASCENDING_NODE_LONGITUDE = 73.43
MAXIMUM_RESOLUTION = 31.6
FOOTPRINT_POINT_LATITUDE = (65.8236,65.7994,65.7811,65.7545, 65.7314,65.6837,65.4505,65.24,65.0292, 64.8185,64.6075,64.3965,64.185,63.8676, 63.5502,63.3388,63.1608,62.9828,62.805, 62.5377,62.3594,62.181,62.0025,61.824, 61.6453,61.4666,61.1984,60.9297,60.7505 ,60.482,60.2131,59.9206,59.5989,59.3844 ,59.1697,58.9547,58.7399,58.5254, 58.3105,58.0951,57.8805,57.6649,57.4494 ,57.2341,57.0182,56.6948,56.3712, 56.1554,55.9394,55.7235,55.4658,55.4926 ,55.5074,55.5215,55.5351,55.5502, 55.8756,56.0924,56.3092,56.6339,56.8504 ,57.0671,57.2837,57.4998,57.7163, 57.9326,58.1491,58.3652,58.6892,59.0132 ,59.2292,59.4451,59.7681,59.9836, 60.1948,60.3754,60.646,60.8263,61.0965, 61.2769,61.5471,61.7267,61.9065,62.0861 ,62.3555,62.535,62.8041,62.9834,63.2523 ,63.4315,63.6369,63.8505,64.1705, 64.3839,64.5966,64.8094,65.1284,65.3411 ,65.5534,65.8236)
FOOTPRINT_POINT_LONGITUDE = (21.5794,20.9351,20.4966,19.913,19.4475 ,18.5759,18.552,18.6204,18.6876,18.7534 ,18.818,18.8814,18.9434,19.0343,19.1226 ,19.1799,19.2271,19.2735,19.3194, 19.3866,19.4306,19.4738,19.5163,19.5583 ,19.5995,19.6401,19.6999,19.7581, 19.7962,19.8523,19.9071,19.965,20.027, 20.0674,20.107,20.1458,20.184,20.2216, 20.2584,20.2945,20.3301,20.3647,20.3988 ,20.4324,20.4651,20.5133,20.5601, 20.5906,20.6205,20.6499,20.7749,21.3668 ,21.7309,22.1184,22.529,23.0393,23.0105 ,22.9909,22.971,22.9408,22.9203,22.8993 ,22.8779,22.8565,22.8344,22.8121, 22.7893,22.7663,22.7311,22.695,22.6704, 22.6454,22.6076,22.5816,22.5558,22.5333 ,22.499,22.4758,22.4404,22.4161,22.3793 ,22.3546,22.3295,22.3039,22.265,22.2385 ,22.198,22.1705,22.1284,22.0999,22.0668 ,22.0316,21.9777,21.9407,21.9036, 21.8656,21.8072,21.7671,21.7266, 21.5794)
ORBIT_NUMBER = 7543
ORBITAL_ECCENTRICITY = 0.569
ORBITAL_INCLINATION = 86.82
ORBITAL_SEMIMAJOR_AXIS = 8697.91
PERIAPSIS_ALTITUDE = 369.12
PERIAPSIS_ARGUMENT_ANGLE = 115.27
PERIAPSIS_TIME = 2009-11-19T23:35:18.000Z
SPACECRAFT_ORIENTATION = (0.0,-1.0,0.0)
^MEX_ORIENTATION_DESC = "MEX_ORIENTATION_DESC.TXT"
SPACECRAFT_POINTING_MODE = NADIR
^MEX_POINTING_DESC = "MEX_POINTING_DESC.TXT"
RIGHT_ASCENSION = -1e+32
DECLINATION = -1e+32
OFFSET_ANGLE = -1e+32
SPACECRAFT_SOLAR_DISTANCE = 2.3733e+08
TARGET_NAME = MARS
/* CAMERA DATA ELEMENTS */
DETECTOR_TEMPERATURE = 17.1471
FOCAL_PLANE_TEMPERATURE = 8.3794
INST_CMPRS_NAME = "DISCRETE COSINE TRANSFORMATION (DCT)"
INST_CMPRS_RATIO = 12.0811
INST_CMPRS_QUALITY = 0
INST_CMPRS_QUANTZ_TBL_ID = 0
INSTRUMENT_TEMPERATURE = 11.234
LENS_TEMPERATURE = 8.5833
MACROPIXEL_SIZE = 2
MISSING_FRAMES = 0
PIXEL_SUBSAMPLING_FLAG = N
SIGNAL_CHAIN_ID = 1
/* RADIOMETRIC DATA ELEMENTS */
BANDWIDTH = 180.0
CENTER_FILTER_WAVELENGTH = 677.0
RADIANCE_OFFSET = 4.97465
RADIANCE_SCALING_FACTOR = 0.0225772
REFLECTANCE_SCALING_FACTOR = 0.000663461
MEX:REFLECTANCE_OFFSET = 0.146187
/* IMAGE OBJECT DEFINITIONS */
OBJECT = IMAGE
  INTERCHANGE_FORMAT = BINARY
  LINES = 24260
  LINE_SAMPLES = 5113
  SAMPLE_TYPE = UNSIGNED_INTEGER
  SAMPLE_BITS = 8
  BANDS = 1
  BAND_STORAGE_TYPE = BAND_SEQUENTIAL
  MAXIMUM = 255
  MEAN = 133.472
  MINIMUM = 1
  STANDARD_DEVIATION = 80.4283
END_OBJECT = IMAGE
/* MAP OBJECT DEFINITIONS */
OBJECT = IMAGE_MAP_PROJECTION
  ^DATA_SET_MAP_PROJECTION_CATALOG= "DSMAP.CAT"
  A_AXIS_RADIUS = 3396.0
  B_AXIS_RADIUS = 3396.0
  C_AXIS_RADIUS = 3396.0
  CENTER_LATITUDE = 0.0
  CENTER_LONGITUDE = 21.0
  COORDINATE_SYSTEM_NAME = PLANETOGRAPHIC
  COORDINATE_SYSTEM_TYPE = "BODY-FIXED ROTATING"
  EASTERNMOST_LONGITUDE = 23.0393
  FIRST_STANDARD_PARALLEL = "N/A"
  LINE_FIRST_PIXEL = 1
  LINE_LAST_PIXEL = 24260
  LINE_PROJECTION_OFFSET = 155770.75
  MAP_PROJECTION_ROTATION = 0.0
  MAP_PROJECTION_TYPE = SINUSOIDAL
  MAP_RESOLUTION = 2370.85521546667
  MAP_SCALE = 0.025
  MAXIMUM_LATITUDE = 65.8236
  MINIMUM_LATITUDE = 55.4658
  POSITIVE_LONGITUDE_DIRECTION = EAST
  REFERENCE_LATITUDE = "N/A"
  REFERENCE_LONGITUDE = "N/A"
  SAMPLE_FIRST_PIXEL = 1
  SAMPLE_LAST_PIXEL = 5113
  SAMPLE_PROJECTION_OFFSET = 2427.75
  SECOND_STANDARD_PARALLEL = "N/A"
  WESTERNMOST_LONGITUDE = 18.552
END_OBJECT = IMAGE_MAP_PROJECTION
/* The JPEG2000 image data file associated with this label. */
OBJECT = COMPRESSED_FILE
  FILE_NAME = "H7543_0000_S13.JP2"
  RECORD_TYPE = UNDEFINED
  FILE_RECORDS = UNK
  ENCODING_TYPE = "JP2"
  INTERCHANGE_FORMAT = BINARY
  UNCOMPRESSED_FILE_NAME = "H7543_0000_S13.IMG"
  REQUIRED_STORAGE_BYTES = "124066945"
  ^DESCRIPTION = "JP2INFO.TXT"
END_OBJECT = COMPRESSED_FILE
END
