PDS_VERSION_ID = PDS3
/* FILE DATA ELEMENTS */
RECORD_TYPE = STREAM
/* POINTERS TO DATA OBJECTS */
^COMPRESSED_FILE = "H7567_0000_BL3.JP2"
/* IDENTIFICATION DATA ELEMENTS */
DATA_SET_ID = "MEX-M-HRSC-5-REFDR-MAPPROJECTED-V3.0"
DATA_SET_NAME = "MARS EXPRESS HRSC MAP PROJECTED REFDR V3.0"
DETECTOR_ID = MEX_HRSC_BLUE
EVENT_TYPE = "MARS-REGIONAL-MAPPING-Pf-At"
INSTRUMENT_HOST_ID = MEX
INSTRUMENT_HOST_NAME = "MARS EXPRESS"
INSTRUMENT_ID = HRSC
INSTRUMENT_NAME = "HIGH RESOLUTION STEREO CAMERA"
MISSION_NAME = "MARS EXPRESS"
MISSION_PHASE_NAME = ME_Phase_19
PROCESSING_LEVEL_ID = 3
PRODUCT_CREATION_TIME = 2016-07-01T12:48:20.000Z
PRODUCT_ID = "H7567_0000_BL3.JP2"
RELEASE_ID = 0083
REVISION_ID = 0000
/* QUALITY DATA ELEMENTS */
DATA_QUALITY_ID = 1
DATA_QUALITY_DESC = "Data calculated based on original SPICE kernels"
/* TIME DATA ELEMENTS */
SPACECRAFT_CLOCK_START_COUNT = "1/0207349449.07285"
SPACECRAFT_CLOCK_STOP_COUNT = "1/0207349680.07871"
START_TIME = 2009-11-26T21:04:51.699Z
STOP_TIME = 2009-11-26T21:07:30.566Z
/* ORBITAL DATA ELEMENTS */
ASCENDING_NODE_LONGITUDE = 72.97
MAXIMUM_RESOLUTION = 59.7
FOOTPRINT_POINT_LATITUDE = (71.3006,71.2747,71.2336,71.2007, 71.1441,71.1311,70.9311,70.6311,70.3309 ,70.1306,69.9303,69.7299,69.5294, 69.2285,69.0279,68.7268,68.5261,68.3252 ,68.1244,67.8231,67.6221,67.4212, 67.2202,67.0192,66.8182,66.6171,66.4161 ,66.2151,66.014,65.813,65.6119,65.4109, 65.2098,64.9082,64.7072,64.5062,64.3053 ,64.1043,63.9033,63.7025,63.5016, 63.3008,63.1001,62.8993,62.6986,62.498, 62.2974,61.8963,61.4954,61.0948,61.0528 ,61.0807,61.1173,61.1342,61.3465, 61.5479,61.7494,61.9509,62.1526,62.3543 ,62.5561,62.7579,62.9598,63.2628, 63.4649,63.7681,63.9703,64.2738,64.4761 ,64.6785,64.8809,65.0834,65.2858, 65.4885,65.691,65.8936,66.0962,66.2989, 66.5016,66.7043,67.0084,67.2112,67.414, 67.6168,67.8197,68.0225,68.2253,68.4281 ,68.7324,68.9352,69.1381,69.3409, 69.5438,69.7465,70.0507,70.2535,70.4562 ,70.7602,70.9629,71.3006)
FOOTPRINT_POINT_LONGITUDE = (119.566,118.928,118.008,117.339, 116.287,115.659,115.776,115.945,116.108 ,116.213,116.316,116.418,116.517, 116.661,116.754,116.89,116.979,117.065, 117.15,117.274,117.354,117.432,117.509, 117.585,117.659,117.731,117.802,117.871 ,117.939,118.005,118.07,118.134,118.197 ,118.289,118.349,118.407,118.464,118.52 ,118.576,118.629,118.682,118.734, 118.785,118.835,118.884,118.932,118.979 ,119.07,119.159,119.243,119.666,120.285 ,121.215,121.707,121.997,121.968, 121.938,121.908,121.877,121.846,121.814 ,121.782,121.749,121.698,121.664, 121.611,121.575,121.521,121.483,121.445 ,121.406,121.367,121.326,121.285, 121.243,121.201,121.158,121.113,121.068 ,121.022,120.952,120.904,120.855, 120.805,120.754,120.701,120.648,120.594 ,120.511,120.454,120.395,120.336, 120.275,120.213,120.117,120.052,119.985 ,119.882,119.811,119.566)
ORBIT_NUMBER = 7567
ORBITAL_ECCENTRICITY = 0.569
ORBITAL_INCLINATION = 86.83
ORBITAL_SEMIMAJOR_AXIS = 8693.54
PERIAPSIS_ALTITUDE = 370.46
PERIAPSIS_ARGUMENT_ANGLE = 111.09
PERIAPSIS_TIME = 2009-11-26T21:05:25.000Z
SPACECRAFT_ORIENTATION = (0.0,-1.0,0.0)
^MEX_ORIENTATION_DESC = "MEX_ORIENTATION_DESC.TXT"
SPACECRAFT_POINTING_MODE = NADIR
^MEX_POINTING_DESC = "MEX_POINTING_DESC.TXT"
RIGHT_ASCENSION = -1e+32
DECLINATION = -1e+32
OFFSET_ANGLE = -1e+32
SPACECRAFT_SOLAR_DISTANCE = 2.38466e+08
TARGET_NAME = MARS
/* CAMERA DATA ELEMENTS */
DETECTOR_TEMPERATURE = 17.9627
FOCAL_PLANE_TEMPERATURE = 7.5638
INST_CMPRS_NAME = "DISCRETE COSINE TRANSFORMATION (DCT)"
INST_CMPRS_RATIO = 9.51615
INST_CMPRS_QUALITY = 0
INST_CMPRS_QUANTZ_TBL_ID = 0
INSTRUMENT_TEMPERATURE = 10.8262
LENS_TEMPERATURE = 7.9716
MACROPIXEL_SIZE = 4
MISSING_FRAMES = 0
PIXEL_SUBSAMPLING_FLAG = N
SIGNAL_CHAIN_ID = 2
/* RADIOMETRIC DATA ELEMENTS */
BANDWIDTH = 76.0
CENTER_FILTER_WAVELENGTH = 444.0
RADIANCE_OFFSET = 1.03348
RADIANCE_SCALING_FACTOR = 0.00327942
REFLECTANCE_SCALING_FACTOR = 0.000191604
MEX:REFLECTANCE_OFFSET = 0.0603825
/* IMAGE OBJECT DEFINITIONS */
OBJECT = IMAGE
  INTERCHANGE_FORMAT = BINARY
  LINES = 12225
  LINE_SAMPLES = 2779
  SAMPLE_TYPE = UNSIGNED_INTEGER
  SAMPLE_BITS = 8
  BANDS = 1
  BAND_STORAGE_TYPE = BAND_SEQUENTIAL
  MAXIMUM = 255
  MEAN = 188.841
  MINIMUM = 1
  STANDARD_DEVIATION = 43.185
END_OBJECT = IMAGE
/* MAP OBJECT DEFINITIONS */
OBJECT = IMAGE_MAP_PROJECTION
  ^DATA_SET_MAP_PROJECTION_CATALOG= "DSMAP.CAT"
  A_AXIS_RADIUS = 3396.0
  B_AXIS_RADIUS = 3396.0
  C_AXIS_RADIUS = 3396.0
  CENTER_LATITUDE = 0.0
  CENTER_LONGITUDE = 120.0
  COORDINATE_SYSTEM_NAME = PLANETOGRAPHIC
  COORDINATE_SYSTEM_TYPE = "BODY-FIXED ROTATING"
  EASTERNMOST_LONGITUDE = 121.997
  FIRST_STANDARD_PARALLEL = "N/A"
  LINE_FIRST_PIXEL = 1
  LINE_LAST_PIXEL = 12225
  LINE_PROJECTION_OFFSET = 84555.875
  MAP_PROJECTION_ROTATION = 0.0
  MAP_PROJECTION_TYPE = SINUSOIDAL
  MAP_RESOLUTION = 1185.42760773333
  MAP_SCALE = 0.05
  MAXIMUM_LATITUDE = 71.3006
  MINIMUM_LATITUDE = 61.0528
  POSITIVE_LONGITUDE_DIRECTION = EAST
  REFERENCE_LATITUDE = "N/A"
  REFERENCE_LONGITUDE = "N/A"
  SAMPLE_FIRST_PIXEL = 1
  SAMPLE_LAST_PIXEL = 2779
  SAMPLE_PROJECTION_OFFSET = 1656.375
  SECOND_STANDARD_PARALLEL = "N/A"
  WESTERNMOST_LONGITUDE = 115.659
END_OBJECT = IMAGE_MAP_PROJECTION
/* The JPEG2000 image data file associated with this label. */
OBJECT = COMPRESSED_FILE
  FILE_NAME = "H7567_0000_BL3.JP2"
  RECORD_TYPE = UNDEFINED
  FILE_RECORDS = UNK
  ENCODING_TYPE = "JP2"
  INTERCHANGE_FORMAT = BINARY
  UNCOMPRESSED_FILE_NAME = "H7567_0000_BL3.IMG"
  REQUIRED_STORAGE_BYTES = "33995507"
  ^DESCRIPTION = "JP2INFO.TXT"
END_OBJECT = COMPRESSED_FILE
END
