PDS_VERSION_ID = PDS3
/* FILE DATA ELEMENTS */
RECORD_TYPE = STREAM
/* POINTERS TO DATA OBJECTS */
^COMPRESSED_FILE = "H7567_0000_GR3.JP2"
/* IDENTIFICATION DATA ELEMENTS */
DATA_SET_ID = "MEX-M-HRSC-5-REFDR-MAPPROJECTED-V3.0"
DATA_SET_NAME = "MARS EXPRESS HRSC MAP PROJECTED REFDR V3.0"
DETECTOR_ID = MEX_HRSC_GREEN
EVENT_TYPE = "MARS-REGIONAL-MAPPING-Pf-At"
INSTRUMENT_HOST_ID = MEX
INSTRUMENT_HOST_NAME = "MARS EXPRESS"
INSTRUMENT_ID = HRSC
INSTRUMENT_NAME = "HIGH RESOLUTION STEREO CAMERA"
MISSION_NAME = "MARS EXPRESS"
MISSION_PHASE_NAME = ME_Phase_19
PROCESSING_LEVEL_ID = 3
PRODUCT_CREATION_TIME = 2016-07-01T12:48:20.000Z
PRODUCT_ID = "H7567_0000_GR3.JP2"
RELEASE_ID = 0083
REVISION_ID = 0000
/* QUALITY DATA ELEMENTS */
DATA_QUALITY_ID = 1
DATA_QUALITY_DESC = "Data calculated based on original SPICE kernels"
/* TIME DATA ELEMENTS */
SPACECRAFT_CLOCK_START_COUNT = "1/0207349449.07285"
SPACECRAFT_CLOCK_STOP_COUNT = "1/0207349680.07871"
START_TIME = 2009-11-26T21:04:39.954Z
STOP_TIME = 2009-11-26T21:07:18.821Z
/* ORBITAL DATA ELEMENTS */
ASCENDING_NODE_LONGITUDE = 72.97
MAXIMUM_RESOLUTION = 59.7
FOOTPRINT_POINT_LATITUDE = (71.3185,71.2857,71.2239,71.1434, 70.9443,70.7447,70.5451,70.3454,70.1456 ,69.9456,69.7456,69.5454,69.3452, 69.1448,68.8441,68.5432,68.3425,68.0411 ,67.8402,67.6393,67.3376,67.1365, 66.9353,66.734,66.5326,66.3312,66.029, 65.8275,65.5252,65.2228,64.9204,64.7188 ,64.5171,64.3153,64.1135,63.9119, 63.7101,63.5083,63.3065,63.1047,62.9029 ,62.7011,62.4993,62.1967,61.894,61.6923 ,61.4905,61.2888,61.0387,61.0605, 61.0921,61.1205,61.2388,61.4416,61.6444 ,61.9487,62.1516,62.3546,62.5576, 62.7605,62.9636,63.1666,63.3697,63.5728 ,63.7759,63.979,64.1821,64.3852,64.5883 ,64.7915,64.9946,65.1978,65.5024, 65.7056,65.9088,66.2135,66.4166,66.6197 ,66.8227,67.0258,67.3303,67.5333, 67.7362,67.9392,68.2435,68.4464,68.6492 ,68.852,69.0547,69.2573,69.5613,69.7638 ,69.9663,70.1687,70.4723,70.6746, 70.8768,71.0789,71.281,71.3185)
FOOTPRINT_POINT_LONGITUDE = (118.585,117.874,116.673,115.644, 115.761,115.874,115.985,116.093,116.199 ,116.303,116.404,116.504,116.601, 116.696,116.834,116.968,117.055,117.182 ,117.264,117.345,117.463,117.54,117.615 ,117.689,117.761,117.831,117.934, 118.001,118.099,118.195,118.287,118.347 ,118.407,118.464,118.521,118.576, 118.631,118.684,118.737,118.788,118.838 ,118.888,118.936,119.007,119.076, 119.121,119.165,119.209,119.544,120.005 ,120.748,121.519,122.003,121.974, 121.944,121.899,121.868,121.837,121.805 ,121.773,121.74,121.706,121.672,121.638 ,121.602,121.567,121.53,121.493,121.455 ,121.417,121.378,121.338,121.277, 121.235,121.192,121.127,121.082,121.037 ,120.991,120.944,120.871,120.822, 120.772,120.72,120.641,120.587,120.532, 120.476,120.418,120.36,120.269,120.208, 120.144,120.08,119.98,119.912,119.843, 119.772,119.699,118.585)
ORBIT_NUMBER = 7567
ORBITAL_ECCENTRICITY = 0.569
ORBITAL_INCLINATION = 86.83
ORBITAL_SEMIMAJOR_AXIS = 8693.54
PERIAPSIS_ALTITUDE = 370.46
PERIAPSIS_ARGUMENT_ANGLE = 111.09
PERIAPSIS_TIME = 2009-11-26T21:05:25.000Z
SPACECRAFT_ORIENTATION = (0.0,-1.0,0.0)
^MEX_ORIENTATION_DESC = "MEX_ORIENTATION_DESC.TXT"
SPACECRAFT_POINTING_MODE = NADIR
^MEX_POINTING_DESC = "MEX_POINTING_DESC.TXT"
RIGHT_ASCENSION = -1e+32
DECLINATION = -1e+32
OFFSET_ANGLE = -1e+32
SPACECRAFT_SOLAR_DISTANCE = 2.38466e+08
TARGET_NAME = MARS
/* CAMERA DATA ELEMENTS */
DETECTOR_TEMPERATURE = 17.9627
FOCAL_PLANE_TEMPERATURE = 7.5638
INST_CMPRS_NAME = "DISCRETE COSINE TRANSFORMATION (DCT)"
INST_CMPRS_RATIO = 15.531
INST_CMPRS_QUALITY = 0
INST_CMPRS_QUANTZ_TBL_ID = 0
INSTRUMENT_TEMPERATURE = 10.8262
LENS_TEMPERATURE = 7.9716
MACROPIXEL_SIZE = 4
MISSING_FRAMES = 0
PIXEL_SUBSAMPLING_FLAG = N
SIGNAL_CHAIN_ID = 2
/* RADIOMETRIC DATA ELEMENTS */
BANDWIDTH = 88.0
CENTER_FILTER_WAVELENGTH = 538.0
RADIANCE_OFFSET = 2.0923
RADIANCE_SCALING_FACTOR = 0.00663244
REFLECTANCE_SCALING_FACTOR = 0.000324726
MEX:REFLECTANCE_OFFSET = 0.102439
/* IMAGE OBJECT DEFINITIONS */
OBJECT = IMAGE
  INTERCHANGE_FORMAT = BINARY
  LINES = 12225
  LINE_SAMPLES = 2779
  SAMPLE_TYPE = UNSIGNED_INTEGER
  SAMPLE_BITS = 8
  BANDS = 1
  BAND_STORAGE_TYPE = BAND_SEQUENTIAL
  MAXIMUM = 255
  MEAN = 176.469
  MINIMUM = 1
  STANDARD_DEVIATION = 41.0701
END_OBJECT = IMAGE
/* MAP OBJECT DEFINITIONS */
OBJECT = IMAGE_MAP_PROJECTION
  ^DATA_SET_MAP_PROJECTION_CATALOG= "DSMAP.CAT"
  A_AXIS_RADIUS = 3396.0
  B_AXIS_RADIUS = 3396.0
  C_AXIS_RADIUS = 3396.0
  CENTER_LATITUDE = 0.0
  CENTER_LONGITUDE = 120.0
  COORDINATE_SYSTEM_NAME = PLANETOGRAPHIC
  COORDINATE_SYSTEM_TYPE = "BODY-FIXED ROTATING"
  EASTERNMOST_LONGITUDE = 122.003
  FIRST_STANDARD_PARALLEL = "N/A"
  LINE_FIRST_PIXEL = 1
  LINE_LAST_PIXEL = 12225
  LINE_PROJECTION_OFFSET = 84555.875
  MAP_PROJECTION_ROTATION = 0.0
  MAP_PROJECTION_TYPE = SINUSOIDAL
  MAP_RESOLUTION = 1185.42760773333
  MAP_SCALE = 0.05
  MAXIMUM_LATITUDE = 71.3185
  MINIMUM_LATITUDE = 61.0387
  POSITIVE_LONGITUDE_DIRECTION = EAST
  REFERENCE_LATITUDE = "N/A"
  REFERENCE_LONGITUDE = "N/A"
  SAMPLE_FIRST_PIXEL = 1
  SAMPLE_LAST_PIXEL = 2779
  SAMPLE_PROJECTION_OFFSET = 1656.375
  SECOND_STANDARD_PARALLEL = "N/A"
  WESTERNMOST_LONGITUDE = 115.644
END_OBJECT = IMAGE_MAP_PROJECTION
/* The JPEG2000 image data file associated with this label. */
OBJECT = COMPRESSED_FILE
  FILE_NAME = "H7567_0000_GR3.JP2"
  RECORD_TYPE = UNDEFINED
  FILE_RECORDS = UNK
  ENCODING_TYPE = "JP2"
  INTERCHANGE_FORMAT = BINARY
  UNCOMPRESSED_FILE_NAME = "H7567_0000_GR3.IMG"
  REQUIRED_STORAGE_BYTES = "33995507"
  ^DESCRIPTION = "JP2INFO.TXT"
END_OBJECT = COMPRESSED_FILE
END
