PDS_VERSION_ID = PDS3
/* FILE DATA ELEMENTS */
RECORD_TYPE = STREAM
/* POINTERS TO DATA OBJECTS */
^COMPRESSED_FILE = "H7570_0000_ND3.JP2"
/* IDENTIFICATION DATA ELEMENTS */
DATA_SET_ID = "MEX-M-HRSC-5-REFDR-MAPPROJECTED-V3.0"
DATA_SET_NAME = "MARS EXPRESS HRSC MAP PROJECTED REFDR V3.0"
DETECTOR_ID = MEX_HRSC_NADIR
EVENT_TYPE = "MARS-REGIONAL-VARIABLE-Gl-At"
INSTRUMENT_HOST_ID = MEX
INSTRUMENT_HOST_NAME = "MARS EXPRESS"
INSTRUMENT_ID = HRSC
INSTRUMENT_NAME = "HIGH RESOLUTION STEREO CAMERA"
MISSION_NAME = "MARS EXPRESS"
MISSION_PHASE_NAME = ME_Phase_19
PROCESSING_LEVEL_ID = 3
PRODUCT_CREATION_TIME = 2016-07-01T12:48:20.000Z
PRODUCT_ID = "H7570_0000_ND3.JP2"
RELEASE_ID = 0083
REVISION_ID = 0000
/* QUALITY DATA ELEMENTS */
DATA_QUALITY_ID = 1
DATA_QUALITY_DESC = "Data calculated based on original SPICE kernels"
/* TIME DATA ELEMENTS */
SPACECRAFT_CLOCK_START_COUNT = "1/0207423729.07283"
SPACECRAFT_CLOCK_STOP_COUNT = "1/0207424005.07164"
START_TIME = 2009-11-27T17:42:52.586Z
STOP_TIME = 2009-11-27T17:46:11.602Z
/* ORBITAL DATA ELEMENTS */
ASCENDING_NODE_LONGITUDE = 72.9
MAXIMUM_RESOLUTION = 15
FOOTPRINT_POINT_LATITUDE = (83.6721,83.5368,83.3146,83.1428, 82.8349,82.4117,81.9785,81.5368,81.0877 ,80.6323,80.4024,80.1713,79.9389, 79.7054,79.4708,79.2352,78.9987,78.7612 ,78.5229,78.2837,78.0438,77.8032, 77.5619,77.3199,77.0773,76.8342,76.5905 ,76.3462,76.1014,75.8561,75.6104, 75.3643,75.1177,74.8707,74.6233,74.3756 ,74.1275,73.8791,73.6304,73.3814, 73.1321,72.8825,72.6327,72.3826,72.1322 ,71.8817,71.6309,71.38,71.1467,71.1948, 71.2645,71.3121,71.5668,71.8214,72.0759 ,72.3303,72.5845,72.8387,73.0927, 73.3466,73.6004,73.854,74.1075,74.3608, 74.614,74.867,75.1198,75.3724,75.6248, 75.877,76.129,76.3807,76.6323,76.8835, 77.1345,77.3852,77.6357,77.8857,78.1355 ,78.3849,78.634,78.8827,79.131,79.379, 79.6264,79.8734,80.1199,80.3659,80.6113 ,80.8561,81.1003,81.3439,81.5868, 81.8289,82.0702,82.3106,82.5501,83.0259 ,83.4969,83.6721)
FOOTPRINT_POINT_LONGITUDE = (161.062,158.494,154.9,152.506,152.322, 154.401,156.256,157.917,159.412,160.76, 161.385,161.98,162.548,163.09,163.608, 164.102,164.575,165.028,165.46,165.875, 166.273,166.655,167.021,167.373,167.712 ,168.038,168.352,168.653,168.943, 169.223,169.492,169.753,170.004,170.247 ,170.481,170.708,170.927,171.139, 171.344,171.542,171.734,171.919,172.1, 172.274,172.443,172.607,172.766,172.921 ,173.674,174.548,175.987,177.133, 177.038,176.941,176.84,176.737,176.63, 176.52,176.407,176.29,176.169,176.045, 175.916,175.783,175.645,175.503,175.356 ,175.204,175.045,174.882,174.712, 174.536,174.353,174.163,173.965,173.759 ,173.545,173.321,173.088,172.845, 172.591,172.326,172.048,171.758,171.453 ,171.133,170.797,170.443,170.072,169.68 ,169.266,168.829,168.368,167.879,167.36 ,166.809,166.223,164.93,163.45,161.062)
ORBIT_NUMBER = 7570
ORBITAL_ECCENTRICITY = 0.568
ORBITAL_INCLINATION = 86.83
ORBITAL_SEMIMAJOR_AXIS = 8689.61
PERIAPSIS_ALTITUDE = 371.14
PERIAPSIS_ARGUMENT_ANGLE = 110.58
PERIAPSIS_TIME = 2009-11-27T17:46:43.000Z
SPACECRAFT_ORIENTATION = (0.0,-1.0,0.0)
^MEX_ORIENTATION_DESC = "MEX_ORIENTATION_DESC.TXT"
SPACECRAFT_POINTING_MODE = NADIR
^MEX_POINTING_DESC = "MEX_POINTING_DESC.TXT"
RIGHT_ASCENSION = -1e+32
DECLINATION = -1e+32
OFFSET_ANGLE = -1e+32
SPACECRAFT_SOLAR_DISTANCE = 2.38605e+08
TARGET_NAME = MARS
/* CAMERA DATA ELEMENTS */
DETECTOR_TEMPERATURE = 18.5744
FOCAL_PLANE_TEMPERATURE = 8.1755
INST_CMPRS_NAME = "DISCRETE COSINE TRANSFORMATION (DCT)"
INST_CMPRS_RATIO = 7.77299
INST_CMPRS_QUALITY = 0
INST_CMPRS_QUANTZ_TBL_ID = 0
INSTRUMENT_TEMPERATURE = 11.234
LENS_TEMPERATURE = 8.5833
MACROPIXEL_SIZE = 1
MISSING_FRAMES = 0
PIXEL_SUBSAMPLING_FLAG = N
SIGNAL_CHAIN_ID = 0
/* RADIOMETRIC DATA ELEMENTS */
BANDWIDTH = 177.0
CENTER_FILTER_WAVELENGTH = 677.5
RADIANCE_OFFSET = 2.24067
RADIANCE_SCALING_FACTOR = 0.0233403
REFLECTANCE_SCALING_FACTOR = 0.000705907
MEX:REFLECTANCE_OFFSET = 0.067767
/* IMAGE OBJECT DEFINITIONS */
OBJECT = IMAGE
  INTERCHANGE_FORMAT = BINARY
  LINES = 59795
  LINE_SAMPLES = 21363
  SAMPLE_TYPE = UNSIGNED_INTEGER
  SAMPLE_BITS = 8
  BANDS = 1
  BAND_STORAGE_TYPE = BAND_SEQUENTIAL
  MAXIMUM = 254
  MEAN = 116.397
  MINIMUM = 1
  STANDARD_DEVIATION = 63.1227
END_OBJECT = IMAGE
/* MAP OBJECT DEFINITIONS */
OBJECT = IMAGE_MAP_PROJECTION
  ^DATA_SET_MAP_PROJECTION_CATALOG= "DSMAP.CAT"
  A_AXIS_RADIUS = 3396.0
  B_AXIS_RADIUS = 3396.0
  C_AXIS_RADIUS = 3396.0
  CENTER_LATITUDE = 0.0
  CENTER_LONGITUDE = 170.0
  COORDINATE_SYSTEM_NAME = PLANETOGRAPHIC
  COORDINATE_SYSTEM_TYPE = "BODY-FIXED ROTATING"
  EASTERNMOST_LONGITUDE = 177.133
  FIRST_STANDARD_PARALLEL = "N/A"
  LINE_FIRST_PIXEL = 1
  LINE_LAST_PIXEL = 59795
  LINE_PROJECTION_OFFSET = 397008.0
  MAP_PROJECTION_ROTATION = 0.0
  MAP_PROJECTION_TYPE = SINUSOIDAL
  MAP_RESOLUTION = 4741.71043093333
  MAP_SCALE = 0.0125
  MAXIMUM_LATITUDE = 83.6721
  MINIMUM_LATITUDE = 71.1467
  POSITIVE_LONGITUDE_DIRECTION = EAST
  REFERENCE_LATITUDE = "N/A"
  REFERENCE_LONGITUDE = "N/A"
  SAMPLE_FIRST_PIXEL = 1
  SAMPLE_LAST_PIXEL = 21363
  SAMPLE_PROJECTION_OFFSET = 10709.0
  SECOND_STANDARD_PARALLEL = "N/A"
  WESTERNMOST_LONGITUDE = 152.322
END_OBJECT = IMAGE_MAP_PROJECTION
/* The JPEG2000 image data file associated with this label. */
OBJECT = COMPRESSED_FILE
  FILE_NAME = "H7570_0000_ND3.JP2"
  RECORD_TYPE = UNDEFINED
  FILE_RECORDS = UNK
  ENCODING_TYPE = "JP2"
  INTERCHANGE_FORMAT = BINARY
  UNCOMPRESSED_FILE_NAME = "H7570_0000_ND3.IMG"
  REQUIRED_STORAGE_BYTES = "1277464674"
  ^DESCRIPTION = "JP2INFO.TXT"
END_OBJECT = COMPRESSED_FILE
END
