PDS_VERSION_ID = PDS3
/* FILE DATA ELEMENTS */
RECORD_TYPE = STREAM
/* POINTERS TO DATA OBJECTS */
^COMPRESSED_FILE = "H7572_0000_P13.JP2"
/* IDENTIFICATION DATA ELEMENTS */
DATA_SET_ID = "MEX-M-HRSC-5-REFDR-MAPPROJECTED-V3.0"
DATA_SET_NAME = "MARS EXPRESS HRSC MAP PROJECTED REFDR V3.0"
DETECTOR_ID = MEX_HRSC_P1
EVENT_TYPE = "MARS-REGIONAL-MAPPING-Im-Pf"
INSTRUMENT_HOST_ID = MEX
INSTRUMENT_HOST_NAME = "MARS EXPRESS"
INSTRUMENT_ID = HRSC
INSTRUMENT_NAME = "HIGH RESOLUTION STEREO CAMERA"
MISSION_NAME = "MARS EXPRESS"
MISSION_PHASE_NAME = ME_Phase_19
PROCESSING_LEVEL_ID = 3
PRODUCT_CREATION_TIME = 2016-07-01T12:48:20.000Z
PRODUCT_ID = "H7572_0000_P13.JP2"
RELEASE_ID = 0083
REVISION_ID = 0000
/* QUALITY DATA ELEMENTS */
DATA_QUALITY_ID = 1
DATA_QUALITY_DESC = "Data calculated based on original SPICE kernels"
/* TIME DATA ELEMENTS */
SPACECRAFT_CLOCK_START_COUNT = "1/0207473674.09064"
SPACECRAFT_CLOCK_STOP_COUNT = "1/0207473926.50743"
START_TIME = 2009-11-28T07:34:48.396Z
STOP_TIME = 2009-11-28T07:37:41.787Z
/* ORBITAL DATA ELEMENTS */
ASCENDING_NODE_LONGITUDE = 72.87
MAXIMUM_RESOLUTION = 61.6
FOOTPRINT_POINT_LATITUDE = (65.9313,65.9082,65.8775,65.8621, 65.8402,65.8154,65.7937,65.5946,65.2643 ,65.0438,64.8233,64.6028,64.2719, 63.9406,63.6093,63.3883,63.1674,62.9464 ,62.7252,62.5039,62.2825,62.0612, 61.8399,61.5078,61.1756,60.8434,60.6217 ,60.2896,60.068,59.8464,59.5139,59.2923 ,58.9597,58.7378,58.5161,58.2946, 57.9618,57.7397,57.5189,57.1866,56.8543 ,56.6328,56.3003,55.9683,55.6364, 55.4151,55.0832,54.7515,54.5723,54.5841 ,54.5944,54.6077,54.6213,54.6343, 54.6407,54.7561,54.9779,55.2001,55.4226 ,55.6448,55.9781,56.2004,56.4228, 56.7563,57.0901,57.3125,57.5351,57.7575 ,57.98,58.3138,58.6479,58.8707,59.0932, 59.316,59.5388,59.8728,60.2069,60.4296, 60.7637,60.9865,61.2093,61.5433,61.7661 ,61.9886,62.3226,62.5453,62.7678, 62.9904,63.2129,63.4353,63.7689,64.1024 ,64.3247,64.547,64.7692,64.9912,65.2133 ,65.4354,65.6573,65.9313)
FOOTPRINT_POINT_LONGITUDE = (336.876,336.257,335.527,335.191, 334.744,334.269,333.879,333.841,333.946 ,334.014,334.08,334.145,334.239,334.331 ,334.42,334.478,334.534,334.59,334.644, 334.697,334.749,334.8,334.85,334.923, 334.994,335.063,335.107,335.173,335.215 ,335.257,335.317,335.357,335.415, 335.452,335.489,335.525,335.577,335.611 ,335.646,335.695,335.742,335.773, 335.819,335.862,335.905,335.933,335.973 ,336.013,336.355,336.631,336.884, 337.252,337.667,338.105,338.358,338.495 ,338.476,338.456,338.436,338.416, 338.385,338.364,338.342,338.309,338.276 ,338.253,338.229,338.206,338.182, 338.145,338.107,338.081,338.055,338.028 ,338.001,337.96,337.917,337.888,337.844 ,337.813,337.782,337.735,337.703,337.67 ,337.62,337.585,337.55,337.514,337.478, 337.441,337.384,337.326,337.286,337.245 ,337.204,337.162,337.119,337.075,337.03 ,336.876)
ORBIT_NUMBER = 7572
ORBITAL_ECCENTRICITY = 0.568
ORBITAL_INCLINATION = 86.84
ORBITAL_SEMIMAJOR_AXIS = 8689.29
PERIAPSIS_ALTITUDE = 370.94
PERIAPSIS_ARGUMENT_ANGLE = 110.22
PERIAPSIS_TIME = 2009-11-28T07:34:11.000Z
SPACECRAFT_ORIENTATION = (0.0,-1.0,0.0)
^MEX_ORIENTATION_DESC = "MEX_ORIENTATION_DESC.TXT"
SPACECRAFT_POINTING_MODE = NADIR
^MEX_POINTING_DESC = "MEX_POINTING_DESC.TXT"
RIGHT_ASCENSION = -1e+32
DECLINATION = -1e+32
OFFSET_ANGLE = -1e+32
SPACECRAFT_SOLAR_DISTANCE = 2.38697e+08
TARGET_NAME = MARS
/* CAMERA DATA ELEMENTS */
DETECTOR_TEMPERATURE = 16.9432
FOCAL_PLANE_TEMPERATURE = 7.3599
INST_CMPRS_NAME = "DISCRETE COSINE TRANSFORMATION (DCT)"
INST_CMPRS_RATIO = 17.6393
INST_CMPRS_QUALITY = 0
INST_CMPRS_QUANTZ_TBL_ID = 0
INSTRUMENT_TEMPERATURE = 9.8067
LENS_TEMPERATURE = 8.1755
MACROPIXEL_SIZE = 4
MISSING_FRAMES = 0
PIXEL_SUBSAMPLING_FLAG = N
SIGNAL_CHAIN_ID = 3
/* RADIOMETRIC DATA ELEMENTS */
BANDWIDTH = 174.0
CENTER_FILTER_WAVELENGTH = 675.0
RADIANCE_OFFSET = 3.7158
RADIANCE_SCALING_FACTOR = 0.0283766
REFLECTANCE_SCALING_FACTOR = 0.000869642
MEX:REFLECTANCE_OFFSET = 0.113876
/* IMAGE OBJECT DEFINITIONS */
OBJECT = IMAGE
  INTERCHANGE_FORMAT = BINARY
  LINES = 13381
  LINE_SAMPLES = 2579
  SAMPLE_TYPE = UNSIGNED_INTEGER
  SAMPLE_BITS = 8
  BANDS = 1
  BAND_STORAGE_TYPE = BAND_SEQUENTIAL
  MAXIMUM = 254
  MEAN = 114.085
  MINIMUM = 1
  STANDARD_DEVIATION = 82.1155
END_OBJECT = IMAGE
/* MAP OBJECT DEFINITIONS */
OBJECT = IMAGE_MAP_PROJECTION
  ^DATA_SET_MAP_PROJECTION_CATALOG= "DSMAP.CAT"
  A_AXIS_RADIUS = 3396.0
  B_AXIS_RADIUS = 3396.0
  C_AXIS_RADIUS = 3396.0
  CENTER_LATITUDE = 0.0
  CENTER_LONGITUDE = 337.0
  COORDINATE_SYSTEM_NAME = PLANETOGRAPHIC
  COORDINATE_SYSTEM_TYPE = "BODY-FIXED ROTATING"
  EASTERNMOST_LONGITUDE = 338.495
  FIRST_STANDARD_PARALLEL = "N/A"
  LINE_FIRST_PIXEL = 1
  LINE_LAST_PIXEL = 13381
  LINE_PROJECTION_OFFSET = 78075.625
  MAP_PROJECTION_ROTATION = 0.0
  MAP_PROJECTION_TYPE = SINUSOIDAL
  MAP_RESOLUTION = 1185.42760773333
  MAP_SCALE = 0.05
  MAXIMUM_LATITUDE = 65.93129999999999
  MINIMUM_LATITUDE = 54.5723
  POSITIVE_LONGITUDE_DIRECTION = EAST
  REFERENCE_LATITUDE = "N/A"
  REFERENCE_LONGITUDE = "N/A"
  SAMPLE_FIRST_PIXEL = 1
  SAMPLE_LAST_PIXEL = 2579
  SAMPLE_PROJECTION_OFFSET = 1550.875
  SECOND_STANDARD_PARALLEL = "N/A"
  WESTERNMOST_LONGITUDE = 333.841
END_OBJECT = IMAGE_MAP_PROJECTION
/* The JPEG2000 image data file associated with this label. */
OBJECT = COMPRESSED_FILE
  FILE_NAME = "H7572_0000_P13.JP2"
  RECORD_TYPE = UNDEFINED
  FILE_RECORDS = UNK
  ENCODING_TYPE = "JP2"
  INTERCHANGE_FORMAT = BINARY
  UNCOMPRESSED_FILE_NAME = "H7572_0000_P13.IMG"
  REQUIRED_STORAGE_BYTES = "34530231"
  ^DESCRIPTION = "JP2INFO.TXT"
END_OBJECT = COMPRESSED_FILE
END
