PDS_VERSION_ID = PDS3
/* FILE DATA ELEMENTS */
RECORD_TYPE = STREAM
/* POINTERS TO DATA OBJECTS */
^COMPRESSED_FILE = "H7572_0000_RE3.JP2"
/* IDENTIFICATION DATA ELEMENTS */
DATA_SET_ID = "MEX-M-HRSC-5-REFDR-MAPPROJECTED-V3.0"
DATA_SET_NAME = "MARS EXPRESS HRSC MAP PROJECTED REFDR V3.0"
DETECTOR_ID = MEX_HRSC_RED
EVENT_TYPE = "MARS-REGIONAL-MAPPING-Im-Pf"
INSTRUMENT_HOST_ID = MEX
INSTRUMENT_HOST_NAME = "MARS EXPRESS"
INSTRUMENT_ID = HRSC
INSTRUMENT_NAME = "HIGH RESOLUTION STEREO CAMERA"
MISSION_NAME = "MARS EXPRESS"
MISSION_PHASE_NAME = ME_Phase_19
PROCESSING_LEVEL_ID = 3
PRODUCT_CREATION_TIME = 2016-07-01T12:48:20.000Z
PRODUCT_ID = "H7572_0000_RE3.JP2"
RELEASE_ID = 0083
REVISION_ID = 0000
/* QUALITY DATA ELEMENTS */
DATA_QUALITY_ID = 1
DATA_QUALITY_DESC = "Data calculated based on original SPICE kernels"
/* TIME DATA ELEMENTS */
SPACECRAFT_CLOCK_START_COUNT = "1/0207473674.09064"
SPACECRAFT_CLOCK_STOP_COUNT = "1/0207473926.50743"
START_TIME = 2009-11-28T07:35:39.286Z
STOP_TIME = 2009-11-28T07:38:40.001Z
/* ORBITAL DATA ELEMENTS */
ASCENDING_NODE_LONGITUDE = 72.87
MAXIMUM_RESOLUTION = 127.6
FOOTPRINT_POINT_LATITUDE = (65.7405,65.7069,65.6823,65.6477, 65.7275,65.505,65.1715,64.9493,64.7272, 64.5054,64.2835,64.0619,63.8405,63.619, 63.3978,63.1767,62.9557,62.735,62.5146, 62.2943,62.0741,61.8541,61.6343,61.4145 ,61.195,60.9758,60.6472,60.4281,60.2095 ,59.991,59.7729,59.5547,59.3371,59.011, 58.6855,58.2518,57.82,57.3873,57.168, 56.9468,56.7259,56.5054,56.2853,55.9553 ,55.7355,55.5108,55.2859,55.0612,54.837 ,54.5897,54.6092,54.6229,54.6352, 54.6505,54.6685,54.8936,55.1187,55.4561 ,55.6819,55.9054,56.1261,56.3471, 56.5679,56.7898,57.0114,57.2335,57.4542 ,57.7795,58.2142,58.5405,58.7581, 58.9762,59.1946,59.4132,59.7415,59.9607 ,60.18,60.3996,60.6194,60.8394,61.0595, 61.2799,61.5006,61.7213,61.9426,62.2746 ,62.6069,62.8286,63.0507,63.3841, 63.7181,63.9408,64.1637,64.3869,64.6101 ,64.8336,65.0572,65.281,65.5049, 65.7405)
FOOTPRINT_POINT_LONGITUDE = (336.541,335.686,335.118,334.381, 333.785,333.855,333.958,334.024,334.089 ,334.152,334.215,334.275,334.334, 334.393,334.449,334.505,334.56,334.613, 334.665,334.715,334.765,334.814,334.861 ,334.908,334.954,334.998,335.064, 335.106,335.148,335.188,335.228,335.267 ,335.305,335.36,335.414,335.483,335.548 ,335.613,335.644,335.675,335.705, 335.735,335.763,335.806,335.833,335.861 ,335.887,335.914,335.939,336.086, 336.626,337.018,337.41,337.95,338.58, 338.56,338.539,338.507,338.485,338.464, 338.442,338.42,338.397,338.374,338.351, 338.327,338.303,338.268,338.219,338.181 ,338.155,338.128,338.101,338.074, 338.032,338.004,337.975,337.945,337.915 ,337.885,337.854,337.822,337.79,337.757 ,337.724,337.672,337.619,337.583, 337.546,337.49,337.432,337.392,337.352, 337.31,337.268,337.225,337.181,337.137, 337.091,336.541)
ORBIT_NUMBER = 7572
ORBITAL_ECCENTRICITY = 0.568
ORBITAL_INCLINATION = 86.84
ORBITAL_SEMIMAJOR_AXIS = 8689.29
PERIAPSIS_ALTITUDE = 370.94
PERIAPSIS_ARGUMENT_ANGLE = 110.22
PERIAPSIS_TIME = 2009-11-28T07:34:11.000Z
SPACECRAFT_ORIENTATION = (0.0,-1.0,0.0)
^MEX_ORIENTATION_DESC = "MEX_ORIENTATION_DESC.TXT"
SPACECRAFT_POINTING_MODE = NADIR
^MEX_POINTING_DESC = "MEX_POINTING_DESC.TXT"
RIGHT_ASCENSION = -1e+32
DECLINATION = -1e+32
OFFSET_ANGLE = -1e+32
SPACECRAFT_SOLAR_DISTANCE = 2.38697e+08
TARGET_NAME = MARS
/* CAMERA DATA ELEMENTS */
DETECTOR_TEMPERATURE = 18.1666
FOCAL_PLANE_TEMPERATURE = 7.3599
INST_CMPRS_NAME = "DISCRETE COSINE TRANSFORMATION (DCT)"
INST_CMPRS_RATIO = 32.0496
INST_CMPRS_QUALITY = 0
INST_CMPRS_QUANTZ_TBL_ID = 0
INSTRUMENT_TEMPERATURE = 9.8067
LENS_TEMPERATURE = 8.1755
MACROPIXEL_SIZE = 8
MISSING_FRAMES = 0
PIXEL_SUBSAMPLING_FLAG = N
SIGNAL_CHAIN_ID = 2
/* RADIOMETRIC DATA ELEMENTS */
BANDWIDTH = 48.0
CENTER_FILTER_WAVELENGTH = 748.0
RADIANCE_OFFSET = 0.988928
RADIANCE_SCALING_FACTOR = 0.00751391
REFLECTANCE_SCALING_FACTOR = 0.000976984
MEX:REFLECTANCE_OFFSET = 0.128584
/* IMAGE OBJECT DEFINITIONS */
OBJECT = IMAGE
  INTERCHANGE_FORMAT = BINARY
  LINES = 6691
  LINE_SAMPLES = 1290
  SAMPLE_TYPE = UNSIGNED_INTEGER
  SAMPLE_BITS = 8
  BANDS = 1
  BAND_STORAGE_TYPE = BAND_SEQUENTIAL
  MAXIMUM = 255
  MEAN = 119.83
  MINIMUM = 1
  STANDARD_DEVIATION = 84.2281
END_OBJECT = IMAGE
/* MAP OBJECT DEFINITIONS */
OBJECT = IMAGE_MAP_PROJECTION
  ^DATA_SET_MAP_PROJECTION_CATALOG= "DSMAP.CAT"
  A_AXIS_RADIUS = 3396.0
  B_AXIS_RADIUS = 3396.0
  C_AXIS_RADIUS = 3396.0
  CENTER_LATITUDE = 0.0
  CENTER_LONGITUDE = 337.0
  COORDINATE_SYSTEM_NAME = PLANETOGRAPHIC
  COORDINATE_SYSTEM_TYPE = "BODY-FIXED ROTATING"
  EASTERNMOST_LONGITUDE = 338.58
  FIRST_STANDARD_PARALLEL = "N/A"
  LINE_FIRST_PIXEL = 1
  LINE_LAST_PIXEL = 6691
  LINE_PROJECTION_OFFSET = 39037.5625
  MAP_PROJECTION_ROTATION = 0.0
  MAP_PROJECTION_TYPE = SINUSOIDAL
  MAP_RESOLUTION = 592.713803866667
  MAP_SCALE = 0.1
  MAXIMUM_LATITUDE = 65.7405
  MINIMUM_LATITUDE = 54.5897
  POSITIVE_LONGITUDE_DIRECTION = EAST
  REFERENCE_LATITUDE = "N/A"
  REFERENCE_LONGITUDE = "N/A"
  SAMPLE_FIRST_PIXEL = 1
  SAMPLE_LAST_PIXEL = 1290
  SAMPLE_PROJECTION_OFFSET = 775.1875
  SECOND_STANDARD_PARALLEL = "N/A"
  WESTERNMOST_LONGITUDE = 333.785
END_OBJECT = IMAGE_MAP_PROJECTION
/* The JPEG2000 image data file associated with this label. */
OBJECT = COMPRESSED_FILE
  FILE_NAME = "H7572_0000_RE3.JP2"
  RECORD_TYPE = UNDEFINED
  FILE_RECORDS = UNK
  ENCODING_TYPE = "JP2"
  INTERCHANGE_FORMAT = BINARY
  UNCOMPRESSED_FILE_NAME = "H7572_0000_RE3.IMG"
  REQUIRED_STORAGE_BYTES = "8650740"
  ^DESCRIPTION = "JP2INFO.TXT"
END_OBJECT = COMPRESSED_FILE
END
