PDS_VERSION_ID = PDS3
/* FILE DATA ELEMENTS */
RECORD_TYPE = STREAM
/* POINTERS TO DATA OBJECTS */
^COMPRESSED_FILE = "H7577_0000_S23.JP2"
/* IDENTIFICATION DATA ELEMENTS */
DATA_SET_ID = "MEX-M-HRSC-5-REFDR-MAPPROJECTED-V3.0"
DATA_SET_NAME = "MARS EXPRESS HRSC MAP PROJECTED REFDR V3.0"
DETECTOR_ID = MEX_HRSC_S2
EVENT_TYPE = "MARS-REGIONAL-MAPPING-Im-Pf"
INSTRUMENT_HOST_ID = MEX
INSTRUMENT_HOST_NAME = "MARS EXPRESS"
INSTRUMENT_ID = HRSC
INSTRUMENT_NAME = "HIGH RESOLUTION STEREO CAMERA"
MISSION_NAME = "MARS EXPRESS"
MISSION_PHASE_NAME = ME_Phase_19
PROCESSING_LEVEL_ID = 3
PRODUCT_CREATION_TIME = 2016-07-01T12:48:20.000Z
PRODUCT_ID = "H7577_0000_S23.JP2"
RELEASE_ID = 0083
REVISION_ID = 0000
/* QUALITY DATA ELEMENTS */
DATA_QUALITY_ID = 1
DATA_QUALITY_DESC = "Data calculated based on original SPICE kernels"
/* TIME DATA ELEMENTS */
SPACECRAFT_CLOCK_START_COUNT = "1/0207597802.09029"
SPACECRAFT_CLOCK_STOP_COUNT = "1/0207598073.41486"
START_TIME = 2009-11-29T18:04:33.041Z
STOP_TIME = 2009-11-29T18:07:54.155Z
/* ORBITAL DATA ELEMENTS */
ASCENDING_NODE_LONGITUDE = 72.76
MAXIMUM_RESOLUTION = 32.6
FOOTPRINT_POINT_LATITUDE = (66.5168,66.4708,66.4332,66.5028, 66.2556,66.0087,65.7622,65.3925,65.1462 ,64.9001,64.6543,64.4087,64.1632, 63.9178,63.6729,63.4281,63.1836,62.9394 ,62.6954,62.4517,62.208,61.965,61.7216, 61.4792,61.2369,60.9947,60.7528,60.3906 ,60.1498,59.788,59.5477,59.3077,59.068, 58.8286,58.5894,58.3464,58.1015,57.8569 ,57.6128,57.2467,57.0034,56.6314, 56.3826,56.1343,55.8865,55.6391,55.2617 ,55.0088,54.7565,54.5045,54.2531, 54.2581,54.2782,54.2916,54.303,54.3192, 54.5716,54.8246,55.0781,55.3321,55.7111 ,55.9597,56.2086,56.4579,56.7076, 57.0817,57.3258,57.5707,57.8158,58.0611 ,58.3069,58.6746,58.9149,59.1551, 59.3961,59.7583,60.1209,60.3629,60.6055 ,60.8484,61.2136,61.457,61.7009,62.0674 ,62.3121,62.5571,62.8022,63.1705, 63.4161,63.6626,63.9091,64.1556,64.5262 ,64.7735,65.0209,65.3927,65.7653, 66.0138,66.2625,66.5168)
FOOTPRINT_POINT_LONGITUDE = (192.514,191.315,190.457,189.207, 189.291,189.373,189.453,189.57,189.645, 189.718,189.789,189.859,189.927,189.993 ,190.058,190.121,190.182,190.242,190.3, 190.357,190.413,190.467,190.521,190.572 ,190.622,190.672,190.72,190.79,190.835, 190.901,190.944,190.986,191.026,191.066 ,191.105,191.143,191.181,191.218, 191.254,191.307,191.341,191.392,191.424 ,191.456,191.487,191.517,191.562, 191.591,191.62,191.647,191.674,192.223, 192.849,193.293,193.711,194.374,194.352 ,194.328,194.305,194.281,194.244, 194.219,194.194,194.168,194.142,194.103 ,194.076,194.049,194.021,193.993, 193.964,193.921,193.891,193.861,193.831 ,193.785,193.736,193.704,193.67,193.636 ,193.584,193.548,193.511,193.455, 193.417,193.377,193.337,193.275,193.233 ,193.19,193.145,193.1,193.031,192.983, 192.934,192.858,192.781,192.727,192.672 ,192.514)
ORBIT_NUMBER = 7577
ORBITAL_ECCENTRICITY = 0.568
ORBITAL_INCLINATION = 86.83
ORBITAL_SEMIMAJOR_AXIS = 8687.8
PERIAPSIS_ALTITUDE = 371.15
PERIAPSIS_ARGUMENT_ANGLE = 109.36
PERIAPSIS_TIME = 2009-11-29T18:02:58.000Z
SPACECRAFT_ORIENTATION = (0.0,-1.0,0.0)
^MEX_ORIENTATION_DESC = "MEX_ORIENTATION_DESC.TXT"
SPACECRAFT_POINTING_MODE = NADIR
^MEX_POINTING_DESC = "MEX_POINTING_DESC.TXT"
RIGHT_ASCENSION = -1e+32
DECLINATION = -1e+32
OFFSET_ANGLE = -1e+32
SPACECRAFT_SOLAR_DISTANCE = 2.38927e+08
TARGET_NAME = MARS
/* CAMERA DATA ELEMENTS */
DETECTOR_TEMPERATURE = 17.9627
FOCAL_PLANE_TEMPERATURE = 7.5638
INST_CMPRS_NAME = "DISCRETE COSINE TRANSFORMATION (DCT)"
INST_CMPRS_RATIO = 12.6645
INST_CMPRS_QUALITY = 0
INST_CMPRS_QUANTZ_TBL_ID = 0
INSTRUMENT_TEMPERATURE = 10.6223
LENS_TEMPERATURE = 7.9716
MACROPIXEL_SIZE = 2
MISSING_FRAMES = 0
PIXEL_SUBSAMPLING_FLAG = N
SIGNAL_CHAIN_ID = 1
/* RADIOMETRIC DATA ELEMENTS */
BANDWIDTH = 178.0
CENTER_FILTER_WAVELENGTH = 679.0
RADIANCE_OFFSET = 3.83564
RADIANCE_SCALING_FACTOR = 0.0231893
REFLECTANCE_SCALING_FACTOR = 0.00070105
MEX:REFLECTANCE_OFFSET = 0.115957
/* IMAGE OBJECT DEFINITIONS */
OBJECT = IMAGE
  INTERCHANGE_FORMAT = BINARY
  LINES = 29432
  LINE_SAMPLES = 5775
  SAMPLE_TYPE = UNSIGNED_INTEGER
  SAMPLE_BITS = 8
  BANDS = 1
  BAND_STORAGE_TYPE = BAND_SEQUENTIAL
  MAXIMUM = 255
  MEAN = 90.9322
  MINIMUM = 1
  STANDARD_DEVIATION = 67.9756
END_OBJECT = IMAGE
/* MAP OBJECT DEFINITIONS */
OBJECT = IMAGE_MAP_PROJECTION
  ^DATA_SET_MAP_PROJECTION_CATALOG= "DSMAP.CAT"
  A_AXIS_RADIUS = 3396.0
  B_AXIS_RADIUS = 3396.0
  C_AXIS_RADIUS = 3396.0
  CENTER_LATITUDE = 0.0
  CENTER_LONGITUDE = 192.0
  COORDINATE_SYSTEM_NAME = PLANETOGRAPHIC
  COORDINATE_SYSTEM_TYPE = "BODY-FIXED ROTATING"
  EASTERNMOST_LONGITUDE = 194.374
  FIRST_STANDARD_PARALLEL = "N/A"
  LINE_FIRST_PIXEL = 1
  LINE_LAST_PIXEL = 29432
  LINE_PROJECTION_OFFSET = 157978.75
  MAP_PROJECTION_ROTATION = 0.0
  MAP_PROJECTION_TYPE = SINUSOIDAL
  MAP_RESOLUTION = 2370.85521546667
  MAP_SCALE = 0.025
  MAXIMUM_LATITUDE = 66.5168
  MINIMUM_LATITUDE = 54.2531
  POSITIVE_LONGITUDE_DIRECTION = EAST
  REFERENCE_LATITUDE = "N/A"
  REFERENCE_LONGITUDE = "N/A"
  SAMPLE_FIRST_PIXEL = 1
  SAMPLE_LAST_PIXEL = 5775
  SAMPLE_PROJECTION_OFFSET = 2614.25
  SECOND_STANDARD_PARALLEL = "N/A"
  WESTERNMOST_LONGITUDE = 189.207
END_OBJECT = IMAGE_MAP_PROJECTION
/* The JPEG2000 image data file associated with this label. */
OBJECT = COMPRESSED_FILE
  FILE_NAME = "H7577_0000_S23.JP2"
  RECORD_TYPE = UNDEFINED
  FILE_RECORDS = UNK
  ENCODING_TYPE = "JP2"
  INTERCHANGE_FORMAT = BINARY
  UNCOMPRESSED_FILE_NAME = "H7577_0000_S23.IMG"
  REQUIRED_STORAGE_BYTES = "169998675"
  ^DESCRIPTION = "JP2INFO.TXT"
END_OBJECT = COMPRESSED_FILE
END
