PDS_VERSION_ID = PDS3
/* FILE DATA ELEMENTS */
RECORD_TYPE = STREAM
/* POINTERS TO DATA OBJECTS */
^COMPRESSED_FILE = "H7579_0000_IR3.JP2"
/* IDENTIFICATION DATA ELEMENTS */
DATA_SET_ID = "MEX-M-HRSC-5-REFDR-MAPPROJECTED-V3.0"
DATA_SET_NAME = "MARS EXPRESS HRSC MAP PROJECTED REFDR V3.0"
DETECTOR_ID = MEX_HRSC_IR
EVENT_TYPE = "MARS-CLOUD-VARIABLE-At"
INSTRUMENT_HOST_ID = MEX
INSTRUMENT_HOST_NAME = "MARS EXPRESS"
INSTRUMENT_ID = HRSC
INSTRUMENT_NAME = "HIGH RESOLUTION STEREO CAMERA"
MISSION_NAME = "MARS EXPRESS"
MISSION_PHASE_NAME = ME_Phase_19
PROCESSING_LEVEL_ID = 3
PRODUCT_CREATION_TIME = 2016-07-01T12:48:20.000Z
PRODUCT_ID = "H7579_0000_IR3.JP2"
RELEASE_ID = 0083
REVISION_ID = 0000
/* QUALITY DATA ELEMENTS */
DATA_QUALITY_ID = 1
DATA_QUALITY_DESC = "Data calculated based on original SPICE kernels"
/* TIME DATA ELEMENTS */
SPACECRAFT_CLOCK_START_COUNT = "1/0207648149.07285"
SPACECRAFT_CLOCK_STOP_COUNT = "1/0207649518.24250"
START_TIME = 2009-11-30T08:02:31.747Z
STOP_TIME = 2009-11-30T08:17:41.481Z
/* ORBITAL DATA ELEMENTS */
ASCENDING_NODE_LONGITUDE = 72.73
MAXIMUM_RESOLUTION = 130.6
FOOTPRINT_POINT_LATITUDE = (23.7428,23.7037,22.6754,21.646,20.6255 ,19.6136,18.6045,17.6053,16.616,15.6305 ,14.6537,13.6728,12.2443,11.294,10.3513 ,9.41766,8.48911,7.56997,6.65815, 5.75172,4.84899,3.95906,3.07972,1.76767 ,0.472628,-0.383427,-1.23157,-2.07081, -2.90342,-3.73341,-4.54937,-5.36171, -6.16819,-6.96705,-7.75904,-8.54617, -9.32582,-10.0984,-10.8629,-11.6225, -12.7578,-13.4964,-14.6202,-15.7046, -17.1379,-18.1996,-19.3523,-19.4401, -19.5059,-19.6132,-19.6799,-19.7441, -19.8414,-18.41,-17.3214,-16.5896, -15.8512,-14.7234,-13.9705,-13.2141, -12.4512,-11.6808,-10.5134,-9.73091, -8.93884,-7.73194,-6.92827,-6.11031, -5.29001,-4.46145,-3.63155,-2.78878, -1.94099,-1.08745,-0.226747,0.641679, 1.5157,2.39667,3.28681,4.18167,5.08638, 5.99701,6.9131,7.83529,8.76712,9.70469, 11.1288,12.0858,13.049,14.021,15.4935, 16.4827,17.4783,18.4828,19.493,20.5119, 21.543,22.572,23.6114,23.7428)
FOOTPRINT_POINT_LONGITUDE = (352.247,350.68,350.641,350.597,350.551 ,350.503,350.45,350.397,350.342,350.283 ,350.222,350.155,350.062,349.995, 349.925,349.854,349.78,349.705,349.629, 349.549,349.466,349.384,349.301,349.171 ,349.037,348.945,348.851,348.757, 348.661,348.561,348.462,348.36,348.257, 348.152,348.045,347.936,347.826,347.714 ,347.601,347.486,347.306,347.189,347.0, 346.816,346.561,346.364,346.932,348.211 ,349.203,350.688,351.61,352.462,353.769 ,353.76,353.754,353.75,353.747,353.743, 353.74,353.739,353.738,353.737,353.735, 353.736,353.735,353.733,353.734,353.733 ,353.734,353.734,353.735,353.735, 353.736,353.736,353.737,353.738,353.738 ,353.739,353.739,353.739,353.739, 353.739,353.739,353.739,353.738,353.737 ,353.734,353.732,353.73,353.727,353.721 ,353.717,353.713,353.707,353.702, 353.695,353.685,353.678,353.668, 352.247)
ORBIT_NUMBER = 7579
ORBITAL_ECCENTRICITY = 0.568
ORBITAL_INCLINATION = 86.83
ORBITAL_SEMIMAJOR_AXIS = 8688.78
PERIAPSIS_ALTITUDE = 371.5
PERIAPSIS_ARGUMENT_ANGLE = 108.99
PERIAPSIS_TIME = 2009-11-30T07:50:28.000Z
SPACECRAFT_ORIENTATION = (0.0,-1.0,0.0)
^MEX_ORIENTATION_DESC = "MEX_ORIENTATION_DESC.TXT"
SPACECRAFT_POINTING_MODE = NADIR
^MEX_POINTING_DESC = "MEX_POINTING_DESC.TXT"
RIGHT_ASCENSION = -1e+32
DECLINATION = -1e+32
OFFSET_ANGLE = -1e+32
SPACECRAFT_SOLAR_DISTANCE = 2.39018e+08
TARGET_NAME = MARS
/* CAMERA DATA ELEMENTS */
DETECTOR_TEMPERATURE = 16.9432
FOCAL_PLANE_TEMPERATURE = 7.5638
INST_CMPRS_NAME = "DISCRETE COSINE TRANSFORMATION (DCT)"
INST_CMPRS_RATIO = 16.7959
INST_CMPRS_QUALITY = 0
INST_CMPRS_QUANTZ_TBL_ID = 0
INSTRUMENT_TEMPERATURE = 10.6223
LENS_TEMPERATURE = 7.7677
MACROPIXEL_SIZE = 4
MISSING_FRAMES = 1
PIXEL_SUBSAMPLING_FLAG = N
SIGNAL_CHAIN_ID = 2
/* RADIOMETRIC DATA ELEMENTS */
BANDWIDTH = 81.0
CENTER_FILTER_WAVELENGTH = 955.5
RADIANCE_OFFSET = 0.780222
RADIANCE_SCALING_FACTOR = 0.00963237
REFLECTANCE_SCALING_FACTOR = 0.00118721
MEX:REFLECTANCE_OFFSET = 0.0961637
/* IMAGE OBJECT DEFINITIONS */
OBJECT = IMAGE
  INTERCHANGE_FORMAT = BINARY
  LINES = 25844
  LINE_SAMPLES = 5644
  SAMPLE_TYPE = UNSIGNED_INTEGER
  SAMPLE_BITS = 8
  BANDS = 1
  BAND_STORAGE_TYPE = BAND_SEQUENTIAL
  MAXIMUM = 255
  MEAN = 131.544
  MINIMUM = 1
  STANDARD_DEVIATION = 45.347
END_OBJECT = IMAGE
/* MAP OBJECT DEFINITIONS */
OBJECT = IMAGE_MAP_PROJECTION
  ^DATA_SET_MAP_PROJECTION_CATALOG= "DSMAP.CAT"
  A_AXIS_RADIUS = 3396.0
  B_AXIS_RADIUS = 3396.0
  C_AXIS_RADIUS = 3396.0
  CENTER_LATITUDE = 0.0
  CENTER_LONGITUDE = 351.0
  COORDINATE_SYSTEM_NAME = PLANETOGRAPHIC
  COORDINATE_SYSTEM_TYPE = "BODY-FIXED ROTATING"
  EASTERNMOST_LONGITUDE = 353.769
  FIRST_STANDARD_PARALLEL = "N/A"
  LINE_FIRST_PIXEL = 1
  LINE_LAST_PIXEL = 25844
  LINE_PROJECTION_OFFSET = 14077.0
  MAP_PROJECTION_ROTATION = 0.0
  MAP_PROJECTION_TYPE = SINUSOIDAL
  MAP_RESOLUTION = 592.713803866667
  MAP_SCALE = 0.1
  MAXIMUM_LATITUDE = 23.7428
  MINIMUM_LATITUDE = -19.8414
  POSITIVE_LONGITUDE_DIRECTION = EAST
  REFERENCE_LATITUDE = "N/A"
  REFERENCE_LONGITUDE = "N/A"
  SAMPLE_FIRST_PIXEL = 1
  SAMPLE_LAST_PIXEL = 5644
  SAMPLE_PROJECTION_OFFSET = 3414.0
  SECOND_STANDARD_PARALLEL = "N/A"
  WESTERNMOST_LONGITUDE = 346.364
END_OBJECT = IMAGE_MAP_PROJECTION
/* The JPEG2000 image data file associated with this label. */
OBJECT = COMPRESSED_FILE
  FILE_NAME = "H7579_0000_IR3.JP2"
  RECORD_TYPE = UNDEFINED
  FILE_RECORDS = UNK
  ENCODING_TYPE = "JP2"
  INTERCHANGE_FORMAT = BINARY
  UNCOMPRESSED_FILE_NAME = "H7579_0000_IR3.IMG"
  REQUIRED_STORAGE_BYTES = "145891756"
  ^DESCRIPTION = "JP2INFO.TXT"
END_OBJECT = COMPRESSED_FILE
END
