PDS_VERSION_ID = PDS3
/* FILE DATA ELEMENTS */
RECORD_TYPE = STREAM
/* POINTERS TO DATA OBJECTS */
^COMPRESSED_FILE = "H7606_0000_BL3.JP2"
/* IDENTIFICATION DATA ELEMENTS */
DATA_SET_ID = "MEX-M-HRSC-5-REFDR-MAPPROJECTED-V3.0"
DATA_SET_NAME = "MARS EXPRESS HRSC MAP PROJECTED REFDR V3.0"
DETECTOR_ID = MEX_HRSC_BLUE
EVENT_TYPE = "MARS-CLOUD-VARIABLE-At"
INSTRUMENT_HOST_ID = MEX
INSTRUMENT_HOST_NAME = "MARS EXPRESS"
INSTRUMENT_ID = HRSC
INSTRUMENT_NAME = "HIGH RESOLUTION STEREO CAMERA"
MISSION_NAME = "MARS EXPRESS"
MISSION_PHASE_NAME = ME_Phase_19
PROCESSING_LEVEL_ID = 3
PRODUCT_CREATION_TIME = 2016-07-01T17:38:43.000Z
PRODUCT_ID = "H7606_0000_BL3.JP2"
RELEASE_ID = 0084
REVISION_ID = 0000
/* QUALITY DATA ELEMENTS */
DATA_QUALITY_ID = 1
DATA_QUALITY_DESC = "Data calculated based on original SPICE kernels"
/* TIME DATA ELEMENTS */
SPACECRAFT_CLOCK_START_COUNT = "1/0208318706.09049"
SPACECRAFT_CLOCK_STOP_COUNT = "1/0208319905.14543"
START_TIME = 2009-12-08T02:21:01.986Z
STOP_TIME = 2009-12-08T02:38:25.797Z
/* ORBITAL DATA ELEMENTS */
ASCENDING_NODE_LONGITUDE = 72.21
MAXIMUM_RESOLUTION = 208.4
FOOTPRINT_POINT_LATITUDE = (13.6761,13.7101,13.7569,13.7819, 13.8013,12.9981,12.1908,11.3942,10.6081 ,9.83221,9.06644,8.31092,7.56546, 6.82993,6.10394,5.38769,4.6809,3.98342, 3.29499,2.61586,1.94584,1.28409, 0.630704,-0.0139169,-0.6495,-1.27679, -1.89625,-2.50896,-3.11123,-3.70632, -4.29428,-4.87656,-5.45083,-6.01523, -6.57405,-7.12452,-8.20804,-9.26532, -10.2973,-11.3039,-12.2855,-13.242, -14.1753,-15.0899,-15.9812,-16.4798, -16.5925,-16.6651,-16.758,-16.8991, -16.9808,-17.0942,-17.1579,-17.2322, -17.3211,-17.3786,-17.4324,-17.0012, -16.0691,-15.1159,-14.1411,-13.1439, -12.1239,-11.0806,-10.0112,-8.9166, -8.35893,-7.79476,-7.2246,-6.64805, -6.06401,-5.47236,-4.87413,-4.26851, -3.65576,-3.03511,-2.40684,-1.77121, -1.12756,-0.475313,0.184553,0.854124, 1.53102,2.21621,2.91115,3.61464,4.32681 ,5.04808,5.77858,6.51845,7.26781, 8.02683,8.79556,9.57405,10.3624,11.1613 ,11.9701,12.7896,13.6195,13.6761)
FOOTPRINT_POINT_LONGITUDE = (150.086,149.264,148.053,147.361, 146.796,146.356,146.279,146.2,146.121, 146.04,145.958,145.874,145.79,145.704, 145.617,145.529,145.44,145.351,145.26, 145.168,145.075,144.981,144.887,144.792 ,144.695,144.598,144.5,144.403,144.301, 144.2,144.098,143.999,143.897,143.792, 143.688,143.582,143.371,143.158,142.944 ,142.727,142.507,142.282,142.055, 141.829,141.599,141.863,142.738,143.32, 144.094,145.349,146.121,147.28,147.958, 148.833,149.901,150.684,151.47,151.873, 151.824,151.778,151.733,151.69,151.649, 151.608,151.571,151.536,151.52,151.505, 151.488,151.47,151.454,151.439,151.424, 151.408,151.393,151.378,151.364,151.349 ,151.334,151.321,151.306,151.295, 151.282,151.268,151.257,151.245,151.233 ,151.221,151.21,151.198,151.186,151.175 ,151.163,151.152,151.139,151.128, 151.116,151.104,151.092,150.086)
ORBIT_NUMBER = 7606
ORBITAL_ECCENTRICITY = 0.568
ORBITAL_INCLINATION = 86.83
ORBITAL_SEMIMAJOR_AXIS = 8685.72
PERIAPSIS_ALTITUDE = 373.67
PERIAPSIS_ARGUMENT_ANGLE = 104.32
PERIAPSIS_TIME = 2009-12-08T02:01:55.000Z
SPACECRAFT_ORIENTATION = (0.0,-1.0,0.0)
^MEX_ORIENTATION_DESC = "MEX_ORIENTATION_DESC.TXT"
SPACECRAFT_POINTING_MODE = NADIR
^MEX_POINTING_DESC = "MEX_POINTING_DESC.TXT"
RIGHT_ASCENSION = -1e+32
DECLINATION = -1e+32
OFFSET_ANGLE = -1e+32
SPACECRAFT_SOLAR_DISTANCE = 2.40218e+08
TARGET_NAME = MARS
/* CAMERA DATA ELEMENTS */
DETECTOR_TEMPERATURE = 18.1666
FOCAL_PLANE_TEMPERATURE = 7.5638
INST_CMPRS_NAME = "DISCRETE COSINE TRANSFORMATION (DCT)"
INST_CMPRS_RATIO = 37.5895
INST_CMPRS_QUALITY = 0
INST_CMPRS_QUANTZ_TBL_ID = 0
INSTRUMENT_TEMPERATURE = 11.234
LENS_TEMPERATURE = 8.3794
MACROPIXEL_SIZE = 4
MISSING_FRAMES = 0
PIXEL_SUBSAMPLING_FLAG = N
SIGNAL_CHAIN_ID = 2
/* RADIOMETRIC DATA ELEMENTS */
BANDWIDTH = 76.0
CENTER_FILTER_WAVELENGTH = 444.0
RADIANCE_OFFSET = 0.841717
RADIANCE_SCALING_FACTOR = 0.00304694
REFLECTANCE_SCALING_FACTOR = 0.000180649
MEX:REFLECTANCE_OFFSET = 0.0499044
/* IMAGE OBJECT DEFINITIONS */
OBJECT = IMAGE
  INTERCHANGE_FORMAT = BINARY
  LINES = 9267
  LINE_SAMPLES = 2973
  SAMPLE_TYPE = UNSIGNED_INTEGER
  SAMPLE_BITS = 8
  BANDS = 1
  BAND_STORAGE_TYPE = BAND_SEQUENTIAL
  MAXIMUM = 255
  MEAN = 104.586
  MINIMUM = 1
  STANDARD_DEVIATION = 44.2132
END_OBJECT = IMAGE
/* MAP OBJECT DEFINITIONS */
OBJECT = IMAGE_MAP_PROJECTION
  ^DATA_SET_MAP_PROJECTION_CATALOG= "DSMAP.CAT"
  A_AXIS_RADIUS = 3396.0
  B_AXIS_RADIUS = 3396.0
  C_AXIS_RADIUS = 3396.0
  CENTER_LATITUDE = 0.0
  CENTER_LONGITUDE = 148.0
  COORDINATE_SYSTEM_NAME = PLANETOGRAPHIC
  COORDINATE_SYSTEM_TYPE = "BODY-FIXED ROTATING"
  EASTERNMOST_LONGITUDE = 151.873
  FIRST_STANDARD_PARALLEL = "N/A"
  LINE_FIRST_PIXEL = 1
  LINE_LAST_PIXEL = 9267
  LINE_PROJECTION_OFFSET = 4093.0
  MAP_PROJECTION_ROTATION = 0.0
  MAP_PROJECTION_TYPE = SINUSOIDAL
  MAP_RESOLUTION = 296.356901933333
  MAP_SCALE = 0.2
  MAXIMUM_LATITUDE = 13.8013
  MINIMUM_LATITUDE = -17.4324
  POSITIVE_LONGITUDE_DIRECTION = EAST
  REFERENCE_LATITUDE = "N/A"
  REFERENCE_LONGITUDE = "N/A"
  SAMPLE_FIRST_PIXEL = 1
  SAMPLE_LAST_PIXEL = 2973
  SAMPLE_PROJECTION_OFFSET = 1852.0
  SECOND_STANDARD_PARALLEL = "N/A"
  WESTERNMOST_LONGITUDE = 141.599
END_OBJECT = IMAGE_MAP_PROJECTION
/* The JPEG2000 image data file associated with this label. */
OBJECT = COMPRESSED_FILE
  FILE_NAME = "H7606_0000_BL3.JP2"
  RECORD_TYPE = UNDEFINED
  FILE_RECORDS = UNK
  ENCODING_TYPE = "JP2"
  INTERCHANGE_FORMAT = BINARY
  UNCOMPRESSED_FILE_NAME = "H7606_0000_BL3.IMG"
  REQUIRED_STORAGE_BYTES = "27574575"
  ^DESCRIPTION = "JP2INFO.TXT"
END_OBJECT = COMPRESSED_FILE
END
