PDS_VERSION_ID = PDS3
/* FILE DATA ELEMENTS */
RECORD_TYPE = STREAM
/* POINTERS TO DATA OBJECTS */
^COMPRESSED_FILE = "H7694_0000_BL3.JP2"
/* IDENTIFICATION DATA ELEMENTS */
DATA_SET_ID = "MEX-M-HRSC-5-REFDR-MAPPROJECTED-V3.0"
DATA_SET_NAME = "MARS EXPRESS HRSC MAP PROJECTED REFDR V3.0"
DETECTOR_ID = MEX_HRSC_BLUE
EVENT_TYPE = "MARS-CLOUD-VARIABLE-At"
INSTRUMENT_HOST_ID = MEX
INSTRUMENT_HOST_NAME = "MARS EXPRESS"
INSTRUMENT_ID = HRSC
INSTRUMENT_NAME = "HIGH RESOLUTION STEREO CAMERA"
MISSION_NAME = "MARS EXPRESS"
MISSION_PHASE_NAME = ME_Phase_19
PROCESSING_LEVEL_ID = 3
PRODUCT_CREATION_TIME = 2016-07-01T17:38:43.000Z
PRODUCT_ID = "H7694_0000_BL3.JP2"
RELEASE_ID = 0084
REVISION_ID = 0000
/* QUALITY DATA ELEMENTS */
DATA_QUALITY_ID = 1
DATA_QUALITY_DESC = "Data calculated based on original SPICE kernels"
/* TIME DATA ELEMENTS */
SPACECRAFT_CLOCK_START_COUNT = "1/0210503890.09049"
SPACECRAFT_CLOCK_STOP_COUNT = "1/0210504861.09656"
START_TIME = 2010-01-02T09:18:12.636Z
STOP_TIME = 2010-01-02T09:31:55.769Z
/* ORBITAL DATA ELEMENTS */
ASCENDING_NODE_LONGITUDE = 70.51
MAXIMUM_RESOLUTION = 149.8
FOOTPRINT_POINT_LATITUDE = (19.1902,19.0899,18.9887,18.8865, 18.7049,18.2063,17.4157,16.6265,15.8389 ,15.0525,14.2674,13.4831,12.7,11.918, 11.1364,10.356,9.57602,8.79673,8.01787, 7.23939,6.46115,5.68312,4.90515,4.12725 ,3.34931,2.57125,1.40337,0.624502, -0.545019,-1.32457,-2.10492,-2.88638, -3.66914,-4.45741,-5.23815,-6.02596, -6.82186,-7.63266,-9.19317,-9.99007, -10.7892,-11.591,-12.3959,-13.2035, -14.0145,-14.8285,-15.646,-16.4677, -17.2934,-18.1223,-18.9571,-19.7954, -21.0368,-20.9287,-20.8226,-20.718, -20.6157,-20.5151,-20.4154,-20.3164, -20.2201,-20.0417,-19.9149,-19.4069, -18.5868,-17.7704,-16.9586,-16.1499, -15.3445,-14.5435,-13.7447,-12.9492, -12.1564,-11.3671,-10.5804,-9.7944, -8.24431,-7.46859,-6.29403,-5.13903, -3.96382,-2.42161,-0.88129,0.657258, 2.19439,3.73078,5.26698,6.80466,8.34345 ,9.88455,11.4283,12.2015,13.3483, 14.1332,15.3064,16.0859,16.8662,17.6479 ,18.4312,19.1902)
FOOTPRINT_POINT_LONGITUDE = (269.618,270.697,271.768,272.831, 274.682,275.764,275.767,275.769,275.773 ,275.776,275.78,275.784,275.789,275.795 ,275.801,275.808,275.815,275.823, 275.832,275.841,275.851,275.863,275.875 ,275.887,275.901,275.915,275.939, 275.957,275.985,276.004,276.025,276.047 ,276.072,276.102,276.125,276.155, 276.193,276.243,276.294,276.333,276.375 ,276.419,276.466,276.515,276.568, 276.623,276.681,276.742,276.807,276.875 ,276.947,277.023,276.548,275.587, 274.633,273.688,272.75,271.817,270.887, 269.959,269.033,267.301,266.029,265.12, 265.239,265.356,265.47,265.581,265.69, 265.797,265.902,266.004,266.104,266.202 ,266.298,266.393,266.563,266.648, 266.786,266.902,267.044,267.201,267.354 ,267.502,267.645,267.784,267.917, 268.042,268.165,268.282,268.394,268.448 ,268.545,268.584,268.649,268.696, 268.742,268.786,268.829,269.618)
ORBIT_NUMBER = 7694
ORBITAL_ECCENTRICITY = 0.568
ORBITAL_INCLINATION = 86.82
ORBITAL_SEMIMAJOR_AXIS = 8679.91
PERIAPSIS_ALTITUDE = 375.71
PERIAPSIS_ARGUMENT_ANGLE = 89.03
PERIAPSIS_TIME = 2010-01-02T08:52:53.000Z
SPACECRAFT_ORIENTATION = (0.0,1.0,0.0)
^MEX_ORIENTATION_DESC = "MEX_ORIENTATION_DESC.TXT"
SPACECRAFT_POINTING_MODE = INERT
^MEX_POINTING_DESC = "MEX_POINTING_DESC.TXT"
RIGHT_ASCENSION = 132.974
DECLINATION = -54.634
OFFSET_ANGLE = -1e+32
SPACECRAFT_SOLAR_DISTANCE = 2.43683e+08
TARGET_NAME = MARS
/* CAMERA DATA ELEMENTS */
DETECTOR_TEMPERATURE = 17.9627
FOCAL_PLANE_TEMPERATURE = 7.9716
INST_CMPRS_NAME = "DISCRETE COSINE TRANSFORMATION (DCT)"
INST_CMPRS_RATIO = 10.112
INST_CMPRS_QUALITY = 0
INST_CMPRS_QUANTZ_TBL_ID = 0
INSTRUMENT_TEMPERATURE = 10.8262
LENS_TEMPERATURE = 8.1755
MACROPIXEL_SIZE = 2
MISSING_FRAMES = 0
PIXEL_SUBSAMPLING_FLAG = N
SIGNAL_CHAIN_ID = 2
/* RADIOMETRIC DATA ELEMENTS */
BANDWIDTH = 76.0
CENTER_FILTER_WAVELENGTH = 444.0
RADIANCE_OFFSET = 0.985969
RADIANCE_SCALING_FACTOR = 0.00339171
REFLECTANCE_SCALING_FACTOR = 0.000206935
MEX:REFLECTANCE_OFFSET = 0.0601561
/* IMAGE OBJECT DEFINITIONS */
OBJECT = IMAGE
  INTERCHANGE_FORMAT = BINARY
  LINES = 23930
  LINE_SAMPLES = 6752
  SAMPLE_TYPE = UNSIGNED_INTEGER
  SAMPLE_BITS = 8
  BANDS = 1
  BAND_STORAGE_TYPE = BAND_SEQUENTIAL
  MAXIMUM = 255
  MEAN = 138.806
  MINIMUM = 1
  STANDARD_DEVIATION = 28.9149
END_OBJECT = IMAGE
/* MAP OBJECT DEFINITIONS */
OBJECT = IMAGE_MAP_PROJECTION
  ^DATA_SET_MAP_PROJECTION_CATALOG= "DSMAP.CAT"
  A_AXIS_RADIUS = 3396.0
  B_AXIS_RADIUS = 3396.0
  C_AXIS_RADIUS = 3396.0
  CENTER_LATITUDE = 0.0
  CENTER_LONGITUDE = 272.0
  COORDINATE_SYSTEM_NAME = PLANETOGRAPHIC
  COORDINATE_SYSTEM_TYPE = "BODY-FIXED ROTATING"
  EASTERNMOST_LONGITUDE = 277.023
  FIRST_STANDARD_PARALLEL = "N/A"
  LINE_FIRST_PIXEL = 1
  LINE_LAST_PIXEL = 23930
  LINE_PROJECTION_OFFSET = 11414.0
  MAP_PROJECTION_ROTATION = 0.0
  MAP_PROJECTION_TYPE = SINUSOIDAL
  MAP_RESOLUTION = 592.713803866667
  MAP_SCALE = 0.1
  MAXIMUM_LATITUDE = 19.1902
  MINIMUM_LATITUDE = -21.0368
  POSITIVE_LONGITUDE_DIRECTION = EAST
  REFERENCE_LATITUDE = "N/A"
  REFERENCE_LONGITUDE = "N/A"
  SAMPLE_FIRST_PIXEL = 1
  SAMPLE_LAST_PIXEL = 6752
  SAMPLE_PROJECTION_OFFSET = 3878.0
  SECOND_STANDARD_PARALLEL = "N/A"
  WESTERNMOST_LONGITUDE = 265.12
END_OBJECT = IMAGE_MAP_PROJECTION
/* The JPEG2000 image data file associated with this label. */
OBJECT = COMPRESSED_FILE
  FILE_NAME = "H7694_0000_BL3.JP2"
  RECORD_TYPE = UNDEFINED
  FILE_RECORDS = UNK
  ENCODING_TYPE = "JP2"
  INTERCHANGE_FORMAT = BINARY
  UNCOMPRESSED_FILE_NAME = "H7694_0000_BL3.IMG"
  REQUIRED_STORAGE_BYTES = "161609120"
  ^DESCRIPTION = "JP2INFO.TXT"
END_OBJECT = COMPRESSED_FILE
END
