PDS_VERSION_ID = PDS3
/* FILE DATA ELEMENTS */
RECORD_TYPE = STREAM
/* POINTERS TO DATA OBJECTS */
^COMPRESSED_FILE = "H7697_0000_GR3.JP2"
/* IDENTIFICATION DATA ELEMENTS */
DATA_SET_ID = "MEX-M-HRSC-5-REFDR-MAPPROJECTED-V3.0"
DATA_SET_NAME = "MARS EXPRESS HRSC MAP PROJECTED REFDR V3.0"
DETECTOR_ID = MEX_HRSC_GREEN
EVENT_TYPE = "MARS-CLOUD-VARIABLE-At"
INSTRUMENT_HOST_ID = MEX
INSTRUMENT_HOST_NAME = "MARS EXPRESS"
INSTRUMENT_ID = HRSC
INSTRUMENT_NAME = "HIGH RESOLUTION STEREO CAMERA"
MISSION_NAME = "MARS EXPRESS"
MISSION_PHASE_NAME = ME_Phase_19
PROCESSING_LEVEL_ID = 3
PRODUCT_CREATION_TIME = 2016-07-01T17:38:43.000Z
PRODUCT_ID = "H7697_0000_GR3.JP2"
RELEASE_ID = 0084
REVISION_ID = 0000
/* QUALITY DATA ELEMENTS */
DATA_QUALITY_ID = 1
DATA_QUALITY_DESC = "Data calculated based on original SPICE kernels"
/* TIME DATA ELEMENTS */
SPACECRAFT_CLOCK_START_COUNT = "1/0210578365.07292"
SPACECRAFT_CLOCK_STOP_COUNT = "1/0210579539.03034"
START_TIME = 2010-01-03T06:00:54.338Z
STOP_TIME = 2010-01-03T06:18:59.583Z
/* ORBITAL DATA ELEMENTS */
ASCENDING_NODE_LONGITUDE = 70.45
MAXIMUM_RESOLUTION = 164.7
FOOTPRINT_POINT_LATITUDE = (20.0191,19.8931,19.7685,19.6453, 19.5232,19.4058,18.4086,17.4157,15.9285 ,14.4526,13.4756,12.0138,10.5529, 9.09666,8.12948,7.16381,6.19935,5.2378, 3.79664,2.83998,1.88008,0.923432, -0.0335799,-0.989963,-2.42438,-3.86443, -4.82254,-5.77923,-6.73758,-7.69713, -9.14373,-10.1074,-11.0732,-12.0423, -13.0116,-13.9835,-14.961,-16.4362, -17.4198,-18.408,-19.4023,-20.3994, -21.408,-22.4145,-23.4257,-24.4447, -25.4767,-26.4962,-27.5348,-28.5785, -29.625,-29.5054,-29.3898,-29.2709, -29.1564,-28.946,-28.8273,-28.665, -28.5483,-28.3852,-28.243,-27.6189, -26.5999,-25.5883,-24.5835,-23.5841, -22.5912,-21.1102,-20.1281,-19.1419, -18.1655,-17.1977,-15.7503,-14.7807, -13.817,-12.8601,-11.9057,-9.5357, -8.11106,-5.7387,-3.8471,-1.48068, -0.061357,1.83107,3.7222,5.62282, 6.57908,7.53771,9.44686,10.4056,11.3677 ,12.3403,13.7943,14.7669,15.7379, 16.7181,18.1992,19.188,20.1791,20.0191)
FOOTPRINT_POINT_LONGITUDE = (327.545,328.729,329.906,331.075, 332.241,333.74,333.739,333.738,333.739, 333.742,333.747,333.756,333.767,333.777 ,333.787,333.797,333.814,333.828, 333.851,333.875,333.89,333.915,333.938, 333.964,334.009,334.063,334.102,334.137 ,334.178,334.223,334.297,334.35,334.408 ,334.471,334.535,334.603,334.679, 334.797,334.879,334.971,335.071,335.175 ,335.285,335.403,335.527,335.661, 335.808,335.95,336.111,336.28,336.002, 334.755,333.527,332.314,331.116,329.041 ,327.868,326.262,325.099,323.505, 322.204,321.221,321.387,321.548,321.705 ,321.857,322.005,322.22,322.359,322.496 ,322.631,322.759,322.947,323.069,323.19 ,323.307,323.422,323.687,323.847, 324.103,324.299,324.542,324.667,324.841 ,325.014,325.17,325.242,325.316,325.463 ,325.533,325.599,325.658,325.753, 325.812,325.872,325.926,326.003,326.051 ,326.098,327.545)
ORBIT_NUMBER = 7697
ORBITAL_ECCENTRICITY = 0.568
ORBITAL_INCLINATION = 86.84
ORBITAL_SEMIMAJOR_AXIS = 8678.5
PERIAPSIS_ALTITUDE = 375.8
PERIAPSIS_ARGUMENT_ANGLE = 88.5
PERIAPSIS_TIME = 2010-01-03T05:34:10.000Z
SPACECRAFT_ORIENTATION = (0.0,1.0,0.0)
^MEX_ORIENTATION_DESC = "MEX_ORIENTATION_DESC.TXT"
SPACECRAFT_POINTING_MODE = INERT
^MEX_POINTING_DESC = "MEX_POINTING_DESC.TXT"
RIGHT_ASCENSION = 133.243
DECLINATION = -55.109
OFFSET_ANGLE = -1e+32
SPACECRAFT_SOLAR_DISTANCE = 2.43788e+08
TARGET_NAME = MARS
/* CAMERA DATA ELEMENTS */
DETECTOR_TEMPERATURE = 17.9627
FOCAL_PLANE_TEMPERATURE = 7.7677
INST_CMPRS_NAME = "DISCRETE COSINE TRANSFORMATION (DCT)"
INST_CMPRS_RATIO = 13.7308
INST_CMPRS_QUALITY = 0
INST_CMPRS_QUANTZ_TBL_ID = 0
INSTRUMENT_TEMPERATURE = 10.8262
LENS_TEMPERATURE = 8.1755
MACROPIXEL_SIZE = 2
MISSING_FRAMES = 10
PIXEL_SUBSAMPLING_FLAG = N
SIGNAL_CHAIN_ID = 2
/* RADIOMETRIC DATA ELEMENTS */
BANDWIDTH = 88.0
CENTER_FILTER_WAVELENGTH = 538.0
RADIANCE_OFFSET = 1.64161
RADIANCE_SCALING_FACTOR = 0.00769999
REFLECTANCE_SCALING_FACTOR = 0.000394017
MEX:REFLECTANCE_OFFSET = 0.0840031
/* IMAGE OBJECT DEFINITIONS */
OBJECT = IMAGE
  INTERCHANGE_FORMAT = BINARY
  LINES = 14757
  LINE_SAMPLES = 3817
  SAMPLE_TYPE = UNSIGNED_INTEGER
  SAMPLE_BITS = 8
  BANDS = 1
  BAND_STORAGE_TYPE = BAND_SEQUENTIAL
  MAXIMUM = 255
  MEAN = 122.564
  MINIMUM = 1
  STANDARD_DEVIATION = 54.1816
END_OBJECT = IMAGE
/* MAP OBJECT DEFINITIONS */
OBJECT = IMAGE_MAP_PROJECTION
  ^DATA_SET_MAP_PROJECTION_CATALOG= "DSMAP.CAT"
  A_AXIS_RADIUS = 3396.0
  B_AXIS_RADIUS = 3396.0
  C_AXIS_RADIUS = 3396.0
  CENTER_LATITUDE = 0.0
  CENTER_LONGITUDE = 329.0
  COORDINATE_SYSTEM_NAME = PLANETOGRAPHIC
  COORDINATE_SYSTEM_TYPE = "BODY-FIXED ROTATING"
  EASTERNMOST_LONGITUDE = 336.28
  FIRST_STANDARD_PARALLEL = "N/A"
  LINE_FIRST_PIXEL = 1
  LINE_LAST_PIXEL = 14757
  LINE_PROJECTION_OFFSET = 5956.0
  MAP_PROJECTION_ROTATION = 0.0
  MAP_PROJECTION_TYPE = SINUSOIDAL
  MAP_RESOLUTION = 296.356901933333
  MAP_SCALE = 0.2
  MAXIMUM_LATITUDE = 20.1791
  MINIMUM_LATITUDE = -29.625
  POSITIVE_LONGITUDE_DIRECTION = EAST
  REFERENCE_LATITUDE = "N/A"
  REFERENCE_LONGITUDE = "N/A"
  SAMPLE_FIRST_PIXEL = 1
  SAMPLE_LAST_PIXEL = 3817
  SAMPLE_PROJECTION_OFFSET = 2152.0
  SECOND_STANDARD_PARALLEL = "N/A"
  WESTERNMOST_LONGITUDE = 321.221
END_OBJECT = IMAGE_MAP_PROJECTION
/* The JPEG2000 image data file associated with this label. */
OBJECT = COMPRESSED_FILE
  FILE_NAME = "H7697_0000_GR3.JP2"
  RECORD_TYPE = UNDEFINED
  FILE_RECORDS = UNK
  ENCODING_TYPE = "JP2"
  INTERCHANGE_FORMAT = BINARY
  UNCOMPRESSED_FILE_NAME = "H7697_0000_GR3.IMG"
  REQUIRED_STORAGE_BYTES = "56350371"
  ^DESCRIPTION = "JP2INFO.TXT"
END_OBJECT = COMPRESSED_FILE
END
