PDS_VERSION_ID = PDS3
/* FILE DATA ELEMENTS */
RECORD_TYPE = STREAM
/* POINTERS TO DATA OBJECTS */
^COMPRESSED_FILE = "H7701_0000_GR3.JP2"
/* IDENTIFICATION DATA ELEMENTS */
DATA_SET_ID = "MEX-M-HRSC-5-REFDR-MAPPROJECTED-V3.0"
DATA_SET_NAME = "MARS EXPRESS HRSC MAP PROJECTED REFDR V3.0"
DETECTOR_ID = MEX_HRSC_GREEN
EVENT_TYPE = "MARS-CLOUD-VARIABLE-At"
INSTRUMENT_HOST_ID = MEX
INSTRUMENT_HOST_NAME = "MARS EXPRESS"
INSTRUMENT_ID = HRSC
INSTRUMENT_NAME = "HIGH RESOLUTION STEREO CAMERA"
MISSION_NAME = "MARS EXPRESS"
MISSION_PHASE_NAME = ME_Phase_19
PROCESSING_LEVEL_ID = 3
PRODUCT_CREATION_TIME = 2016-07-01T17:48:57.000Z
PRODUCT_ID = "H7701_0000_GR3.JP2"
RELEASE_ID = 0085
REVISION_ID = 0000
/* QUALITY DATA ELEMENTS */
DATA_QUALITY_ID = 1
DATA_QUALITY_DESC = "Data calculated based on original SPICE kernels"
/* TIME DATA ELEMENTS */
SPACECRAFT_CLOCK_START_COUNT = "1/0210677658.09054"
SPACECRAFT_CLOCK_STOP_COUNT = "1/0210678668.23085"
START_TIME = 2010-01-04T09:35:46.260Z
STOP_TIME = 2010-01-04T09:51:08.881Z
/* ORBITAL DATA ELEMENTS */
ASCENDING_NODE_LONGITUDE = 70.38
MAXIMUM_RESOLUTION = 162.8
FOOTPRINT_POINT_LATITUDE = (21.0584,20.9369,20.8163,20.6967, 20.5776,20.0149,19.1625,18.3169,17.4741 ,16.634,15.7956,14.9594,14.1255,13.2931 ,12.4626,11.6338,10.8065,9.98088, 9.15667,8.33404,7.51236,6.68796,5.86856 ,5.04998,4.23252,3.41452,2.59748,1.7812 ,0.150114,-0.672756,-2.30322,-3.11879, -3.93454,-4.75069,-5.5674,-6.4006, -8.02287,-8.8445,-10.0923,-10.9331, -11.7669,-12.5921,-13.8158,-14.6487, -15.4846,-16.3231,-17.1653,-18.0101, -18.8588,-19.7105,-20.9574,-20.8436, -20.6793,-20.5814,-20.4849,-20.3216, -20.1971,-20.0961,-19.9954,-19.8571, -19.7561,-18.4712,-17.6387,-16.8086, -15.977,-15.1548,-14.3341,-13.1047, -12.2871,-11.4721,-10.6589,-9.43384, -8.22976,-6.60113,-4.58552,-2.57256, -0.962619,0.244907,1.46252,2.67395, 4.2919,5.91143,7.12694,8.35204,9.16666, 9.98265,10.8003,11.6197,12.4407,13.2638 ,14.0887,14.9156,15.7446,16.5764, 17.4109,18.2475,19.0866,19.9266,20.7747 ,21.0584)
FOOTPRINT_POINT_LONGITUDE = (284.221,285.402,286.575,287.74,288.903 ,290.388,290.387,290.388,290.389, 290.391,290.393,290.396,290.4,290.404, 290.41,290.415,290.422,290.43,290.439, 290.448,290.459,290.471,290.484,290.499 ,290.515,290.53,290.546,290.565,290.606 ,290.63,290.683,290.712,290.743,290.775 ,290.809,290.878,290.927,290.973, 291.062,291.132,291.184,291.236,291.302 ,291.366,291.434,291.506,291.582, 291.662,291.748,291.837,291.339,290.181 ,288.53,287.528,286.531,284.921,283.688 ,282.704,281.723,280.374,279.391,279.27 ,279.381,279.49,279.599,279.702,279.803 ,279.954,280.052,280.148,280.242, 280.381,280.499,280.692,280.902,281.102 ,281.254,281.368,281.472,281.575, 281.709,281.841,281.939,282.03,282.09, 282.149,282.206,282.262,282.317,282.37, 282.421,282.471,282.52,282.566,282.611, 282.654,282.696,282.737,282.775, 284.221)
ORBIT_NUMBER = 7701
ORBITAL_ECCENTRICITY = 0.568
ORBITAL_INCLINATION = 86.83
ORBITAL_SEMIMAJOR_AXIS = 8679.97
PERIAPSIS_ALTITUDE = 375.91
PERIAPSIS_ARGUMENT_ANGLE = 87.82
PERIAPSIS_TIME = 2010-01-04T09:09:15.000Z
SPACECRAFT_ORIENTATION = (0.0,1.0,0.0)
^MEX_ORIENTATION_DESC = "MEX_ORIENTATION_DESC.TXT"
SPACECRAFT_POINTING_MODE = INERT
^MEX_POINTING_DESC = "MEX_POINTING_DESC.TXT"
RIGHT_ASCENSION = 133.553
DECLINATION = -55.768
OFFSET_ANGLE = -1e+32
SPACECRAFT_SOLAR_DISTANCE = 2.43927e+08
TARGET_NAME = MARS
/* CAMERA DATA ELEMENTS */
DETECTOR_TEMPERATURE = 17.9627
FOCAL_PLANE_TEMPERATURE = 7.5638
INST_CMPRS_NAME = "DISCRETE COSINE TRANSFORMATION (DCT)"
INST_CMPRS_RATIO = 13.6112
INST_CMPRS_QUALITY = 0
INST_CMPRS_QUANTZ_TBL_ID = 0
INSTRUMENT_TEMPERATURE = 11.0301
LENS_TEMPERATURE = 8.1755
MACROPIXEL_SIZE = 2
MISSING_FRAMES = 6
PIXEL_SUBSAMPLING_FLAG = N
SIGNAL_CHAIN_ID = 2
/* RADIOMETRIC DATA ELEMENTS */
BANDWIDTH = 88.0
CENTER_FILTER_WAVELENGTH = 538.0
RADIANCE_OFFSET = 1.65485
RADIANCE_SCALING_FACTOR = 0.00917012
REFLECTANCE_SCALING_FACTOR = 0.000469777
MEX:REFLECTANCE_OFFSET = 0.0847766
/* IMAGE OBJECT DEFINITIONS */
OBJECT = IMAGE
  INTERCHANGE_FORMAT = BINARY
  LINES = 25010
  LINE_SAMPLES = 6861
  SAMPLE_TYPE = UNSIGNED_INTEGER
  SAMPLE_BITS = 8
  BANDS = 1
  BAND_STORAGE_TYPE = BAND_SEQUENTIAL
  MAXIMUM = 255
  MEAN = 146.671
  MINIMUM = 1
  STANDARD_DEVIATION = 41.5555
END_OBJECT = IMAGE
/* MAP OBJECT DEFINITIONS */
OBJECT = IMAGE_MAP_PROJECTION
  ^DATA_SET_MAP_PROJECTION_CATALOG= "DSMAP.CAT"
  A_AXIS_RADIUS = 3396.0
  B_AXIS_RADIUS = 3396.0
  C_AXIS_RADIUS = 3396.0
  CENTER_LATITUDE = 0.0
  CENTER_LONGITUDE = 286.0
  COORDINATE_SYSTEM_NAME = PLANETOGRAPHIC
  COORDINATE_SYSTEM_TYPE = "BODY-FIXED ROTATING"
  EASTERNMOST_LONGITUDE = 291.837
  FIRST_STANDARD_PARALLEL = "N/A"
  LINE_FIRST_PIXEL = 1
  LINE_LAST_PIXEL = 25010
  LINE_PROJECTION_OFFSET = 12528.0
  MAP_PROJECTION_ROTATION = 0.0
  MAP_PROJECTION_TYPE = SINUSOIDAL
  MAP_RESOLUTION = 592.713803866667
  MAP_SCALE = 0.1
  MAXIMUM_LATITUDE = 21.0584
  MINIMUM_LATITUDE = -20.9574
  POSITIVE_LONGITUDE_DIRECTION = EAST
  REFERENCE_LATITUDE = "N/A"
  REFERENCE_LONGITUDE = "N/A"
  SAMPLE_FIRST_PIXEL = 1
  SAMPLE_LAST_PIXEL = 6861
  SAMPLE_PROJECTION_OFFSET = 3984.0
  SECOND_STANDARD_PARALLEL = "N/A"
  WESTERNMOST_LONGITUDE = 279.27
END_OBJECT = IMAGE_MAP_PROJECTION
/* The JPEG2000 image data file associated with this label. */
OBJECT = COMPRESSED_FILE
  FILE_NAME = "H7701_0000_GR3.JP2"
  RECORD_TYPE = UNDEFINED
  FILE_RECORDS = UNK
  ENCODING_TYPE = "JP2"
  INTERCHANGE_FORMAT = BINARY
  UNCOMPRESSED_FILE_NAME = "H7701_0000_GR3.IMG"
  REQUIRED_STORAGE_BYTES = "171627915"
  ^DESCRIPTION = "JP2INFO.TXT"
END_OBJECT = COMPRESSED_FILE
END
