PDS_VERSION_ID = PDS3
/* FILE DATA ELEMENTS */
RECORD_TYPE = STREAM
/* POINTERS TO DATA OBJECTS */
^COMPRESSED_FILE = "H7728_0000_BL3.JP2"
/* IDENTIFICATION DATA ELEMENTS */
DATA_SET_ID = "MEX-M-HRSC-5-REFDR-MAPPROJECTED-V3.0"
DATA_SET_NAME = "MARS EXPRESS HRSC MAP PROJECTED REFDR V3.0"
DETECTOR_ID = MEX_HRSC_BLUE
EVENT_TYPE = "MARS-REGIONAL-MAPPING-Gl-Pf-At"
INSTRUMENT_HOST_ID = MEX
INSTRUMENT_HOST_NAME = "MARS EXPRESS"
INSTRUMENT_ID = HRSC
INSTRUMENT_NAME = "HIGH RESOLUTION STEREO CAMERA"
MISSION_NAME = "MARS EXPRESS"
MISSION_PHASE_NAME = ME_Phase_19
PROCESSING_LEVEL_ID = 3
PRODUCT_CREATION_TIME = 2016-07-01T17:48:57.000Z
PRODUCT_ID = "H7728_0000_BL3.JP2"
RELEASE_ID = 0085
REVISION_ID = 0000
/* QUALITY DATA ELEMENTS */
DATA_QUALITY_ID = 1
DATA_QUALITY_DESC = "Data calculated based on original SPICE kernels"
/* TIME DATA ELEMENTS */
SPACECRAFT_CLOCK_START_COUNT = "1/0211346730.09052"
SPACECRAFT_CLOCK_STOP_COUNT = "1/0211346968.12813"
START_TIME = 2010-01-12T03:26:02.240Z
STOP_TIME = 2010-01-12T03:28:32.801Z
/* ORBITAL DATA ELEMENTS */
ASCENDING_NODE_LONGITUDE = 69.85
MAXIMUM_RESOLUTION = 146
FOOTPRINT_POINT_LATITUDE = (76.9372,76.9886,77.0637,77.1259, 77.1715,77.2211,77.0337,76.8461,76.4707 ,76.1826,75.8939,75.7013,75.5086, 75.3158,75.1227,74.9252,74.6289,74.4313 ,74.1347,73.9368,73.7351,73.5326, 73.2288,73.0261,72.8233,72.6174,72.41, 72.2025,71.9949,71.6835,71.4716,71.153, 70.9405,70.7279,70.5127,70.2955,69.9694 ,69.752,69.532,69.3098,69.0875,68.8653, 68.6428,68.4202,68.1976,67.9749,67.752, 67.5291,67.3062,67.083,66.7377,66.7091, 66.6638,66.628,66.5861,66.5256,66.8478, 67.0694,67.4016,67.6231,67.8445,68.0653 ,68.2863,68.507,68.8381,69.0585,69.389, 69.6047,69.8202,70.0357,70.3584,70.5692 ,70.7796,70.9899,71.2,71.5122,71.7176, 71.9228,72.1278,72.3327,72.536,72.7361, 73.0361,73.2358,73.4354,73.6342,73.8291 ,74.0238,74.2184,74.4127,74.704,74.8959 ,75.1799,75.369,75.6523,75.8408,76.1228 ,76.3983,76.7647,76.9372)
FOOTPRINT_POINT_LONGITUDE = (73.5397,74.384,75.7223,76.9491,77.9387 ,79.1293,79.2942,79.4543,79.7606, 79.9841,80.1982,80.3361,80.4705,80.601, 80.7286,80.8554,81.0392,81.1577,81.3294 ,81.4409,81.5514,81.6592,81.816,81.9174 ,82.0165,82.1146,82.2111,82.3049,82.397 ,82.5304,82.6189,82.7477,82.8312, 82.9128,82.9933,83.0729,83.1888,83.2639 ,83.3383,83.4116,83.4835,83.5534, 83.6222,83.6897,83.7554,83.8199,83.8833 ,83.9451,84.0054,84.065,83.8406,83.066, 82.0232,81.2993,80.532,79.5421,79.2144, 79.1338,79.0097,78.9247,78.8378,78.7483 ,78.6571,78.5635,78.4193,78.3201,78.167 ,78.0637,77.9581,77.8501,77.6826, 77.5699,77.4546,77.3363,77.215,77.029, 76.9029,76.7737,76.641,76.5051,76.3666, 76.2266,76.0098,75.8603,75.7074,75.551, 75.3931,75.2312,75.0648,74.894,74.6295, 74.4483,74.1713,73.9803,73.6837,73.4786 ,73.1608,72.8366,72.3811,73.5397)
ORBIT_NUMBER = 7728
ORBITAL_ECCENTRICITY = 0.568
ORBITAL_INCLINATION = 86.84
ORBITAL_SEMIMAJOR_AXIS = 8679.82
PERIAPSIS_ALTITUDE = 374.82
PERIAPSIS_ARGUMENT_ANGLE = 83.12
PERIAPSIS_TIME = 2010-01-12T03:20:57.000Z
SPACECRAFT_ORIENTATION = (0.0,1.0,0.0)
^MEX_ORIENTATION_DESC = "MEX_ORIENTATION_DESC.TXT"
SPACECRAFT_POINTING_MODE = INERT
^MEX_POINTING_DESC = "MEX_POINTING_DESC.TXT"
RIGHT_ASCENSION = 136.395
DECLINATION = -60.28
OFFSET_ANGLE = -1e+32
SPACECRAFT_SOLAR_DISTANCE = 2.44821e+08
TARGET_NAME = MARS
/* CAMERA DATA ELEMENTS */
DETECTOR_TEMPERATURE = 17.9627
FOCAL_PLANE_TEMPERATURE = 7.3599
INST_CMPRS_NAME = "DISCRETE COSINE TRANSFORMATION (DCT)"
INST_CMPRS_RATIO = 24.9526
INST_CMPRS_QUALITY = 0
INST_CMPRS_QUANTZ_TBL_ID = 0
INSTRUMENT_TEMPERATURE = 11.8457
LENS_TEMPERATURE = 7.7677
MACROPIXEL_SIZE = 8
MISSING_FRAMES = 0
PIXEL_SUBSAMPLING_FLAG = N
SIGNAL_CHAIN_ID = 2
/* RADIOMETRIC DATA ELEMENTS */
BANDWIDTH = 76.0
CENTER_FILTER_WAVELENGTH = 444.0
RADIANCE_OFFSET = 1.00873
RADIANCE_SCALING_FACTOR = 0.00482414
REFLECTANCE_SCALING_FACTOR = 0.00029708
MEX:REFLECTANCE_OFFSET = 0.0621195
/* IMAGE OBJECT DEFINITIONS */
OBJECT = IMAGE
  INTERCHANGE_FORMAT = BINARY
  LINES = 6310
  LINE_SAMPLES = 1983
  SAMPLE_TYPE = UNSIGNED_INTEGER
  SAMPLE_BITS = 8
  BANDS = 1
  BAND_STORAGE_TYPE = BAND_SEQUENTIAL
  MAXIMUM = 255
  MEAN = 170.264
  MINIMUM = 1
  STANDARD_DEVIATION = 40.6396
END_OBJECT = IMAGE
/* MAP OBJECT DEFINITIONS */
OBJECT = IMAGE_MAP_PROJECTION
  ^DATA_SET_MAP_PROJECTION_CATALOG= "DSMAP.CAT"
  A_AXIS_RADIUS = 3396.0
  B_AXIS_RADIUS = 3396.0
  C_AXIS_RADIUS = 3396.0
  CENTER_LATITUDE = 0.0
  CENTER_LONGITUDE = 80.0
  COORDINATE_SYSTEM_NAME = PLANETOGRAPHIC
  COORDINATE_SYSTEM_TYPE = "BODY-FIXED ROTATING"
  EASTERNMOST_LONGITUDE = 84.065
  FIRST_STANDARD_PARALLEL = "N/A"
  LINE_FIRST_PIXEL = 1
  LINE_LAST_PIXEL = 6310
  LINE_PROJECTION_OFFSET = 45756.6875
  MAP_PROJECTION_ROTATION = 0.0
  MAP_PROJECTION_TYPE = SINUSOIDAL
  MAP_RESOLUTION = 592.713803866667
  MAP_SCALE = 0.1
  MAXIMUM_LATITUDE = 77.22110000000001
  MINIMUM_LATITUDE = 66.5256
  POSITIVE_LONGITUDE_DIRECTION = EAST
  REFERENCE_LATITUDE = "N/A"
  REFERENCE_LONGITUDE = "N/A"
  SAMPLE_FIRST_PIXEL = 1
  SAMPLE_LAST_PIXEL = 1983
  SAMPLE_PROJECTION_OFFSET = 1016.3125
  SECOND_STANDARD_PARALLEL = "N/A"
  WESTERNMOST_LONGITUDE = 72.3811
END_OBJECT = IMAGE_MAP_PROJECTION
/* The JPEG2000 image data file associated with this label. */
OBJECT = COMPRESSED_FILE
  FILE_NAME = "H7728_0000_BL3.JP2"
  RECORD_TYPE = UNDEFINED
  FILE_RECORDS = UNK
  ENCODING_TYPE = "JP2"
  INTERCHANGE_FORMAT = BINARY
  UNCOMPRESSED_FILE_NAME = "H7728_0000_BL3.IMG"
  REQUIRED_STORAGE_BYTES = "12532560"
  ^DESCRIPTION = "JP2INFO.TXT"
END_OBJECT = COMPRESSED_FILE
END
