PDS_VERSION_ID = PDS3
/* FILE DATA ELEMENTS */
RECORD_TYPE = STREAM
/* POINTERS TO DATA OBJECTS */
^COMPRESSED_FILE = "H7728_0000_P13.JP2"
/* IDENTIFICATION DATA ELEMENTS */
DATA_SET_ID = "MEX-M-HRSC-5-REFDR-MAPPROJECTED-V3.0"
DATA_SET_NAME = "MARS EXPRESS HRSC MAP PROJECTED REFDR V3.0"
DETECTOR_ID = MEX_HRSC_P1
EVENT_TYPE = "MARS-REGIONAL-MAPPING-Gl-Pf-At"
INSTRUMENT_HOST_ID = MEX
INSTRUMENT_HOST_NAME = "MARS EXPRESS"
INSTRUMENT_ID = HRSC
INSTRUMENT_NAME = "HIGH RESOLUTION STEREO CAMERA"
MISSION_NAME = "MARS EXPRESS"
MISSION_PHASE_NAME = ME_Phase_19
PROCESSING_LEVEL_ID = 3
PRODUCT_CREATION_TIME = 2016-07-01T17:48:57.000Z
PRODUCT_ID = "H7728_0000_P13.JP2"
RELEASE_ID = 0085
REVISION_ID = 0000
/* QUALITY DATA ELEMENTS */
DATA_QUALITY_ID = 1
DATA_QUALITY_DESC = "Data calculated based on original SPICE kernels"
/* TIME DATA ELEMENTS */
SPACECRAFT_CLOCK_START_COUNT = "1/0211346730.09052"
SPACECRAFT_CLOCK_STOP_COUNT = "1/0211346968.12813"
START_TIME = 2010-01-12T03:26:35.215Z
STOP_TIME = 2010-01-12T03:29:12.138Z
/* ORBITAL DATA ELEMENTS */
ASCENDING_NODE_LONGITUDE = 69.85
MAXIMUM_RESOLUTION = 78.8
FOOTPRINT_POINT_LATITUDE = (76.7922,76.8551,76.956,77.0209,77.0685 ,77.1122,76.8509,76.6573,76.4638, 76.2701,76.0728,75.8748,75.6767,75.4788 ,75.1819,74.981,74.6775,74.4752,74.2729 ,73.9673,73.7607,73.5541,73.3474, 73.1407,72.8256,72.6148,72.2986,72.0866 ,71.8716,71.6564,71.4414,71.2262, 71.0113,70.7964,70.5814,70.3665,70.1516 ,69.9367,69.6145,69.3997,69.185,68.9702 ,68.7554,68.4337,68.219,68.0045,67.6827 ,67.4681,67.2537,67.0393,66.8249,66.718 ,66.6899,66.6674,66.6319,66.5903, 66.5338,66.8421,67.0551,67.3744,67.5873 ,67.9066,68.1194,68.3323,68.5451,68.758 ,68.9707,69.1835,69.3962,69.6091, 69.9281,70.1406,70.3534,70.6724,70.9913 ,71.2038,71.4164,71.6289,71.8413, 72.0497,72.2576,72.5696,72.7775,72.9813 ,73.1847,73.3881,73.5913,73.7938, 74.0922,74.3902,74.5887,74.8847,75.0787 ,75.2726,75.4665,75.6602,75.8539, 76.0437,76.4216,76.7922)
FOOTPRINT_POINT_LONGITUDE = (72.7763,73.7861,75.5722,76.861,77.8997 ,78.9464,79.7684,79.921,80.0692,80.2129 ,80.3549,80.4935,80.6279,80.7588,80.948 ,81.0719,81.2523,81.3683,81.4814, 81.6464,81.7543,81.8594,81.9616,82.061, 82.2083,82.3039,82.4424,82.5324,82.6216 ,82.7085,82.7933,82.8759,82.9567, 83.0355,83.1125,83.1876,83.2609,83.3327 ,83.4373,83.5049,83.5712,83.6359, 83.6992,83.7921,83.8521,83.911,83.997, 84.0527,84.1074,84.1611,84.2138,83.1603 ,82.4628,81.952,81.2103,80.4241,79.4551 ,79.142,79.064,78.9442,78.8621,78.7353, 78.6482,78.559,78.468,78.3747,78.2793, 78.1815,78.0815,77.9787,77.8204,77.7119 ,77.5996,77.4267,77.2473,77.1239, 76.9967,76.8666,76.7334,76.5988,76.4612 ,76.2476,76.1004,75.9519,75.7998, 75.6437,75.4835,75.3192,75.0683,74.8073 ,74.6276,74.3486,74.1594,73.9649, 73.7647,73.5584,73.3459,73.1314,72.6848 ,72.7763)
ORBIT_NUMBER = 7728
ORBITAL_ECCENTRICITY = 0.568
ORBITAL_INCLINATION = 86.84
ORBITAL_SEMIMAJOR_AXIS = 8679.82
PERIAPSIS_ALTITUDE = 374.82
PERIAPSIS_ARGUMENT_ANGLE = 83.12
PERIAPSIS_TIME = 2010-01-12T03:20:57.000Z
SPACECRAFT_ORIENTATION = (0.0,1.0,0.0)
^MEX_ORIENTATION_DESC = "MEX_ORIENTATION_DESC.TXT"
SPACECRAFT_POINTING_MODE = INERT
^MEX_POINTING_DESC = "MEX_POINTING_DESC.TXT"
RIGHT_ASCENSION = 136.395
DECLINATION = -60.28
OFFSET_ANGLE = -1e+32
SPACECRAFT_SOLAR_DISTANCE = 2.44821e+08
TARGET_NAME = MARS
/* CAMERA DATA ELEMENTS */
DETECTOR_TEMPERATURE = 17.1471
FOCAL_PLANE_TEMPERATURE = 7.3599
INST_CMPRS_NAME = "DISCRETE COSINE TRANSFORMATION (DCT)"
INST_CMPRS_RATIO = 10.2892
INST_CMPRS_QUALITY = 0
INST_CMPRS_QUANTZ_TBL_ID = 0
INSTRUMENT_TEMPERATURE = 11.8457
LENS_TEMPERATURE = 7.7677
MACROPIXEL_SIZE = 4
MISSING_FRAMES = 0
PIXEL_SUBSAMPLING_FLAG = N
SIGNAL_CHAIN_ID = 3
/* RADIOMETRIC DATA ELEMENTS */
BANDWIDTH = 174.0
CENTER_FILTER_WAVELENGTH = 675.0
RADIANCE_OFFSET = 4.57802
RADIANCE_SCALING_FACTOR = 0.0207039
REFLECTANCE_SCALING_FACTOR = 0.000667473
MEX:REFLECTANCE_OFFSET = 0.147591
/* IMAGE OBJECT DEFINITIONS */
OBJECT = IMAGE
  INTERCHANGE_FORMAT = BINARY
  LINES = 12619
  LINE_SAMPLES = 3965
  SAMPLE_TYPE = UNSIGNED_INTEGER
  SAMPLE_BITS = 8
  BANDS = 1
  BAND_STORAGE_TYPE = BAND_SEQUENTIAL
  MAXIMUM = 255
  MEAN = 206.153
  MINIMUM = 1
  STANDARD_DEVIATION = 41.7533
END_OBJECT = IMAGE
/* MAP OBJECT DEFINITIONS */
OBJECT = IMAGE_MAP_PROJECTION
  ^DATA_SET_MAP_PROJECTION_CATALOG= "DSMAP.CAT"
  A_AXIS_RADIUS = 3396.0
  B_AXIS_RADIUS = 3396.0
  C_AXIS_RADIUS = 3396.0
  CENTER_LATITUDE = 0.0
  CENTER_LONGITUDE = 80.0
  COORDINATE_SYSTEM_NAME = PLANETOGRAPHIC
  COORDINATE_SYSTEM_TYPE = "BODY-FIXED ROTATING"
  EASTERNMOST_LONGITUDE = 84.21380000000001
  FIRST_STANDARD_PARALLEL = "N/A"
  LINE_FIRST_PIXEL = 1
  LINE_LAST_PIXEL = 12619
  LINE_PROJECTION_OFFSET = 91513.875
  MAP_PROJECTION_ROTATION = 0.0
  MAP_PROJECTION_TYPE = SINUSOIDAL
  MAP_RESOLUTION = 1185.42760773333
  MAP_SCALE = 0.05
  MAXIMUM_LATITUDE = 77.1122
  MINIMUM_LATITUDE = 66.5338
  POSITIVE_LONGITUDE_DIRECTION = EAST
  REFERENCE_LATITUDE = "N/A"
  REFERENCE_LONGITUDE = "N/A"
  SAMPLE_FIRST_PIXEL = 1
  SAMPLE_LAST_PIXEL = 3965
  SAMPLE_PROJECTION_OFFSET = 2033.125
  SECOND_STANDARD_PARALLEL = "N/A"
  WESTERNMOST_LONGITUDE = 72.6848
END_OBJECT = IMAGE_MAP_PROJECTION
/* The JPEG2000 image data file associated with this label. */
OBJECT = COMPRESSED_FILE
  FILE_NAME = "H7728_0000_P13.JP2"
  RECORD_TYPE = UNDEFINED
  FILE_RECORDS = UNK
  ENCODING_TYPE = "JP2"
  INTERCHANGE_FORMAT = BINARY
  UNCOMPRESSED_FILE_NAME = "H7728_0000_P13.IMG"
  REQUIRED_STORAGE_BYTES = "50058125"
  ^DESCRIPTION = "JP2INFO.TXT"
END_OBJECT = COMPRESSED_FILE
END
