PDS_VERSION_ID = PDS3
/* FILE DATA ELEMENTS */
RECORD_TYPE = STREAM
/* POINTERS TO DATA OBJECTS */
^COMPRESSED_FILE = "H7736_0009_BL3.JP2"
/* IDENTIFICATION DATA ELEMENTS */
DATA_SET_ID = "MEX-M-HRSC-5-REFDR-MAPPROJECTED-V3.0"
DATA_SET_NAME = "MARS EXPRESS HRSC MAP PROJECTED REFDR V3.0"
DETECTOR_ID = MEX_HRSC_BLUE
EVENT_TYPE = "MARS-CLOUD-VARIABLE-At"
INSTRUMENT_HOST_ID = MEX
INSTRUMENT_HOST_NAME = "MARS EXPRESS"
INSTRUMENT_ID = HRSC
INSTRUMENT_NAME = "HIGH RESOLUTION STEREO CAMERA"
MISSION_NAME = "MARS EXPRESS"
MISSION_PHASE_NAME = ME_Phase_19
PROCESSING_LEVEL_ID = 3
PRODUCT_CREATION_TIME = 2016-07-01T17:48:57.000Z
PRODUCT_ID = "H7736_0009_BL3.JP2"
RELEASE_ID = 0085
REVISION_ID = 0000
/* QUALITY DATA ELEMENTS */
DATA_QUALITY_ID = 1
DATA_QUALITY_DESC = "Data calculated based on original SPICE kernels"
/* TIME DATA ELEMENTS */
SPACECRAFT_CLOCK_START_COUNT = "1/0211546777.07287"
SPACECRAFT_CLOCK_STOP_COUNT = "1/0211547869.21831"
START_TIME = 2010-01-14T10:59:39.654Z
STOP_TIME = 2010-01-14T11:14:52.130Z
/* ORBITAL DATA ELEMENTS */
ASCENDING_NODE_LONGITUDE = 69.7
MAXIMUM_RESOLUTION = 173.2
FOOTPRINT_POINT_LATITUDE = (21.0393,20.9004,20.7597,20.6171, 20.4723,20.2464,19.4187,18.5945,17.7741 ,16.9495,16.1291,15.3116,14.0842, 13.2602,12.4447,11.6305,10.4106,9.1914, 8.37905,7.5669,6.75483,5.9403,5.12529, 4.31062,2.69124,1.86446,1.04797, -0.179534,-0.997898,-2.2292,-3.05118, -3.87509,-4.70056,-5.94207,-6.7736, -7.6048,-8.43827,-9.69618,-10.9612, -11.8052,-13.0823,-13.9352,-14.7942, -15.6607,-16.5216,-17.3956,-18.2725, -19.5976,-20.4884,-21.3077,-21.1772, -20.9816,-20.7872,-20.6318,-20.4803, -20.3299,-20.1854,-19.9442,-19.7756, -19.2332,-18.3836,-17.5166,-16.6646, -15.815,-14.9668,-14.1256,-13.2874, -12.4541,-11.6283,-10.7973,-9.97232, -9.15018,-7.92008,-7.10276,-6.28983, -5.06827,-4.25695,-3.4477,-2.63927, -1.83235,-0.22114,1.38754,2.99325, 4.19767,5.40121,7.00606,8.61204,10.2203 ,11.8309,13.8493,14.6584,15.4686, 16.2809,17.0945,17.9132,18.7256,19.5471 ,20.3631,21.1944,21.0393)
FOOTPRINT_POINT_LONGITUDE = (353.208,354.476,355.733,356.981, 358.223,359.942,359.939,359.938,359.94, 359.937,359.937,359.939,359.941,359.933 ,359.935,359.939,359.946,359.955, 359.962,359.97,359.978,360.021,360.032, 360.042,360.04,360.082,360.099,360.128, 360.148,360.182,360.207,360.234,360.263 ,360.31,360.344,360.379,360.417,360.48, 360.549,360.596,360.676,360.732,360.792 ,360.858,360.922,360.985,361.061, 361.183,361.271,360.671,359.704,358.2, 356.715,355.512,354.314,353.121,351.931 ,349.951,348.496,347.587,347.717, 347.856,347.986,348.114,348.248,348.37, 348.49,348.606,348.717,348.831,348.941, 349.048,349.205,349.308,349.406,349.555 ,349.651,349.745,349.837,349.927, 350.102,350.272,350.432,350.553,350.668 ,350.815,350.956,351.089,351.218, 351.369,351.427,351.483,351.537,351.589 ,351.636,351.689,351.734,351.783, 351.818,353.208)
ORBIT_NUMBER = 7736
ORBITAL_ECCENTRICITY = 0.568
ORBITAL_INCLINATION = 86.83
ORBITAL_SEMIMAJOR_AXIS = 8680.48
PERIAPSIS_ALTITUDE = 375.94
PERIAPSIS_ARGUMENT_ANGLE = 81.71
PERIAPSIS_TIME = 2010-01-14T10:31:01.000Z
SPACECRAFT_ORIENTATION = (0.0,1.0,0.0)
^MEX_ORIENTATION_DESC = "MEX_ORIENTATION_DESC.TXT"
SPACECRAFT_POINTING_MODE = INERT
^MEX_POINTING_DESC = "MEX_POINTING_DESC.TXT"
RIGHT_ASCENSION = 137.387
DECLINATION = -61.577
OFFSET_ANGLE = -1e+32
SPACECRAFT_SOLAR_DISTANCE = 2.45071e+08
TARGET_NAME = MARS
/* CAMERA DATA ELEMENTS */
DETECTOR_TEMPERATURE = 21.0212
FOCAL_PLANE_TEMPERATURE = 8.7872
INST_CMPRS_NAME = "DISCRETE COSINE TRANSFORMATION (DCT)"
INST_CMPRS_RATIO = 10.8708
INST_CMPRS_QUALITY = 0
INST_CMPRS_QUANTZ_TBL_ID = 0
INSTRUMENT_TEMPERATURE = 15.5159
LENS_TEMPERATURE = 9.195
MACROPIXEL_SIZE = 2
MISSING_FRAMES = 0
PIXEL_SUBSAMPLING_FLAG = N
SIGNAL_CHAIN_ID = 2
/* RADIOMETRIC DATA ELEMENTS */
BANDWIDTH = 76.0
CENTER_FILTER_WAVELENGTH = 444.0
RADIANCE_OFFSET = 0.917702
RADIANCE_SCALING_FACTOR = 0.00222785
REFLECTANCE_SCALING_FACTOR = 0.000137478
MEX:REFLECTANCE_OFFSET = 0.0566303
/* IMAGE OBJECT DEFINITIONS */
OBJECT = IMAGE
  INTERCHANGE_FORMAT = BINARY
  LINES = 12619
  LINE_SAMPLES = 3854
  SAMPLE_TYPE = UNSIGNED_INTEGER
  SAMPLE_BITS = 8
  BANDS = 1
  BAND_STORAGE_TYPE = BAND_SEQUENTIAL
  MAXIMUM = 255
  MEAN = 122.239
  MINIMUM = 1
  STANDARD_DEVIATION = 27.8373
END_OBJECT = IMAGE
/* MAP OBJECT DEFINITIONS */
OBJECT = IMAGE_MAP_PROJECTION
  ^DATA_SET_MAP_PROJECTION_CATALOG= "DSMAP.CAT"
  A_AXIS_RADIUS = 3396.0
  B_AXIS_RADIUS = 3396.0
  C_AXIS_RADIUS = 3396.0
  CENTER_LATITUDE = 0.0
  CENTER_LONGITUDE = 355.0
  COORDINATE_SYSTEM_NAME = PLANETOGRAPHIC
  COORDINATE_SYSTEM_TYPE = "BODY-FIXED ROTATING"
  EASTERNMOST_LONGITUDE = 1.271
  FIRST_STANDARD_PARALLEL = "N/A"
  LINE_FIRST_PIXEL = 1
  LINE_LAST_PIXEL = 12619
  LINE_PROJECTION_OFFSET = 6278.0
  MAP_PROJECTION_ROTATION = 0.0
  MAP_PROJECTION_TYPE = SINUSOIDAL
  MAP_RESOLUTION = 296.356901933333
  MAP_SCALE = 0.2
  MAXIMUM_LATITUDE = 21.1944
  MINIMUM_LATITUDE = -21.3077
  POSITIVE_LONGITUDE_DIRECTION = EAST
  REFERENCE_LATITUDE = "N/A"
  REFERENCE_LONGITUDE = "N/A"
  SAMPLE_FIRST_PIXEL = 1
  SAMPLE_LAST_PIXEL = 3854
  SAMPLE_PROJECTION_OFFSET = 2092.0
  SECOND_STANDARD_PARALLEL = "N/A"
  WESTERNMOST_LONGITUDE = -12.413
END_OBJECT = IMAGE_MAP_PROJECTION
/* The JPEG2000 image data file associated with this label. */
OBJECT = COMPRESSED_FILE
  FILE_NAME = "H7736_0009_BL3.JP2"
  RECORD_TYPE = UNDEFINED
  FILE_RECORDS = UNK
  ENCODING_TYPE = "JP2"
  INTERCHANGE_FORMAT = BINARY
  UNCOMPRESSED_FILE_NAME = "H7736_0009_BL3.IMG"
  REQUIRED_STORAGE_BYTES = "48656750"
  ^DESCRIPTION = "JP2INFO.TXT"
END_OBJECT = COMPRESSED_FILE
END
