PDS_VERSION_ID = PDS3
/* FILE DATA ELEMENTS */
RECORD_TYPE = STREAM
/* POINTERS TO DATA OBJECTS */
^COMPRESSED_FILE = "H7768_0009_BL3.JP2"
/* IDENTIFICATION DATA ELEMENTS */
DATA_SET_ID = "MEX-M-HRSC-5-REFDR-MAPPROJECTED-V3.0"
DATA_SET_NAME = "MARS EXPRESS HRSC MAP PROJECTED REFDR V3.0"
DETECTOR_ID = MEX_HRSC_BLUE
EVENT_TYPE = "MARS-CLOUD-VARIABLE-At"
INSTRUMENT_HOST_ID = MEX
INSTRUMENT_HOST_NAME = "MARS EXPRESS"
INSTRUMENT_ID = HRSC
INSTRUMENT_NAME = "HIGH RESOLUTION STEREO CAMERA"
MISSION_NAME = "MARS EXPRESS"
MISSION_PHASE_NAME = ME_Phase_19
PROCESSING_LEVEL_ID = 3
PRODUCT_CREATION_TIME = 2016-07-01T17:48:57.000Z
PRODUCT_ID = "H7768_0009_BL3.JP2"
RELEASE_ID = 0085
REVISION_ID = 0000
/* QUALITY DATA ELEMENTS */
DATA_QUALITY_ID = 1
DATA_QUALITY_DESC = "Data calculated based on original SPICE kernels"
/* TIME DATA ELEMENTS */
SPACECRAFT_CLOCK_START_COUNT = "1/0212341365.07299"
SPACECRAFT_CLOCK_STOP_COUNT = "1/0212342500.13232"
START_TIME = 2010-01-23T15:42:47.626Z
STOP_TIME = 2010-01-23T15:58:22.870Z
/* ORBITAL DATA ELEMENTS */
ASCENDING_NODE_LONGITUDE = 69.08
MAXIMUM_RESOLUTION = 192.8
FOOTPRINT_POINT_LATITUDE = (21.8279,21.6677,21.5037,21.3358, 21.1637,20.987,20.1303,19.3101,18.4912, 17.6734,16.8564,15.6356,14.8184,14.0049 ,13.1922,12.38,11.5681,10.3514,9.54044, 8.32412,7.51307,6.70167,5.8898,5.07738, 4.26457,3.45102,2.63642,1.82105,1.00463 ,0.187269,-1.0392,-2.27343,-3.09796, -3.92617,-4.7579,-5.58937,-6.42322, -7.26002,-8.0968,-9.36015,-10.2048, -11.0631,-11.9119,-12.7715,-13.6342, -14.5018,-15.3757,-16.254,-17.1378, -18.027,-18.9231,-19.8251,-20.7334, -20.6242,-20.416,-20.2391,-19.991, -19.7368,-19.5587,-19.3453,-19.085, -18.9291,-18.779,-17.8317,-16.9613, -16.1029,-15.2495,-14.3982,-13.5544, -12.7156,-11.8763,-11.0455,-9.80051, -8.97973,-7.7447,-6.92154,-6.10518, -4.88434,-4.07439,-3.26421,-2.45606, -1.6506,-0.0420825,1.56182,3.16154, 4.75886,5.9557,7.55066,9.14551,10.3422, 11.939,13.538,14.74,16.3446,18.3594, 19.1669,19.9763,20.7864,22.0062, 21.8279)
FOOTPRINT_POINT_LONGITUDE = (365.371,366.776,368.168,369.549, 370.925,372.301,372.679,372.676,372.673 ,372.67,372.668,372.67,372.665,372.665, 372.666,372.667,372.669,372.675,372.681 ,372.689,372.697,372.706,372.716, 372.728,372.74,372.754,372.769,372.786, 372.804,372.823,372.852,372.89,372.917, 372.948,372.981,373.014,373.05,373.088, 373.127,373.191,373.237,373.292,373.341 ,373.399,373.459,373.523,373.591, 373.663,373.74,373.821,373.908,373.999, 374.096,373.203,371.863,370.687,368.95, 367.229,365.948,364.389,362.41,361.136, 360.007,359.38,359.524,359.66,359.793, 359.924,360.051,360.174,360.297,360.414 ,360.589,360.698,360.865,360.976, 361.081,361.236,361.335,361.435,361.532 ,361.626,361.811,361.989,362.159, 362.323,362.442,362.594,362.741,362.846 ,362.98,363.108,363.199,363.316,363.448 ,363.499,363.548,363.595,363.661, 365.371)
ORBIT_NUMBER = 7768
ORBITAL_ECCENTRICITY = 0.568
ORBITAL_INCLINATION = 86.83
ORBITAL_SEMIMAJOR_AXIS = 8683.93
PERIAPSIS_ALTITUDE = 375.38
PERIAPSIS_ARGUMENT_ANGLE = 76.15
PERIAPSIS_TIME = 2010-01-23T15:11:36.000Z
SPACECRAFT_ORIENTATION = (0.0,1.0,0.0)
^MEX_ORIENTATION_DESC = "MEX_ORIENTATION_DESC.TXT"
SPACECRAFT_POINTING_MODE = INERT
^MEX_POINTING_DESC = "MEX_POINTING_DESC.TXT"
RIGHT_ASCENSION = 142.668
DECLINATION = -66.729
OFFSET_ANGLE = -1e+32
SPACECRAFT_SOLAR_DISTANCE = 2.46003e+08
TARGET_NAME = MARS
/* CAMERA DATA ELEMENTS */
DETECTOR_TEMPERATURE = 21.0212
FOCAL_PLANE_TEMPERATURE = 8.5833
INST_CMPRS_NAME = "DISCRETE COSINE TRANSFORMATION (DCT)"
INST_CMPRS_RATIO = 11.4073
INST_CMPRS_QUALITY = 0
INST_CMPRS_QUANTZ_TBL_ID = 0
INSTRUMENT_TEMPERATURE = 15.5159
LENS_TEMPERATURE = 9.3989
MACROPIXEL_SIZE = 2
MISSING_FRAMES = 0
PIXEL_SUBSAMPLING_FLAG = N
SIGNAL_CHAIN_ID = 2
/* RADIOMETRIC DATA ELEMENTS */
BANDWIDTH = 76.0
CENTER_FILTER_WAVELENGTH = 444.0
RADIANCE_OFFSET = 0.862856
RADIANCE_SCALING_FACTOR = 0.00210686
REFLECTANCE_SCALING_FACTOR = 0.000131002
MEX:REFLECTANCE_OFFSET = 0.0536514
/* IMAGE OBJECT DEFINITIONS */
OBJECT = IMAGE
  INTERCHANGE_FORMAT = BINARY
  LINES = 12684
  LINE_SAMPLES = 4157
  SAMPLE_TYPE = UNSIGNED_INTEGER
  SAMPLE_BITS = 8
  BANDS = 1
  BAND_STORAGE_TYPE = BAND_SEQUENTIAL
  MAXIMUM = 255
  MEAN = 121.379
  MINIMUM = 1
  STANDARD_DEVIATION = 31.9808
END_OBJECT = IMAGE
/* MAP OBJECT DEFINITIONS */
OBJECT = IMAGE_MAP_PROJECTION
  ^DATA_SET_MAP_PROJECTION_CATALOG= "DSMAP.CAT"
  A_AXIS_RADIUS = 3396.0
  B_AXIS_RADIUS = 3396.0
  C_AXIS_RADIUS = 3396.0
  CENTER_LATITUDE = 0.0
  CENTER_LONGITUDE = 7.0
  COORDINATE_SYSTEM_NAME = PLANETOGRAPHIC
  COORDINATE_SYSTEM_TYPE = "BODY-FIXED ROTATING"
  EASTERNMOST_LONGITUDE = 14.096
  FIRST_STANDARD_PARALLEL = "N/A"
  LINE_FIRST_PIXEL = 1
  LINE_LAST_PIXEL = 12684
  LINE_PROJECTION_OFFSET = 6531.0
  MAP_PROJECTION_ROTATION = 0.0
  MAP_PROJECTION_TYPE = SINUSOIDAL
  MAP_RESOLUTION = 296.356901933333
  MAP_SCALE = 0.2
  MAXIMUM_LATITUDE = 22.0062
  MINIMUM_LATITUDE = -20.7334
  POSITIVE_LONGITUDE_DIRECTION = EAST
  REFERENCE_LATITUDE = "N/A"
  REFERENCE_LONGITUDE = "N/A"
  SAMPLE_FIRST_PIXEL = 1
  SAMPLE_LAST_PIXEL = 4157
  SAMPLE_PROJECTION_OFFSET = 2181.0
  SECOND_STANDARD_PARALLEL = "N/A"
  WESTERNMOST_LONGITUDE = -0.62
END_OBJECT = IMAGE_MAP_PROJECTION
/* The JPEG2000 image data file associated with this label. */
OBJECT = COMPRESSED_FILE
  FILE_NAME = "H7768_0009_BL3.JP2"
  RECORD_TYPE = UNDEFINED
  FILE_RECORDS = UNK
  ENCODING_TYPE = "JP2"
  INTERCHANGE_FORMAT = BINARY
  UNCOMPRESSED_FILE_NAME = "H7768_0009_BL3.IMG"
  REQUIRED_STORAGE_BYTES = "52752330"
  ^DESCRIPTION = "JP2INFO.TXT"
END_OBJECT = COMPRESSED_FILE
END
