PDS_VERSION_ID = PDS3
/* FILE DATA ELEMENTS */
RECORD_TYPE = STREAM
/* POINTERS TO DATA OBJECTS */
^COMPRESSED_FILE = "H7795_0009_GR3.JP2"
/* IDENTIFICATION DATA ELEMENTS */
DATA_SET_ID = "MEX-M-HRSC-5-REFDR-MAPPROJECTED-V3.0"
DATA_SET_NAME = "MARS EXPRESS HRSC MAP PROJECTED REFDR V3.0"
DETECTOR_ID = MEX_HRSC_GREEN
EVENT_TYPE = "MARS-CLOUD-VARIABLE-At"
INSTRUMENT_HOST_ID = MEX
INSTRUMENT_HOST_NAME = "MARS EXPRESS"
INSTRUMENT_ID = HRSC
INSTRUMENT_NAME = "HIGH RESOLUTION STEREO CAMERA"
MISSION_NAME = "MARS EXPRESS"
MISSION_PHASE_NAME = ME_Phase_20
PROCESSING_LEVEL_ID = 3
PRODUCT_CREATION_TIME = 2016-07-01T17:48:57.000Z
PRODUCT_ID = "H7795_0009_GR3.JP2"
RELEASE_ID = 0085
REVISION_ID = 0000
/* QUALITY DATA ELEMENTS */
DATA_QUALITY_ID = 1
DATA_QUALITY_DESC = "Data calculated based on original SPICE kernels"
/* TIME DATA ELEMENTS */
SPACECRAFT_CLOCK_START_COUNT = "1/0213011973.07290"
SPACECRAFT_CLOCK_STOP_COUNT = "1/0213013166.54708"
START_TIME = 2010-01-31T10:02:11.204Z
STOP_TIME = 2010-01-31T10:19:27.344Z
/* ORBITAL DATA ELEMENTS */
ASCENDING_NODE_LONGITUDE = 68.56
MAXIMUM_RESOLUTION = 253.2
FOOTPRINT_POINT_LATITUDE = (20.4006,20.2349,20.0705,19.9073,19.745 ,19.5838,19.4235,19.264,19.1051,18.8081 ,18.5909,17.3352,16.5369,15.3506,14.56, 13.7642,12.9742,12.1888,11.4054,10.2316 ,9.45205,8.2824,7.50374,6.72388,5.94842 ,4.78302,4.00578,3.23235,1.68655, 0.14142,-1.40389,-2.56689,-3.34037, -4.11453,-4.88897,-5.66415,-6.44065, -7.21847,-7.99664,-8.77594,-9.55779, -10.7301,-11.5119,-12.299,-13.0896, -14.2763,-15.0685,-15.8576,-16.6646, -17.867,-18.6707,-19.8864,-20.7, -20.5222,-20.2818,-20.0444,-19.8372, -19.5702,-19.2749,-19.0689,-18.745, -18.5069,-18.3584,-18.1251,-17.948, -17.6707,-16.5079,-15.7359,-14.966, -13.8165,-13.0505,-12.2866,-10.7628, -9.62432,-8.11035,-6.59833,-5.08786, -3.95567,-2.44795,-0.94031,0.194041, 1.70309,3.2138,4.72709,6.24353,7.76714, 9.68112,10.8327,12.3692,13.1403,13.9131 ,14.6877,15.4648,16.2506,17.4272, 18.2125,19.0002,19.7911,20.5847, 20.4006)
FOOTPRINT_POINT_LONGITUDE = (158.762,159.693,160.614,161.528, 162.435,163.334,164.228,165.117,166.002 ,167.657,168.868,169.333,169.315, 169.294,169.279,169.265,169.252,169.24, 169.229,169.213,169.206,169.197,169.189 ,169.185,169.181,169.178,169.178, 169.179,169.185,169.197,169.215,169.232 ,169.246,169.262,169.28,169.299,169.321 ,169.346,169.372,169.4,169.432,169.48, 169.514,169.555,169.6,169.67,169.718, 169.766,169.83,169.923,169.987,170.096, 170.173,168.96,167.58,166.219,165.041, 163.541,161.888,160.739,158.938,157.633 ,156.818,155.512,154.531,152.993, 153.209,153.349,153.486,153.685,153.817 ,153.946,154.197,154.377,154.609, 154.835,155.054,155.217,155.423,155.622 ,155.768,155.955,156.136,156.31,156.478 ,156.639,156.83,156.94,157.08,157.146, 157.211,157.274,157.335,157.395,157.479 ,157.533,157.584,157.633,157.679, 158.762)
ORBIT_NUMBER = 7795
ORBITAL_ECCENTRICITY = 0.568
ORBITAL_INCLINATION = 86.82
ORBITAL_SEMIMAJOR_AXIS = 8690.02
PERIAPSIS_ALTITUDE = 374.82
PERIAPSIS_ARGUMENT_ANGLE = 71.47
PERIAPSIS_TIME = 2010-01-31T09:23:28.000Z
SPACECRAFT_ORIENTATION = (0.0,1.0,0.0)
^MEX_ORIENTATION_DESC = "MEX_ORIENTATION_DESC.TXT"
SPACECRAFT_POINTING_MODE = INERT
^MEX_POINTING_DESC = "MEX_POINTING_DESC.TXT"
RIGHT_ASCENSION = 149.298
DECLINATION = -70.781
OFFSET_ANGLE = -1e+32
SPACECRAFT_SOLAR_DISTANCE = 2.46702e+08
TARGET_NAME = MARS
/* CAMERA DATA ELEMENTS */
DETECTOR_TEMPERATURE = 21.429
FOCAL_PLANE_TEMPERATURE = 8.7872
INST_CMPRS_NAME = "DISCRETE COSINE TRANSFORMATION (DCT)"
INST_CMPRS_RATIO = 16.0664
INST_CMPRS_QUALITY = 0
INST_CMPRS_QUANTZ_TBL_ID = 0
INSTRUMENT_TEMPERATURE = 15.9237
LENS_TEMPERATURE = 9.3989
MACROPIXEL_SIZE = 2
MISSING_FRAMES = 8
PIXEL_SUBSAMPLING_FLAG = N
SIGNAL_CHAIN_ID = 2
/* RADIOMETRIC DATA ELEMENTS */
BANDWIDTH = 88.0
CENTER_FILTER_WAVELENGTH = 538.0
RADIANCE_OFFSET = 1.41932
RADIANCE_SCALING_FACTOR = 0.00692352
REFLECTANCE_SCALING_FACTOR = 0.000362802
MEX:REFLECTANCE_OFFSET = 0.0743744
/* IMAGE OBJECT DEFINITIONS */
OBJECT = IMAGE
  INTERCHANGE_FORMAT = BINARY
  LINES = 12161
  LINE_SAMPLES = 4563
  SAMPLE_TYPE = UNSIGNED_INTEGER
  SAMPLE_BITS = 8
  BANDS = 1
  BAND_STORAGE_TYPE = BAND_SEQUENTIAL
  MAXIMUM = 255
  MEAN = 181.963
  MINIMUM = 1
  STANDARD_DEVIATION = 28.9571
END_OBJECT = IMAGE
/* MAP OBJECT DEFINITIONS */
OBJECT = IMAGE_MAP_PROJECTION
  ^DATA_SET_MAP_PROJECTION_CATALOG= "DSMAP.CAT"
  A_AXIS_RADIUS = 3396.0
  B_AXIS_RADIUS = 3396.0
  C_AXIS_RADIUS = 3396.0
  CENTER_LATITUDE = 0.0
  CENTER_LONGITUDE = 162.0
  COORDINATE_SYSTEM_NAME = PLANETOGRAPHIC
  COORDINATE_SYSTEM_TYPE = "BODY-FIXED ROTATING"
  EASTERNMOST_LONGITUDE = 170.173
  FIRST_STANDARD_PARALLEL = "N/A"
  LINE_FIRST_PIXEL = 1
  LINE_LAST_PIXEL = 12161
  LINE_PROJECTION_OFFSET = 6044.0
  MAP_PROJECTION_ROTATION = 0.0
  MAP_PROJECTION_TYPE = SINUSOIDAL
  MAP_RESOLUTION = 296.356901933333
  MAP_SCALE = 0.2
  MAXIMUM_LATITUDE = 20.5847
  MINIMUM_LATITUDE = -20.7
  POSITIVE_LONGITUDE_DIRECTION = EAST
  REFERENCE_LATITUDE = "N/A"
  REFERENCE_LONGITUDE = "N/A"
  SAMPLE_FIRST_PIXEL = 1
  SAMPLE_LAST_PIXEL = 4563
  SAMPLE_PROJECTION_OFFSET = 2756.0
  SECOND_STANDARD_PARALLEL = "N/A"
  WESTERNMOST_LONGITUDE = 152.993
END_OBJECT = IMAGE_MAP_PROJECTION
/* The JPEG2000 image data file associated with this label. */
OBJECT = COMPRESSED_FILE
  FILE_NAME = "H7795_0009_GR3.JP2"
  RECORD_TYPE = UNDEFINED
  FILE_RECORDS = UNK
  ENCODING_TYPE = "JP2"
  INTERCHANGE_FORMAT = BINARY
  UNCOMPRESSED_FILE_NAME = "H7795_0009_GR3.IMG"
  REQUIRED_STORAGE_BYTES = "55518021"
  ^DESCRIPTION = "JP2INFO.TXT"
END_OBJECT = COMPRESSED_FILE
END
