PDS_VERSION_ID = PDS3
/* FILE DATA ELEMENTS */
RECORD_TYPE = STREAM
/* POINTERS TO DATA OBJECTS */
^COMPRESSED_FILE = "H7805_0000_IR3.JP2"
/* IDENTIFICATION DATA ELEMENTS */
DATA_SET_ID = "MEX-M-HRSC-5-REFDR-MAPPROJECTED-V3.0"
DATA_SET_NAME = "MARS EXPRESS HRSC MAP PROJECTED REFDR V3.0"
DETECTOR_ID = MEX_HRSC_IR
EVENT_TYPE = "MARS-REGIONAL-MAPPING-Te-Pf"
INSTRUMENT_HOST_ID = MEX
INSTRUMENT_HOST_NAME = "MARS EXPRESS"
INSTRUMENT_ID = HRSC
INSTRUMENT_NAME = "HIGH RESOLUTION STEREO CAMERA"
MISSION_NAME = "MARS EXPRESS"
MISSION_PHASE_NAME = ME_Phase_20
PROCESSING_LEVEL_ID = 3
PRODUCT_CREATION_TIME = 2016-07-01T18:32:46.000Z
PRODUCT_ID = "H7805_0000_IR3.JP2"
RELEASE_ID = 0086
REVISION_ID = 0000
/* QUALITY DATA ELEMENTS */
DATA_QUALITY_ID = 1
DATA_QUALITY_DESC = "Data calculated based on original SPICE kernels"
/* TIME DATA ELEMENTS */
SPACECRAFT_CLOCK_START_COUNT = "1/0213258589.07283"
SPACECRAFT_CLOCK_STOP_COUNT = "1/0213259165.17550"
START_TIME = 2010-02-03T06:31:57.842Z
STOP_TIME = 2010-02-03T06:38:50.262Z
/* ORBITAL DATA ELEMENTS */
ASCENDING_NODE_LONGITUDE = 68.37
MAXIMUM_RESOLUTION = 120.6
FOOTPRINT_POINT_LATITUDE = (73.6044,73.6807,73.782,73.8511,73.9016 ,73.8828,73.4797,73.0786,72.6792, 72.2819,71.8862,71.4927,71.101,70.711, 70.3241,69.9381,69.5545,69.1738,68.6047 ,68.2285,67.8537,67.4818,67.1113, 66.7429,66.3766,66.0121,65.65,65.2896, 64.9314,64.5751,64.2209,63.8687,63.5185 ,63.1703,62.8241,62.4799,62.1374, 61.7972,61.459,61.1228,60.7885,60.4562, 59.7972,59.1456,58.5024,57.8666,57.2384 ,56.6176,56.2973,56.2981,56.2934, 56.2851,56.2674,56.2504,56.2236,56.2033 ,56.1803,56.4681,57.0773,57.6943, 58.3191,58.9517,59.5918,60.2397,60.8957 ,61.2266,61.5596,61.8946,62.2316, 62.5706,62.911,63.254,63.5992,63.9459, 64.2946,64.6455,64.9983,65.3532,65.7101 ,66.0686,66.4294,66.792,67.1567,67.523, 67.8917,68.2624,68.6348,69.0085,69.3849 ,69.7627,70.1425,70.5239,70.9075, 71.2923,71.6793,72.0679,72.4584,72.8496 ,73.2429,73.6044)
FOOTPRINT_POINT_LONGITUDE = (229.509,230.775,232.694,234.226, 235.526,237.492,237.687,237.872,238.046 ,238.212,238.369,238.519,238.662, 238.797,238.927,239.051,239.169,239.283 ,239.444,239.546,239.643,239.738, 239.828,239.915,239.998,240.079,240.156 ,240.231,240.303,240.373,240.44,240.505 ,240.568,240.629,240.688,240.746, 240.801,240.855,240.907,240.958,241.007 ,241.055,241.146,241.233,241.315, 241.394,241.468,241.539,241.151,240.508 ,239.366,238.512,237.374,236.591, 235.596,234.956,234.316,233.911,233.857 ,233.796,233.728,233.653,233.569, 233.477,233.375,233.321,233.263,233.202 ,233.139,233.073,233.003,232.93,232.853 ,232.773,232.689,232.6,232.508,232.411, 232.308,232.202,232.089,231.972,231.848 ,231.718,231.582,231.438,231.287, 231.129,230.962,230.787,230.602,230.407 ,230.201,229.985,229.756,229.514, 229.257,228.987,228.7,229.509)
ORBIT_NUMBER = 7805
ORBITAL_ECCENTRICITY = 0.568
ORBITAL_INCLINATION = 86.84
ORBITAL_SEMIMAJOR_AXIS = 8693.09
PERIAPSIS_ALTITUDE = 372.93
PERIAPSIS_ARGUMENT_ANGLE = 69.74
PERIAPSIS_TIME = 2010-02-03T06:21:09.000Z
SPACECRAFT_ORIENTATION = (0.0,1.0,0.0)
^MEX_ORIENTATION_DESC = "MEX_ORIENTATION_DESC.TXT"
SPACECRAFT_POINTING_MODE = NADIR
^MEX_POINTING_DESC = "MEX_POINTING_DESC.TXT"
RIGHT_ASCENSION = -1e+32
DECLINATION = -1e+32
OFFSET_ANGLE = -1e+32
SPACECRAFT_SOLAR_DISTANCE = 2.4694e+08
TARGET_NAME = MARS
/* CAMERA DATA ELEMENTS */
DETECTOR_TEMPERATURE = 16.7393
FOCAL_PLANE_TEMPERATURE = 7.156
INST_CMPRS_NAME = "DISCRETE COSINE TRANSFORMATION (DCT)"
INST_CMPRS_RATIO = 25.0313
INST_CMPRS_QUALITY = 0
INST_CMPRS_QUANTZ_TBL_ID = 0
INSTRUMENT_TEMPERATURE = 10.6223
LENS_TEMPERATURE = 7.5638
MACROPIXEL_SIZE = 4
MISSING_FRAMES = 0
PIXEL_SUBSAMPLING_FLAG = N
SIGNAL_CHAIN_ID = 2
/* RADIOMETRIC DATA ELEMENTS */
BANDWIDTH = 81.0
CENTER_FILTER_WAVELENGTH = 955.5
RADIANCE_OFFSET = 0.841424
RADIANCE_SCALING_FACTOR = 0.00678272
REFLECTANCE_SCALING_FACTOR = 0.000892315
MEX:REFLECTANCE_OFFSET = 0.110695
/* IMAGE OBJECT DEFINITIONS */
OBJECT = IMAGE
  INTERCHANGE_FORMAT = BINARY
  LINES = 10630
  LINE_SAMPLES = 2813
  SAMPLE_TYPE = UNSIGNED_INTEGER
  SAMPLE_BITS = 8
  BANDS = 1
  BAND_STORAGE_TYPE = BAND_SEQUENTIAL
  MAXIMUM = 255
  MEAN = 133.617
  MINIMUM = 1
  STANDARD_DEVIATION = 26.7782
END_OBJECT = IMAGE
/* MAP OBJECT DEFINITIONS */
OBJECT = IMAGE_MAP_PROJECTION
  ^DATA_SET_MAP_PROJECTION_CATALOG= "DSMAP.CAT"
  A_AXIS_RADIUS = 3396.0
  B_AXIS_RADIUS = 3396.0
  C_AXIS_RADIUS = 3396.0
  CENTER_LATITUDE = 0.0
  CENTER_LONGITUDE = 236.0
  COORDINATE_SYSTEM_NAME = PLANETOGRAPHIC
  COORDINATE_SYSTEM_TYPE = "BODY-FIXED ROTATING"
  EASTERNMOST_LONGITUDE = 241.539
  FIRST_STANDARD_PARALLEL = "N/A"
  LINE_FIRST_PIXEL = 1
  LINE_LAST_PIXEL = 10630
  LINE_PROJECTION_OFFSET = 43896.625
  MAP_PROJECTION_ROTATION = 0.0
  MAP_PROJECTION_TYPE = SINUSOIDAL
  MAP_RESOLUTION = 592.713803866667
  MAP_SCALE = 0.1
  MAXIMUM_LATITUDE = 73.9016
  MINIMUM_LATITUDE = 56.1803
  POSITIVE_LONGITUDE_DIRECTION = EAST
  REFERENCE_LATITUDE = "N/A"
  REFERENCE_LONGITUDE = "N/A"
  SAMPLE_FIRST_PIXEL = 1
  SAMPLE_LAST_PIXEL = 2813
  SAMPLE_PROJECTION_OFFSET = 1198.625
  SECOND_STANDARD_PARALLEL = "N/A"
  WESTERNMOST_LONGITUDE = 228.7
END_OBJECT = IMAGE_MAP_PROJECTION
/* The JPEG2000 image data file associated with this label. */
OBJECT = COMPRESSED_FILE
  FILE_NAME = "H7805_0000_IR3.JP2"
  RECORD_TYPE = UNDEFINED
  FILE_RECORDS = UNK
  ENCODING_TYPE = "JP2"
  INTERCHANGE_FORMAT = BINARY
  UNCOMPRESSED_FILE_NAME = "H7805_0000_IR3.IMG"
  REQUIRED_STORAGE_BYTES = "29924694"
  ^DESCRIPTION = "JP2INFO.TXT"
END_OBJECT = COMPRESSED_FILE
END
