PDS_VERSION_ID = PDS3
/* FILE DATA ELEMENTS */
RECORD_TYPE = STREAM
/* POINTERS TO DATA OBJECTS */
^COMPRESSED_FILE = "H7805_0000_P13.JP2"
/* IDENTIFICATION DATA ELEMENTS */
DATA_SET_ID = "MEX-M-HRSC-5-REFDR-MAPPROJECTED-V3.0"
DATA_SET_NAME = "MARS EXPRESS HRSC MAP PROJECTED REFDR V3.0"
DETECTOR_ID = MEX_HRSC_P1
EVENT_TYPE = "MARS-REGIONAL-MAPPING-Te-Pf"
INSTRUMENT_HOST_ID = MEX
INSTRUMENT_HOST_NAME = "MARS EXPRESS"
INSTRUMENT_ID = HRSC
INSTRUMENT_NAME = "HIGH RESOLUTION STEREO CAMERA"
MISSION_NAME = "MARS EXPRESS"
MISSION_PHASE_NAME = ME_Phase_20
PROCESSING_LEVEL_ID = 3
PRODUCT_CREATION_TIME = 2016-07-01T18:32:46.000Z
PRODUCT_ID = "H7805_0000_P13.JP2"
RELEASE_ID = 0086
REVISION_ID = 0000
/* QUALITY DATA ELEMENTS */
DATA_QUALITY_ID = 1
DATA_QUALITY_DESC = "Data calculated based on original SPICE kernels"
/* TIME DATA ELEMENTS */
SPACECRAFT_CLOCK_START_COUNT = "1/0213258589.07283"
SPACECRAFT_CLOCK_STOP_COUNT = "1/0213259165.17550"
START_TIME = 2010-02-03T06:31:43.459Z
STOP_TIME = 2010-02-03T06:38:18.369Z
/* ORBITAL DATA ELEMENTS */
ASCENDING_NODE_LONGITUDE = 68.37
MAXIMUM_RESOLUTION = 58
FOOTPRINT_POINT_LATITUDE = (73.6893,73.7664,73.8717,73.9241, 74.0808,73.6823,73.2855,72.8906,72.4975 ,72.1059,71.7157,71.3275,70.9407,70.556 ,70.1732,69.7913,69.4121,69.035,68.6586 ,68.2844,67.9122,67.5418,67.1733, 66.8061,66.4409,66.0773,65.716,65.3561, 64.9982,64.6419,64.2876,63.9348,63.5842 ,63.2351,62.8878,62.5423,62.1986, 61.8567,61.5167,61.1783,60.8417,60.5069 ,60.1739,59.8425,59.5127,58.8586, 58.2114,57.5714,56.9381,56.3116,56.3002 ,56.2958,56.2829,56.2617,56.2254, 56.1937,56.4601,57.0795,57.7063,58.34, 58.9805,59.6281,60.2825,60.6124,60.9441 ,61.2776,61.6128,61.9499,62.2888, 62.6293,62.9714,63.3155,63.6617,64.0093 ,64.3585,64.7097,65.0626,65.4173, 65.7738,66.1317,66.4919,66.8534,67.2168 ,67.5817,67.9486,68.317,68.6867,69.2453 ,69.6192,69.9949,70.3721,70.751,71.1314 ,71.5135,71.8969,72.2819,72.6679, 73.0553,73.4441,73.6893)
FOOTPRINT_POINT_LONGITUDE = (230.547,231.926,234.138,235.462, 237.287,237.484,237.67,237.847,238.015, 238.174,238.326,238.47,238.607,238.738, 238.864,238.983,239.097,239.208,239.312 ,239.413,239.51,239.603,239.692,239.777 ,239.86,239.939,240.016,240.09,240.161, 240.229,240.296,240.36,240.422,240.481, 240.539,240.595,240.65,240.702,240.753, 240.802,240.85,240.897,240.942,240.986, 241.028,241.11,241.187,241.26,241.329, 241.395,240.756,239.615,238.477,237.341 ,235.992,235.069,234.023,233.966, 233.902,233.83,233.752,233.665,233.57, 233.518,233.465,233.408,233.349,233.287 ,233.222,233.154,233.083,233.008,232.93 ,232.848,232.762,232.672,232.578,232.48 ,232.376,232.268,232.154,232.036, 231.911,231.78,231.643,231.499,231.348, 231.106,230.935,230.755,230.566,230.367 ,230.157,229.935,229.701,229.453, 229.193,228.918,228.626,230.547)
ORBIT_NUMBER = 7805
ORBITAL_ECCENTRICITY = 0.568
ORBITAL_INCLINATION = 86.84
ORBITAL_SEMIMAJOR_AXIS = 8693.09
PERIAPSIS_ALTITUDE = 372.93
PERIAPSIS_ARGUMENT_ANGLE = 69.74
PERIAPSIS_TIME = 2010-02-03T06:21:09.000Z
SPACECRAFT_ORIENTATION = (0.0,1.0,0.0)
^MEX_ORIENTATION_DESC = "MEX_ORIENTATION_DESC.TXT"
SPACECRAFT_POINTING_MODE = NADIR
^MEX_POINTING_DESC = "MEX_POINTING_DESC.TXT"
RIGHT_ASCENSION = -1e+32
DECLINATION = -1e+32
OFFSET_ANGLE = -1e+32
SPACECRAFT_SOLAR_DISTANCE = 2.4694e+08
TARGET_NAME = MARS
/* CAMERA DATA ELEMENTS */
DETECTOR_TEMPERATURE = 16.7393
FOCAL_PLANE_TEMPERATURE = 7.156
INST_CMPRS_NAME = "DISCRETE COSINE TRANSFORMATION (DCT)"
INST_CMPRS_RATIO = 13.7272
INST_CMPRS_QUALITY = 0
INST_CMPRS_QUANTZ_TBL_ID = 0
INSTRUMENT_TEMPERATURE = 10.6223
LENS_TEMPERATURE = 7.5638
MACROPIXEL_SIZE = 2
MISSING_FRAMES = 0
PIXEL_SUBSAMPLING_FLAG = N
SIGNAL_CHAIN_ID = 3
/* RADIOMETRIC DATA ELEMENTS */
BANDWIDTH = 174.0
CENTER_FILTER_WAVELENGTH = 675.0
RADIANCE_OFFSET = 3.6714
RADIANCE_SCALING_FACTOR = 0.025874
REFLECTANCE_SCALING_FACTOR = 0.000848661
MEX:REFLECTANCE_OFFSET = 0.120421
/* IMAGE OBJECT DEFINITIONS */
OBJECT = IMAGE
  INTERCHANGE_FORMAT = BINARY
  LINES = 21260
  LINE_SAMPLES = 5626
  SAMPLE_TYPE = UNSIGNED_INTEGER
  SAMPLE_BITS = 8
  BANDS = 1
  BAND_STORAGE_TYPE = BAND_SEQUENTIAL
  MAXIMUM = 255
  MEAN = 112.854
  MINIMUM = 1
  STANDARD_DEVIATION = 29.866
END_OBJECT = IMAGE
/* MAP OBJECT DEFINITIONS */
OBJECT = IMAGE_MAP_PROJECTION
  ^DATA_SET_MAP_PROJECTION_CATALOG= "DSMAP.CAT"
  A_AXIS_RADIUS = 3396.0
  B_AXIS_RADIUS = 3396.0
  C_AXIS_RADIUS = 3396.0
  CENTER_LATITUDE = 0.0
  CENTER_LONGITUDE = 236.0
  COORDINATE_SYSTEM_NAME = PLANETOGRAPHIC
  COORDINATE_SYSTEM_TYPE = "BODY-FIXED ROTATING"
  EASTERNMOST_LONGITUDE = 241.395
  FIRST_STANDARD_PARALLEL = "N/A"
  LINE_FIRST_PIXEL = 1
  LINE_LAST_PIXEL = 21260
  LINE_PROJECTION_OFFSET = 87793.75
  MAP_PROJECTION_ROTATION = 0.0
  MAP_PROJECTION_TYPE = SINUSOIDAL
  MAP_RESOLUTION = 1185.42760773333
  MAP_SCALE = 0.05
  MAXIMUM_LATITUDE = 74.0808
  MINIMUM_LATITUDE = 56.1937
  POSITIVE_LONGITUDE_DIRECTION = EAST
  REFERENCE_LATITUDE = "N/A"
  REFERENCE_LONGITUDE = "N/A"
  SAMPLE_FIRST_PIXEL = 1
  SAMPLE_LAST_PIXEL = 5626
  SAMPLE_PROJECTION_OFFSET = 2397.75
  SECOND_STANDARD_PARALLEL = "N/A"
  WESTERNMOST_LONGITUDE = 228.626
END_OBJECT = IMAGE_MAP_PROJECTION
/* The JPEG2000 image data file associated with this label. */
OBJECT = COMPRESSED_FILE
  FILE_NAME = "H7805_0000_P13.JP2"
  RECORD_TYPE = UNDEFINED
  FILE_RECORDS = UNK
  ENCODING_TYPE = "JP2"
  INTERCHANGE_FORMAT = BINARY
  UNCOMPRESSED_FILE_NAME = "H7805_0000_P13.IMG"
  REQUIRED_STORAGE_BYTES = "119636890"
  ^DESCRIPTION = "JP2INFO.TXT"
END_OBJECT = COMPRESSED_FILE
END
