PDS_VERSION_ID = PDS3
/* FILE DATA ELEMENTS */
RECORD_TYPE = STREAM
/* POINTERS TO DATA OBJECTS */
^COMPRESSED_FILE = "H7814_0000_ND3.JP2"
/* IDENTIFICATION DATA ELEMENTS */
DATA_SET_ID = "MEX-M-HRSC-5-REFDR-MAPPROJECTED-V3.0"
DATA_SET_NAME = "MARS EXPRESS HRSC MAP PROJECTED REFDR V3.0"
DETECTOR_ID = MEX_HRSC_NADIR
EVENT_TYPE = "MARS-REGIONAL-MAPPING-Gl-Pf-At"
INSTRUMENT_HOST_ID = MEX
INSTRUMENT_HOST_NAME = "MARS EXPRESS"
INSTRUMENT_ID = HRSC
INSTRUMENT_NAME = "HIGH RESOLUTION STEREO CAMERA"
MISSION_NAME = "MARS EXPRESS"
MISSION_PHASE_NAME = ME_Phase_20
PROCESSING_LEVEL_ID = 3
PRODUCT_CREATION_TIME = 2016-07-01T18:32:46.000Z
PRODUCT_ID = "H7814_0000_ND3.JP2"
RELEASE_ID = 0086
REVISION_ID = 0000
/* QUALITY DATA ELEMENTS */
DATA_QUALITY_ID = 1
DATA_QUALITY_DESC = "Data calculated based on original SPICE kernels"
/* TIME DATA ELEMENTS */
SPACECRAFT_CLOCK_START_COUNT = "1/0213481918.09061"
SPACECRAFT_CLOCK_STOP_COUNT = "1/0213482264.09040"
START_TIME = 2010-02-05T20:32:44.729Z
STOP_TIME = 2010-02-05T20:36:35.730Z
/* ORBITAL DATA ELEMENTS */
ASCENDING_NODE_LONGITUDE = 68.19
MAXIMUM_RESOLUTION = 22.2
FOOTPRINT_POINT_LATITUDE = (82.3902,82.5938,82.7402,82.86,83.0019, 82.9808,82.4361,81.7418,81.1754,80.887, 80.5976,80.305,80.0093,79.5619,79.2596, 78.9569,78.6486,78.3399,78.0267,77.7119 ,77.2391,76.7657,76.4497,76.1334, 75.8169,75.5001,75.1831,74.8658,74.5483 ,74.2306,73.9126,73.5944,73.276,72.9573 ,72.6384,72.3193,71.9998,71.6804, 71.3607,71.0405,70.7204,70.3999,70.0792 ,69.7583,69.2763,68.9548,68.6328, 68.3107,67.9884,67.6465,67.6073,67.568, 67.5259,67.4663,67.4162,67.3473,67.785, 68.2638,68.5824,68.9007,69.2187,69.5363 ,69.8535,70.1702,70.4866,70.8026, 71.1183,71.4336,71.7484,72.0629,72.377, 72.6906,73.0037,73.3164,73.6287,73.9404 ,74.4072,74.7177,75.0276,75.337,75.6458 ,75.9539,76.2614,76.5682,76.8742, 77.1795,77.4839,77.7864,78.0839,78.3804 ,78.6708,78.96,79.3871,79.6683,80.0828, 80.3555,80.89,81.4117,81.9162,82.3902)
FOOTPRINT_POINT_LONGITUDE = (25.7937,28.6304,30.956,33.0968,36.0153 ,38.6121,40.0326,41.5566,42.6164, 43.1074,43.5603,43.9946,44.4045,44.9788 ,45.3373,45.6767,46.0026,46.3109,46.607 ,46.8889,47.2857,47.6533,47.8841, 48.1043,48.3142,48.5151,48.7072,48.8907 ,49.067,49.2359,49.3982,49.5541,49.7037 ,49.8479,49.9867,50.1203,50.2498, 50.3734,50.4933,50.6097,50.7211,50.8295 ,50.9344,51.0357,51.1821,51.2756, 51.3668,51.455,51.5404,51.2038,50.0084, 49.0299,48.1254,47.0164,46.1882,45.1586 ,44.3866,44.186,44.0464,43.9021,43.7529 ,43.5983,43.4382,43.2722,43.1003, 42.9221,42.7373,42.5455,42.3463,42.1395 ,41.9247,41.7013,41.4689,41.227,40.9751 ,40.7126,40.2979,40.0063,39.7015, 39.3832,39.0503,38.7019,38.337,37.9544, 37.5529,37.1314,36.6882,36.2238,35.7414 ,35.2334,34.7071,34.1522,33.272,32.6479 ,31.6574,30.954,29.4276,27.7414,25.8539 ,25.7937)
ORBIT_NUMBER = 7814
ORBITAL_ECCENTRICITY = 0.568
ORBITAL_INCLINATION = 86.83
ORBITAL_SEMIMAJOR_AXIS = 8692.16
PERIAPSIS_ALTITUDE = 372.86
PERIAPSIS_ARGUMENT_ANGLE = 68.19
PERIAPSIS_TIME = 2010-02-05T20:25:05.000Z
SPACECRAFT_ORIENTATION = (0.0,1.0,0.0)
^MEX_ORIENTATION_DESC = "MEX_ORIENTATION_DESC.TXT"
SPACECRAFT_POINTING_MODE = INERT
^MEX_POINTING_DESC = "MEX_POINTING_DESC.TXT"
RIGHT_ASCENSION = 155.911
DECLINATION = -73.394
OFFSET_ANGLE = -1e+32
SPACECRAFT_SOLAR_DISTANCE = 2.47145e+08
TARGET_NAME = MARS
/* CAMERA DATA ELEMENTS */
DETECTOR_TEMPERATURE = 18.1666
FOCAL_PLANE_TEMPERATURE = 7.7677
INST_CMPRS_NAME = "DISCRETE COSINE TRANSFORMATION (DCT)"
INST_CMPRS_RATIO = 7.98345
INST_CMPRS_QUALITY = 0
INST_CMPRS_QUANTZ_TBL_ID = 0
INSTRUMENT_TEMPERATURE = 11.0301
LENS_TEMPERATURE = 8.1755
MACROPIXEL_SIZE = 1
MISSING_FRAMES = 0
PIXEL_SUBSAMPLING_FLAG = N
SIGNAL_CHAIN_ID = 0
/* RADIOMETRIC DATA ELEMENTS */
BANDWIDTH = 177.0
CENTER_FILTER_WAVELENGTH = 677.5
RADIANCE_OFFSET = 5.00544
RADIANCE_SCALING_FACTOR = 0.0253669
REFLECTANCE_SCALING_FACTOR = 0.000823108
MEX:REFLECTANCE_OFFSET = 0.162417
/* IMAGE OBJECT DEFINITIONS */
OBJECT = IMAGE
  INTERCHANGE_FORMAT = BINARY
  LINES = 37220
  LINE_SAMPLES = 12902
  SAMPLE_TYPE = UNSIGNED_INTEGER
  SAMPLE_BITS = 8
  BANDS = 1
  BAND_STORAGE_TYPE = BAND_SEQUENTIAL
  MAXIMUM = 255
  MEAN = 112.403
  MINIMUM = 1
  STANDARD_DEVIATION = 43.1096
END_OBJECT = IMAGE
/* MAP OBJECT DEFINITIONS */
OBJECT = IMAGE_MAP_PROJECTION
  ^DATA_SET_MAP_PROJECTION_CATALOG= "DSMAP.CAT"
  A_AXIS_RADIUS = 3396.0
  B_AXIS_RADIUS = 3396.0
  C_AXIS_RADIUS = 3396.0
  CENTER_LATITUDE = 0.0
  CENTER_LONGITUDE = 44.0
  COORDINATE_SYSTEM_NAME = PLANETOGRAPHIC
  COORDINATE_SYSTEM_TYPE = "BODY-FIXED ROTATING"
  EASTERNMOST_LONGITUDE = 51.5404
  FIRST_STANDARD_PARALLEL = "N/A"
  LINE_FIRST_PIXEL = 1
  LINE_LAST_PIXEL = 37220
  LINE_PROJECTION_OFFSET = 196978.0
  MAP_PROJECTION_ROTATION = 0.0
  MAP_PROJECTION_TYPE = SINUSOIDAL
  MAP_RESOLUTION = 2370.85521546667
  MAP_SCALE = 0.025
  MAXIMUM_LATITUDE = 83.00190000000001
  MINIMUM_LATITUDE = 67.3473
  POSITIVE_LONGITUDE_DIRECTION = EAST
  REFERENCE_LATITUDE = "N/A"
  REFERENCE_LONGITUDE = "N/A"
  SAMPLE_FIRST_PIXEL = 1
  SAMPLE_LAST_PIXEL = 12902
  SAMPLE_PROJECTION_OFFSET = 6163.0
  SECOND_STANDARD_PARALLEL = "N/A"
  WESTERNMOST_LONGITUDE = 25.7937
END_OBJECT = IMAGE_MAP_PROJECTION
/* The JPEG2000 image data file associated with this label. */
OBJECT = COMPRESSED_FILE
  FILE_NAME = "H7814_0000_ND3.JP2"
  RECORD_TYPE = UNDEFINED
  FILE_RECORDS = UNK
  ENCODING_TYPE = "JP2"
  INTERCHANGE_FORMAT = BINARY
  UNCOMPRESSED_FILE_NAME = "H7814_0000_ND3.IMG"
  REQUIRED_STORAGE_BYTES = "480251146"
  ^DESCRIPTION = "JP2INFO.TXT"
END_OBJECT = COMPRESSED_FILE
END
