PDS_VERSION_ID = PDS3
/* FILE DATA ELEMENTS */
RECORD_TYPE = STREAM
/* POINTERS TO DATA OBJECTS */
^COMPRESSED_FILE = "H7814_0000_S23.JP2"
/* IDENTIFICATION DATA ELEMENTS */
DATA_SET_ID = "MEX-M-HRSC-5-REFDR-MAPPROJECTED-V3.0"
DATA_SET_NAME = "MARS EXPRESS HRSC MAP PROJECTED REFDR V3.0"
DETECTOR_ID = MEX_HRSC_S2
EVENT_TYPE = "MARS-REGIONAL-MAPPING-Gl-Pf-At"
INSTRUMENT_HOST_ID = MEX
INSTRUMENT_HOST_NAME = "MARS EXPRESS"
INSTRUMENT_ID = HRSC
INSTRUMENT_NAME = "HIGH RESOLUTION STEREO CAMERA"
MISSION_NAME = "MARS EXPRESS"
MISSION_PHASE_NAME = ME_Phase_20
PROCESSING_LEVEL_ID = 3
PRODUCT_CREATION_TIME = 2016-07-01T18:32:46.000Z
PRODUCT_ID = "H7814_0000_S23.JP2"
RELEASE_ID = 0086
REVISION_ID = 0000
/* QUALITY DATA ELEMENTS */
DATA_QUALITY_ID = 1
DATA_QUALITY_DESC = "Data calculated based on original SPICE kernels"
/* TIME DATA ELEMENTS */
SPACECRAFT_CLOCK_START_COUNT = "1/0213481918.09061"
SPACECRAFT_CLOCK_STOP_COUNT = "1/0213482264.09040"
START_TIME = 2010-02-05T20:32:00.624Z
STOP_TIME = 2010-02-05T20:35:31.025Z
/* ORBITAL DATA ELEMENTS */
ASCENDING_NODE_LONGITUDE = 68.19
MAXIMUM_RESOLUTION = 43.2
FOOTPRINT_POINT_LATITUDE = (82.4709,82.6218,82.8374,83.0527, 83.0914,82.3229,81.799,81.2628,80.8534, 80.438,80.1607,79.8811,79.5972,79.3112, 79.0246,78.7352,78.4418,78.1478,77.8508 ,77.55,77.2483,76.9441,76.6359,76.3267, 76.0127,75.6968,75.3798,75.0572,74.7339 ,74.4058,74.0756,73.7446,73.4129, 73.0806,72.7473,72.4136,72.0788,71.5761 ,71.2394,70.7339,70.3955,70.0564, 69.7167,69.3758,69.0346,68.692,68.3489, 68.0051,67.6603,67.6214,67.5754,67.5292 ,67.4822,67.4128,67.4851,67.8265,68.167 ,68.5067,68.8456,69.1835,69.689,70.0244 ,70.3589,70.6924,71.0252,71.3573, 71.6882,72.0184,72.3477,72.6761,73.0033 ,73.3297,73.6552,73.9798,74.302,74.6193 ,74.9353,75.2457,75.5546,75.8615, 76.1632,76.4638,76.7602,77.0534,77.3456 ,77.6336,77.9182,78.2018,78.4811,78.757 ,79.1688,79.4375,79.7039,79.9684, 80.3597,80.8693,81.1245,81.6131,82.0902 ,82.4709)
FOOTPRINT_POINT_LONGITUDE = (25.0215,27.0057,30.2523,34.1939, 37.4121,39.5405,40.7501,41.8295,42.5726 ,43.2551,43.6722,44.0717,44.4546,44.818 ,45.1626,45.4921,45.8087,46.1096, 46.3984,46.6767,46.9423,47.1971,47.443, 47.6788,47.9071,48.1267,48.3369,48.5416 ,48.738,48.9286,49.1125,49.2892,49.459, 49.6224,49.7799,49.9315,50.078,50.2873, 50.4216,50.6137,50.7371,50.8564,50.9718 ,51.084,51.1925,51.2982,51.4005,51.4998 ,51.5964,50.3315,49.1385,48.1499, 47.2964,46.1858,44.7331,44.5964,44.455, 44.3087,44.1573,44.0007,43.7552,43.5841 ,43.4068,43.2229,43.0321,42.8341, 42.6286,42.415,42.193,41.9622,41.722, 41.472,41.2115,40.94,40.6581,40.3678, 40.0648,39.7534,39.4287,39.0907,38.7423 ,38.3779,38.0007,37.6088,37.1984, 36.7729,36.3302,35.8657,35.3835,34.8809 ,34.0782,33.5173,32.9284,32.3082, 31.3257,29.8958,29.1219,27.4626,25.6089 ,25.0215)
ORBIT_NUMBER = 7814
ORBITAL_ECCENTRICITY = 0.568
ORBITAL_INCLINATION = 86.83
ORBITAL_SEMIMAJOR_AXIS = 8692.16
PERIAPSIS_ALTITUDE = 372.86
PERIAPSIS_ARGUMENT_ANGLE = 68.19
PERIAPSIS_TIME = 2010-02-05T20:25:05.000Z
SPACECRAFT_ORIENTATION = (0.0,1.0,0.0)
^MEX_ORIENTATION_DESC = "MEX_ORIENTATION_DESC.TXT"
SPACECRAFT_POINTING_MODE = INERT
^MEX_POINTING_DESC = "MEX_POINTING_DESC.TXT"
RIGHT_ASCENSION = 155.911
DECLINATION = -73.394
OFFSET_ANGLE = -1e+32
SPACECRAFT_SOLAR_DISTANCE = 2.47145e+08
TARGET_NAME = MARS
/* CAMERA DATA ELEMENTS */
DETECTOR_TEMPERATURE = 18.5744
FOCAL_PLANE_TEMPERATURE = 7.7677
INST_CMPRS_NAME = "DISCRETE COSINE TRANSFORMATION (DCT)"
INST_CMPRS_RATIO = 12.9704
INST_CMPRS_QUALITY = 0
INST_CMPRS_QUANTZ_TBL_ID = 0
INSTRUMENT_TEMPERATURE = 11.0301
LENS_TEMPERATURE = 8.1755
MACROPIXEL_SIZE = 2
MISSING_FRAMES = 0
PIXEL_SUBSAMPLING_FLAG = N
SIGNAL_CHAIN_ID = 1
/* RADIOMETRIC DATA ELEMENTS */
BANDWIDTH = 178.0
CENTER_FILTER_WAVELENGTH = 679.0
RADIANCE_OFFSET = 5.7953
RADIANCE_SCALING_FACTOR = 0.0230107
REFLECTANCE_SCALING_FACTOR = 0.00074433
MEX:REFLECTANCE_OFFSET = 0.187461
/* IMAGE OBJECT DEFINITIONS */
OBJECT = IMAGE
  INTERCHANGE_FORMAT = BINARY
  LINES = 18610
  LINE_SAMPLES = 6451
  SAMPLE_TYPE = UNSIGNED_INTEGER
  SAMPLE_BITS = 8
  BANDS = 1
  BAND_STORAGE_TYPE = BAND_SEQUENTIAL
  MAXIMUM = 255
  MEAN = 117.721
  MINIMUM = 1
  STANDARD_DEVIATION = 47.6625
END_OBJECT = IMAGE
/* MAP OBJECT DEFINITIONS */
OBJECT = IMAGE_MAP_PROJECTION
  ^DATA_SET_MAP_PROJECTION_CATALOG= "DSMAP.CAT"
  A_AXIS_RADIUS = 3396.0
  B_AXIS_RADIUS = 3396.0
  C_AXIS_RADIUS = 3396.0
  CENTER_LATITUDE = 0.0
  CENTER_LONGITUDE = 44.0
  COORDINATE_SYSTEM_NAME = PLANETOGRAPHIC
  COORDINATE_SYSTEM_TYPE = "BODY-FIXED ROTATING"
  EASTERNMOST_LONGITUDE = 51.5964
  FIRST_STANDARD_PARALLEL = "N/A"
  LINE_FIRST_PIXEL = 1
  LINE_LAST_PIXEL = 18610
  LINE_PROJECTION_OFFSET = 98488.75
  MAP_PROJECTION_ROTATION = 0.0
  MAP_PROJECTION_TYPE = SINUSOIDAL
  MAP_RESOLUTION = 1185.42760773333
  MAP_SCALE = 0.05
  MAXIMUM_LATITUDE = 83.09139999999999
  MINIMUM_LATITUDE = 67.4128
  POSITIVE_LONGITUDE_DIRECTION = EAST
  REFERENCE_LATITUDE = "N/A"
  REFERENCE_LONGITUDE = "N/A"
  SAMPLE_FIRST_PIXEL = 1
  SAMPLE_LAST_PIXEL = 6451
  SAMPLE_PROJECTION_OFFSET = 3081.25
  SECOND_STANDARD_PARALLEL = "N/A"
  WESTERNMOST_LONGITUDE = 25.0215
END_OBJECT = IMAGE_MAP_PROJECTION
/* The JPEG2000 image data file associated with this label. */
OBJECT = COMPRESSED_FILE
  FILE_NAME = "H7814_0000_S23.JP2"
  RECORD_TYPE = UNDEFINED
  FILE_RECORDS = UNK
  ENCODING_TYPE = "JP2"
  INTERCHANGE_FORMAT = BINARY
  UNCOMPRESSED_FILE_NAME = "H7814_0000_S23.IMG"
  REQUIRED_STORAGE_BYTES = "120085365"
  ^DESCRIPTION = "JP2INFO.TXT"
END_OBJECT = COMPRESSED_FILE
END
