PDS_VERSION_ID = PDS3
/* FILE DATA ELEMENTS */
RECORD_TYPE = STREAM
/* POINTERS TO DATA OBJECTS */
^COMPRESSED_FILE = "H7898_0000_BL3.JP2"
/* IDENTIFICATION DATA ELEMENTS */
DATA_SET_ID = "MEX-M-HRSC-5-REFDR-MAPPROJECTED-V3.0"
DATA_SET_NAME = "MARS EXPRESS HRSC MAP PROJECTED REFDR V3.0"
DETECTOR_ID = MEX_HRSC_BLUE
EVENT_TYPE = "MARS-REGIONAL-MAPPING-Gl-Ot-At"
INSTRUMENT_HOST_ID = MEX
INSTRUMENT_HOST_NAME = "MARS EXPRESS"
INSTRUMENT_ID = HRSC
INSTRUMENT_NAME = "HIGH RESOLUTION STEREO CAMERA"
MISSION_NAME = "MARS EXPRESS"
MISSION_PHASE_NAME = ME_Phase_20
PROCESSING_LEVEL_ID = 3
PRODUCT_CREATION_TIME = 2016-07-01T18:32:46.000Z
PRODUCT_ID = "H7898_0000_BL3.JP2"
RELEASE_ID = 0086
REVISION_ID = 0000
/* QUALITY DATA ELEMENTS */
DATA_QUALITY_ID = 1
DATA_QUALITY_DESC = "Data calculated based on original SPICE kernels"
/* TIME DATA ELEMENTS */
SPACECRAFT_CLOCK_START_COUNT = "1/0215575737.07287"
SPACECRAFT_CLOCK_STOP_COUNT = "1/0215576089.54721"
START_TIME = 2010-03-02T02:09:51.646Z
STOP_TIME = 2010-03-02T02:12:38.509Z
/* ORBITAL DATA ELEMENTS */
ASCENDING_NODE_LONGITUDE = 66.57
MAXIMUM_RESOLUTION = 52.4
FOOTPRINT_POINT_LATITUDE = (85.8188,86.0115,86.3539,86.6106, 86.8245,87.1664,87.3587,87.7013,87.9623 ,87.9235,87.8594,87.6522,87.4649,87.358 ,87.2447,87.1257,86.9995,86.8688, 86.7342,86.5944,86.4512,86.3052,86.1547 ,86.002,85.8474,85.6891,85.4488,85.2849 ,85.1199,84.953,84.7838,84.6139,84.3551 ,84.1814,83.9172,83.7401,83.471,83.2907 ,83.0171,82.834,82.6485,82.4628,82.1815 ,81.9933,81.803,81.6124,81.3167,81.026, 80.8309,80.507,80.4628,80.3803,80.2851, 80.2203,80.1507,80.008,79.8934,79.8163, 79.7242,79.716,79.8981,80.0784,80.3462, 80.6173,80.7911,80.9641,81.1344,81.3878 ,81.554,81.7193,81.8816,82.1224,82.2798 ,82.5131,82.6653,82.8902,83.0366, 83.2524,83.3925,83.5984,83.7313,83.8619 ,84.0511,84.1729,84.3505,84.4636, 84.5741,84.6793,84.7802,84.8769,84.9684 ,85.0556,85.1379,85.2865,85.3529, 85.4661,85.5361,85.6075,85.6452, 85.8188)
FOOTPRINT_POINT_LONGITUDE = (102.94,103.003,103.133,103.249,103.361 ,103.578,103.726,104.052,105.13,114.369 ,121.032,132.923,139.64,142.638,145.413 ,147.972,150.336,152.504,154.488, 156.329,158.026,159.592,161.054,162.431 ,163.667,164.836,166.44,167.434,168.347 ,169.22,170.029,170.786,171.843,172.497 ,173.413,173.981,174.782,175.28,175.985 ,176.424,176.845,177.245,177.813,178.17 ,178.513,178.841,179.319,179.758, 180.036,179.782,178.452,176.32,174.231, 172.968,171.721,169.43,167.792,166.769, 165.619,164.21,163.749,163.273,162.528, 161.724,161.178,160.611,160.026,159.106 ,158.466,157.799,157.111,156.026, 155.272,154.079,153.249,151.937,151.023 ,149.578,148.572,146.978,145.869, 144.709,142.889,141.613,139.613,138.213 ,136.753,135.253,133.691,132.07,130.406 ,128.678,126.888,123.175,121.23,117.238 ,114.126,109.878,106.62,102.94)
ORBIT_NUMBER = 7898
ORBITAL_ECCENTRICITY = 0.572
ORBITAL_INCLINATION = 86.82
ORBITAL_SEMIMAJOR_AXIS = 8763.47
PERIAPSIS_ALTITUDE = 367.99
PERIAPSIS_ARGUMENT_ANGLE = 53.59
PERIAPSIS_TIME = 2010-03-02T02:00:10.000Z
SPACECRAFT_ORIENTATION = (0.0,1.0,0.0)
^MEX_ORIENTATION_DESC = "MEX_ORIENTATION_DESC.TXT"
SPACECRAFT_POINTING_MODE = NADIR
^MEX_POINTING_DESC = "MEX_POINTING_DESC.TXT"
RIGHT_ASCENSION = -1e+32
DECLINATION = -1e+32
OFFSET_ANGLE = -1e+32
SPACECRAFT_SOLAR_DISTANCE = 2.48602e+08
TARGET_NAME = MARS
/* CAMERA DATA ELEMENTS */
DETECTOR_TEMPERATURE = 17.9627
FOCAL_PLANE_TEMPERATURE = 7.3599
INST_CMPRS_NAME = "DISCRETE COSINE TRANSFORMATION (DCT)"
INST_CMPRS_RATIO = 8.58626
INST_CMPRS_QUALITY = 0
INST_CMPRS_QUANTZ_TBL_ID = 0
INSTRUMENT_TEMPERATURE = 10.8262
LENS_TEMPERATURE = 8.1755
MACROPIXEL_SIZE = 2
MISSING_FRAMES = 1
PIXEL_SUBSAMPLING_FLAG = N
SIGNAL_CHAIN_ID = 2
/* RADIOMETRIC DATA ELEMENTS */
BANDWIDTH = 76.0
CENTER_FILTER_WAVELENGTH = 444.0
RADIANCE_OFFSET = 0.697456
RADIANCE_SCALING_FACTOR = 0.00547024
REFLECTANCE_SCALING_FACTOR = 0.000347354
MEX:REFLECTANCE_OFFSET = 0.0442876
/* IMAGE OBJECT DEFINITIONS */
OBJECT = IMAGE
  INTERCHANGE_FORMAT = BINARY
  LINES = 9868
  LINE_SAMPLES = 9470
  SAMPLE_TYPE = UNSIGNED_INTEGER
  SAMPLE_BITS = 8
  BANDS = 1
  BAND_STORAGE_TYPE = BAND_SEQUENTIAL
  MAXIMUM = 255
  MEAN = 147.264
  MINIMUM = 1
  STANDARD_DEVIATION = 27.8648
END_OBJECT = IMAGE
/* MAP OBJECT DEFINITIONS */
OBJECT = IMAGE_MAP_PROJECTION
  ^DATA_SET_MAP_PROJECTION_CATALOG= "DSMAP.CAT"
  A_AXIS_RADIUS = 3396.0
  B_AXIS_RADIUS = 3396.0
  C_AXIS_RADIUS = 3396.0
  CENTER_LATITUDE = 0.0
  CENTER_LONGITUDE = 156.0
  COORDINATE_SYSTEM_NAME = PLANETOGRAPHIC
  COORDINATE_SYSTEM_TYPE = "BODY-FIXED ROTATING"
  EASTERNMOST_LONGITUDE = 180.036
  FIRST_STANDARD_PARALLEL = "N/A"
  LINE_FIRST_PIXEL = 1
  LINE_LAST_PIXEL = 9868
  LINE_PROJECTION_OFFSET = 104281.25
  MAP_PROJECTION_ROTATION = 0.0
  MAP_PROJECTION_TYPE = SINUSOIDAL
  MAP_RESOLUTION = 1185.42760773333
  MAP_SCALE = 0.05
  MAXIMUM_LATITUDE = 87.9623
  MINIMUM_LATITUDE = 79.71599999999999
  POSITIVE_LONGITUDE_DIRECTION = EAST
  REFERENCE_LATITUDE = "N/A"
  REFERENCE_LONGITUDE = "N/A"
  SAMPLE_FIRST_PIXEL = 1
  SAMPLE_LAST_PIXEL = 9470
  SAMPLE_PROJECTION_OFFSET = 4700.25
  SECOND_STANDARD_PARALLEL = "N/A"
  WESTERNMOST_LONGITUDE = 102.94
END_OBJECT = IMAGE_MAP_PROJECTION
/* The JPEG2000 image data file associated with this label. */
OBJECT = COMPRESSED_FILE
  FILE_NAME = "H7898_0000_BL3.JP2"
  RECORD_TYPE = UNDEFINED
  FILE_RECORDS = UNK
  ENCODING_TYPE = "JP2"
  INTERCHANGE_FORMAT = BINARY
  UNCOMPRESSED_FILE_NAME = "H7898_0000_BL3.IMG"
  REQUIRED_STORAGE_BYTES = "93478370"
  ^DESCRIPTION = "JP2INFO.TXT"
END_OBJECT = COMPRESSED_FILE
END
